Workbook

Sheet 高分子25
A1: 附件5：
A2: 化学化工学院高分子材料与工程专业2025年级综合测评排名表
A3: 学院: | C3: （盖章） | X3: 学院分管学生工作领导签名：
A4: 学院 | B4: 专业 | C4: 年级 | D4: 班级 | E4: 学号 | F4: 姓名 | G4: 德育 考评分 | H4: 德育 加减分 | I4: 德育 成绩 | J4: 智育 考试分 | K4: 智育 加减分 | L4: 智育 成绩 | M4: 体育 测评分 | N4: 体育 加减分 | O4: 体育 成绩 | P4: 美育 基础分 | Q4: 美育 奖惩分 | R4: 美育 成绩 | S4: 劳育 基础分 | T4: 劳育 奖惩分 | U4: 劳育 成绩 | V4: 综合 测评分 | W4: 综合测评排名 | X4: 学习成绩排名 | Y4: 是否有不及格课程 | Z4: 专业年级 总人数 | AA4: 奖学金 等级 | AB4: 单项 奖学金 | AC4: 荣誉称号 | AD4: 学生签名
A5: 化学化工学院 | B5: 高分子材料与工程 | C5: 2025 | D5: 高253 | E5: 2508110076 | F5: 杨硕 | G5: 85.856 | H5: 2 | I5: 87.86 | J5: 93.62 | K5: 2.8 | L5: 96.42 | M5: 86.05 | N5: 0 | O5: 86.05 | P5: 57.4 | Q5: 0 | R5: 57.4 | S5: 60 | T5: 12 | U5: 72 | V5: =I5*0.1+L5*0.75+O5*0.05+R5*0.05+U5*0.05 -> 91.8735 | W5: 1 | X5: 1 | Y5: 否 | Z5: 125 | AA5: 一等奖学金 | AC5: 三好学生标兵
A6: 化学化工学院 | B6: 高分子材料与工程 | C6: 2025 | D6: 高251 | E6: 2508110005 | F6: 孟苏媛 | G6: 86.44 | H6: 6.475 | I6: 92.92 | J6: 90.806452 | K6: 4.01 | L6: 94.82 | M6: 83.15 | N6: 0 | O6: 83.15 | P6: 59 | Q6: 0 | R6: 59 | S6: 60 | T6: 11 | U6: =S6+T6 -> 71 | V6: 91.08 | W6: 2 | X6: 5 | Y6: 否 | Z6: 125 | AA6: 一等奖学金 | AB6: 文体活动奖 | AC6: 优秀学生干部
A7: 化学化工学院 | B7: 高分子材料与工程 | C7: 2025 | D7: 高251 | E7: 2508110002 | F7: 项佳月 | G7: 86.504 | H7: 5.15 | I7: =G7+H7 -> 91.654 | J7: 91.258065 | K7: 3.5 | L7: 94.75 | M7: 84.75 | N7: 0 | O7: 84.75 | P7: 59.2 | Q7: 0 | R7: 59.2 | S7: 60 | T7: 11 | U7: =S7+T7 -> 71 | V7: =I7*0.1+L7*0.75+O7*0.05+R7*0.05+U7*0.05 -> 90.9754 | W7: 3 | X7: 4 | Y7: 否 | Z7: 125 | AA7: 一等奖学金 | AC7: 优秀学生干部
A8: 化学化工学院 | B8: 高分子材料与工程 | C8: 2025 | D8: 高251 | E8: 2508110001 | F8: 李心甜 | G8: 86.264 | H8: 6.45 | I8: 92.71 | J8: 90.763441 | K8: 3 | L8: 93.76 | M8: 80 | N8: 0 | O8: 80 | P8: 58 | Q8: 0 | R8: 58 | S8: 60 | T8: 10.37 | U8: =S8+T8 -> 70.37 | V8: =I8*0.1+L8*0.75+O8*0.05+R8*0.05+U8*0.05 -> 90.0095 | W8: 4 | X8: 6 | Y8: 否 | Z8: 125 | AA8: 一等奖学金 | AB8: 文体活动奖 | AC8: 优秀学生干部 | CO8: 一等 | CP8: 三标 | CQ8: 研究与创新奖
A9: 化学化工学院 | B9: 高分子材料与工程 | C9: 2025 | D9: 高253 | E9: 2508110093 | F9: 施丞骏 | G9: 85.21 | H9: 4.75 | I9: 89.96 | J9: 90.35 | K9: 4 | L9: 94.35 | M9: 75.9 | N9: 0 | O9: 75.9 | P9: 57 | Q9: 0.6 | R9: 57.6 | S9: 60 | T9: 10.65 | U9: 70.65 | V9: =I9*0.1+L9*0.75+O9*0.05+R9*0.05+U9*0.05 -> 89.966 | W9: 5 | X9: 7 | Y9: 否 | Z9: 125 | AA9: 一等奖学金 | AC9: 三好学生 | CO9: 二等 | CP9: 三好 | CQ9: 道德风尚奖
A10: 化学化工学院 | B10: 高分子材料与工程 | C10: 2025 | D10: 高251 | E10: 2508110023 | F10: 丁方栋 | G10: 85 | H10: 5.25 | I10: 90.25 | J10: 92.075269 | K10: 1.53 | L10: 93.61 | M10: 76.4 | N10: 0 | O10: 76.4 | P10: 58.4 | Q10: 0 | R10: 58.2 | S10: 60 | T10: 10 | U10: 70 | V10: =I10*0.1+L10*0.75+O10*0.05+R10*0.05+U10*0.05 -> 89.4625 | W10: 6 | X10: 3 | Y10: 否 | Z10: 125 | AA10: 一等奖学金 | AC10: 优秀学生干部 | CO10: 三等 | CP10: 优干 | CQ10: 文体活动奖
A11: 化学化工学院 | B11: 高分子材料与工程 | C11: 2025 | D11: 高254 | E11: 2508110106 | F11: 夏怡 | G11: 85.39 | H11: 3 | I11: 88.39 | J11: 92.23 | K11: 1.5 | L11: 93.73 | M11: 81.65 | N11: 0 | O11: 81.65 | P11: 34.2 | Q11: 0 | R11: 34.2 | S11: 60 | T11: 10 | U11: 70 | V11: =I11*0.1+L11*0.75+O11*0.05+R11*0.05+U11*0.05 -> 88.429 | W11: 7 | X11: 2 | Y11: 否 | Z11: 125 | AA11: 二等奖学金 | AC11: 优秀学生干部 | CO11: 课程考核不合格 | CQ11: 社会工作奖
A12: 化学化工学院 | B12: 高分子材料与工程 | C12: 2025 | D12: 高252 | E12: 2508110037 | F12: 周萌 | G12: 86.7 | H12: 1.5 | I12: =G12+H12 -> 88.2 | J12: 89.88 | K12: 1.5 | L12: 91.38 | M12: 84.1 | N12: 0 | O12: =M12+N12 -> 84.1 | P12: 58 | Q12: 0.12 | R12: =P12+Q12 -> 58.12 | S12: 60 | T12: 5.9 | U12: =S12+T12 -> 65.9 | V12: =I12*0.1+L12*0.75+O12*0.05+R12*0.05+U12*0.05 -> 87.761 | W12: 8 | X12: 8 | Y12: 否 | Z12: 125 | AA12: 二等奖学金 | AC12: 优秀学生干部
A13: 化学化工学院 | B13: 高分子材料与工程 | C13: 2025 | D13: 高254 | E13: 2508110132 | F13: 荀祎阳 | G13: 85.79 | H13: 2.5 | I13: =G13+H13 -> 88.29 | J13: 89.3 | K13: 1.5 | L13: =J13+K13 -> 90.8 | M13: 83 | N13: 0 | O13: =M13+N13 -> 83 | P13: 57.6 | Q13: 0.2 | R13: =P13+Q13 -> 57.8 | S13: 60 | T13: 10 | U13: =S13+T13 -> 70 | V13: =I13*0.1+L13*0.75+O13*0.05+R13*0.05+U13*0.05 -> 87.469 | W13: 9 | X13: 10 | Y13: 否 | Z13: 125 | AA13: 二等奖学金 | AC13: 优秀学生干部
A14: 化学化工学院 | B14: 高分子材料与工程 | C14: 2025 | D14: 高252 | E14: 2508110040 | F14: 居夕涵 | G14: 85.06 | H14: 1.5 | I14: =G14+H14 -> 86.56 | J14: 89.26 | K14: 1 | L14: =J14+K14 -> 90.26 | M14: 87.05 | N14: 0 | O14: =M14+N14 -> 87.05 | P14: 57.8 | Q14: 0.12 | R14: =P14+Q14 -> 57.92 | S14: 60 | T14: 10.5 | U14: =S14+T14 -> 70.5 | V14: =I14*0.1+L14*0.75+O14*0.05+R14*0.05+U14*0.05 -> 87.1245 | W14: 10 | X14: 11 | Y14: 否 | Z14: 125 | AA14: 二等奖学金 | AC14: 优秀学生干部 | CO14: 德育分未达标
A15: 化学化工学院 | B15: 高分子材料与工程 | C15: 2025 | D15: 高251 | E15: 2508110008 | F15: 张宇豪 | G15: 84.914 | H15: 1 | I15: 85.914 | J15: 89.322581 | K15: 1 | L15: 90.32 | M15: 85.25 | N15: 0 | O15: 85.25 | P15: 57.8 | Q15: 0 | R15: 57.8 | S15: 60 | T15: 11 | U15: =S15+T15 -> 71 | V15: =I15*0.1+L15*0.75+O15*0.05+R15*0.05+U15*0.05 -> 87.0339 | W15: 11 | X15: 9 | Y15: 否 | Z15: 125 | AA15: 二等奖学金 | AC15: 优秀学生干部 | CO15: 体育成绩不合格
A16: 化学化工学院 | B16: 高分子材料与工程 | C16: 2025 | D16: 高254 | E16: 2508110133 | F16: 邱喆 | G16: 85.57 | H16: 3 | I16: =G16+H16 -> 88.57 | J16: 89.19 | K16: 1 | L16: =J16+K16 -> 90.19 | M16: 74.8 | N16: 0 | O16: =M16+N16 -> 74.8 | P16: 57.2 | Q16: 0 | R16: =P16+Q16 -> 57.2 | S16: 60 | T16: 11 | U16: =S16+T16 -> 71 | V16: =I16*0.1+L16*0.75+O16*0.05+R16*0.05+U16*0.05 -> 86.6495 | W16: 12 | X16: 12 | Y16: 否 | Z16: 125 | AA16: 二等奖学金 | AC16: 优秀学生干部
A17: 化学化工学院 | B17: 高分子材料与工程 | C17: 2025 | D17: 高252 | E17: 2508110057 | F17: 蒋锭一 | G17: 85.33 | H17: 2.75 | I17: =G17+H17 -> 88.08 | J17: 87.15 | K17: 1.5 | L17: =J17+K17 -> 88.65 | M17: 81.55 | N17: 0 | O17: =M17+N17 -> 81.55 | P17: 58 | Q17: 0.25 | R17: =P17+Q17 -> 58.25 | S17: 60 | T17: 10 | U17: =S17+T17 -> 70 | V17: =I17*0.1+L17*0.75+O17*0.05+R17*0.05+U17*0.05 -> 85.7855 | W17: 13 | X17: 17 | Y17: 否 | Z17: 125 | AA17: 二等奖学金
A18: 化学化工学院 | B18: 高分子材料与工程 | C18: 2025 | D18: 高253 | E18: 2508110074 | F18: 徐静华 | G18: 85.42 | H18: 3 | I18: 88.42 | J18: 88.66 | K18: 1 | L18: 89.66 | M18: 61.75 | N18: 0 | O18: 61.75 | P18: 45.6 | Q18: 0 | R18: 45.6 | S18: 60 | T18: 12 | U18: 72 | V18: =I18*0.1+L18*0.75+O18*0.05+R18*0.05+U18*0.05 -> 85.0545 | W18: 14 | X18: 14 | Y18: 是 | Z18: 125 | AA18: 体育成绩不合格
A19: 化学化工学院 | B19: 高分子材料与工程 | C19: 2025 | D19: 高254 | E19: 2508110134 | F19: 夏浩铭 | G19: 84.44 | H19: 2.5 | I19: =G19+H19 -> 86.94 | J19: 86.7 | K19: 1 | L19: =J19+K19 -> 87.7 | M19: 85.6 | N19: 0 | O19: =M19+N19 -> 85.6 | P19: 57 | Q19: 0 | R19: =P19+Q19 -> 57 | S19: 60 | T19: 7.99 | U19: =S19+T19 -> 67.99 | V19: =I19*0.1+L19*0.75+O19*0.05+R19*0.05+U19*0.05 -> 84.9985 | W19: 15 | X19: 18 | Y19: 否 | Z19: 125 | AA19: 二等奖学金
A20: 化学化工学院 | B20: 高分子材料与工程 | C20: 2025 | D20: 高254 | E20: 2508110131 | F20: 袁铖 | G20: 84.78 | H20: 2 | I20: =G20+H20 -> 86.78 | J20: 87.82 | K20: 1 | L20: =J20+K20 -> 88.82 | M20: 63.95 | N20: 0 | O20: =M20+N20 -> 63.95 | P20: 57.2 | Q20: 0 | R20: =P20+Q20 -> 57.2 | S20: 60 | T20: 11 | U20: =S20+T20 -> 71 | V20: =I20*0.1+L20*0.75+O20*0.05+R20*0.05+U20*0.05 -> 84.9005 | W20: 16 | X20: 15 | Y20: 是 | Z20: 125 | AA20: 体育成绩不合格
A21: 化学化工学院 | B21: 高分子材料与工程 | C21: 2025 | D21: 高251 | E21: 2508110006 | F21: 靖千卉紫 | G21: 85.61 | H21: 5.58 | I21: =G21+H21 -> 91.19 | J21: 86.010753 | K21: 1 | L21: 87.01 | M21: 83.65 | N21: 0 | O21: 83.65 | P21: 57.4 | Q21: 0 | R21: 57.4 | S21: 60 | T21: 1.75 | U21: =S21+T21 -> 61.75 | V21: =(I21*0.1+L21*0.75+O21*0.05+R21*0.05+U21*0.05) -> 84.5165 | W21: 17 | X21: 21 | Y21: 否 | Z21: 125 | AA21: 二等奖学金
A22: 化学化工学院 | B22: 高分子材料与工程 | C22: 2025 | D22: 高253 | E22: 2508110075 | F22: 叶子 | G22: 85.68 | H22: 3.2 | I22: 88.88 | J22: 86.05 | K22: 1.02 | L22: 87.07 | M22: 72.65 | N22: 0 | O22: 72.65 | P22: 57.8 | Q22: 0 | R22: 57.8 | S22: 60 | T22: 12 | U22: 72 | V22: =(I22*0.1+L22*0.75+O22*0.05+R22*0.05+U22*0.05) -> 84.313 | W22: 18 | X22: 20 | Y22: 否 | Z22: 125 | AA22: 二等奖学金
A23: 化学化工学院 | B23: 高分子材料与工程 | C23: 2025 | D23: 高251 | E23: 2508110004 | F23: 赵伊锦 | G23: 86.18 | H23: 1.53 | I23: 87.71 | J23: 85.860215 | K23: 1 | L23: 86.86 | M23: 85.5 | N23: 0 | O23: 85.5 | P23: 45.6 | Q23: 0 | R23: 45.6 | S23: 60 | T23: 5.54 | U23: =S23+T23 -> 65.54 | V23: =(I23*0.1+L23*0.75+O23*0.05+R23*0.05+U23*0.05) -> 83.748 | W23: 19 | X23: 22 | Y23: 否 | Z23: 125 | AA23: 三等奖学金
A24: 化学化工学院 | B24: 高分子材料与工程 | C24: 2025 | D24: 高252 | E24: 2508110039 | F24: 张雨露 | G24: 86.46 | H24: 1.5 | I24: =G24+H24 -> 87.96 | J24: 87.15 | K24: 0 | L24: =J24+K24 -> 87.15 | M24: 77.4 | N24: 0 | O24: =M24+N24 -> 77.4 | P24: 57.6 | Q24: 0.12 | R24: =P24+Q24 -> 57.72 | S24: 60 | T24: 5.18 | U24: =S24+T24 -> 65.18 | V24: =I24*0.1+L24*0.75+O24*0.05+R24*0.05+U24*0.05 -> 84.1735 | W24: 20 | X24: 16 | Y24: 否 | Z24: 125 | AA24: 三等奖学金
A25: 化学化工学院 | B25: 高分子材料与工程 | C25: 2025 | D25: 高252 | E25: 2508110038 | F25: 姚佳 | G25: 86.75 | H25: 2.5 | I25: =G25+H25 -> 89.25 | J25: 84.72 | K25: 1 | L25: 85.72 | M25: 83.5 | N25: 0 | O25: =M25+N25 -> 83.5 | P25: 57.8 | Q25: 1.23 | R25: =P25+Q25 -> 59.03 | S25: 60 | T25: 11.5 | U25: =S25+T25 -> 71.5 | V25: =I25*0.1+L25*0.75+O25*0.05+R25*0.05+U25*0.05 -> 83.9165 | W25: 21 | X25: 27 | Y25: 否 | Z25: 125 | AA25: 三等奖学金
A26: 化学化工学院 | B26: 高分子材料与工程 | C26: 2025 | D26: 高251 | E26: 2508110016 | F26: 张晨煜 | G26: 84.694 | H26: 1 | I26: 85.69 | J26: 86.053763 | K26: 1 | L26: 87.05 | M26: 82.15 | N26: 0 | O26: 82.15 | P26: 45.6 | Q26: 0 | R26: 45.6 | S26: 60 | T26: 2.5 | U26: 62.5 | V26: =I26*0.1+L26*0.75+O26*0.05+R26*0.05+U26*0.05 -> 83.369 | W26: 22 | X26: 19 | Y26: 否 | Z26: 125 | AA26: 三等奖学金
A27: 化学化工学院 | B27: 高分子材料与工程 | C27: 2025 | D27: 高252 | E27: 2508110055 | F27: 杨嘉豪 | G27: 84.75 | H27: 2.75 | I27: =G27+H27 -> 87.5 | J27: 84.91 | K27: 1 | L27: =J27+K27 -> 85.91 | M27: 75.55 | N27: 0 | O27: =M27+N27 -> 75.55 | P27: 57 | Q27: 1.5 | R27: =P27+Q27 -> 58.5 | S27: 60 | T27: 6 | U27: =S27+T27 -> 66 | V27: =I27*0.1+L27*0.75+O27*0.05+R27*0.05+U27*0.05 -> 83.185 | W27: 23 | X27: 26 | Y27: 否 | Z27: 125 | AA27: 三等奖学金
A28: 化学化工学院 | B28: 高分子材料与工程 | C28: 2025 | D28: 高252 | E28: 2508110061 | F28: 李永成 | G28: 85.35 | H28: 1.15 | I28: =G28+H28 -> 86.5 | J28: 85.41 | K28: 1 | L28: =J28+K28 -> 86.41 | M28: 70.05 | N28: 0 | O28: =M28+N28 -> 70.05 | P28: 57 | Q28: 0 | R28: =P28+Q28 -> 57 | S28: 60 | T28: 4.5 | U28: =S28+T28 -> 64.5 | V28: =I28*0.1+L28*0.75+O28*0.05+R28*0.05+U28*0.05 -> 83.035 | W28: 24 | X28: 23 | Y28: 否 | Z28: 125 | AA28: 三等奖学金
A29: 化学化工学院 | B29: 高分子材料与工程 | C29: 2025 | D29: 高254 | E29: 2508110113 | F29: 肖涵乙 | G29: 85.95 | H29: 4.65 | I29: 90.6 | J29: 83.49 | K29: 1 | L29: 84.49 | M29: 82.2 | N29: 0 | O29: 82.2 | P29: 58.4 | Q29: 0 | R29: 58.4 | S29: 60 | T29: 11 | U29: 71 | V29: =I29*0.1+L29*0.75+O29*0.05+R29*0.05+U29*0.05 -> 83.0075 | W29: 25 | X29: 38 | Y29: 否 | Z29: 125 | AA29: 三等奖学金
A30: 化学化工学院 | B30: 高分子材料与工程 | C30: 2025 | D30: 高251 | E30: 2508110032 | F30: 曹恪胜 | G30: 84.85 | H30: 2 | I30: =G30+H30 -> 86.85 | J30: 84.913978 | K30: 1 | L30: =J30+K30 -> 85.913978 | M30: 72.75 | N30: 0 | O30: =M30+N30 -> 72.75 | P30: 57.8 | Q30: 0 | R30: =P30+Q30 -> 57.8 | S30: 60 | T30: 4 | U30: =S30+T30 -> 64 | V30: 82.9 | W30: 26 | X30: 25 | Y30: 否 | Z30: 125 | AA30: 三等奖学金
A31: 化学化工学院 | B31: 高分子材料与工程 | C31: 2025 | D31: 高251 | E31: 2508110025 | F31: 谈君扬 | G31: 83.91 | H31: 2 | I31: 85.91 | J31: 84.096774 | K31: 1 | L31: 85.1 | M31: 72.85 | N31: 0 | O31: 72.85 | P31: 57.6 | Q31: 0 | R31: 57.6 | S31: 60 | T31: 10 | U31: 70 | V31: =I31*0.1+L31*0.75+O31*0.05+R31*0.05+U31*0.05 -> 82.4385 | W31: 27 | X31: 31 | Y31: 否 | Z31: 125 | AA31: 三等奖学金
A32: 化学化工学院 | B32: 高分子材料与工程 | C32: 2025 | D32: 高252 | E32: 2509110009 | F32: 刘欣悦 | G32: 86.95 | H32: 1.5 | I32: =G32+H32 -> 88.45 | J32: 82.95 | K32: 1.5 | L32: =J32+K32 -> 84.45 | M32: 65.95 | N32: 0 | O32: =M32+N32 -> 65.95 | P32: 59 | Q32: 0 | R32: =P32+Q32 -> 59 | S32: 60 | T32: 11 | U32: =S32+T32 -> 71 | V32: =I32*0.1+L32*0.75+O32*0.05+R32*0.05+U32*0.05 -> 81.98 | W32: 28 | X32: 43 | Y32: 否 | Z32: 125 | AA32: 三等奖学金
A33: 化学化工学院 | B33: 高分子材料与工程 | C33: 2025 | D33: 高254 | E33: 2508110118 | F33: 王景申 | G33: 84.52 | H33: 4.5 | I33: =G33+H33 -> 89.02 | J33: 82.85 | K33: 1 | L33: =J33+K33 -> 83.85 | M33: 73.3 | N33: 0 | O33: =M33+N33 -> 73.3 | P33: 57 | Q33: 0 | R33: =P33+Q33 -> 57 | S33: 60 | T33: 11 | U33: =S33+T33 -> 71 | V33: =I33*0.1+L33*0.75+O33*0.05+R33*0.05+U33*0.05 -> 81.8545 | W33: 29 | X33: 44 | Y33: 否 | Z33: 125 | AA33: 三等奖学金
A34: 化学化工学院 | B34: 高分子材料与工程 | C34: 2025 | D34: 高252 | E34: 2508110049 | F34: 黄世佳 | G34: 84.44 | H34: 0.5 | I34: =G34+H34 -> 84.94 | J34: 84.4 | K34: 1 | L34: =J34+K34 -> 85.4 | M34: 81.5 | N34: 0 | O34: =M34+N34 -> 81.5 | P34: 57.2 | Q34: 0.5 | R34: 57.2 | S34: 45 | T34: 0.5 | U34: =S34+T34 -> 45.5 | V34: =I34*0.1+L34*0.75+O34*0.05+R34*0.05+U34*0.05 -> 81.754 | W34: 30 | X34: 28 | Y34: 否 | Z34: 125 | AA34: 三等奖学金
A35: 化学化工学院 | B35: 高分子材料与工程 | C35: 2025 | D35: 高254 | E35: 2508110137 | F35: 刘睿文 | G35: 83.37 | H35: 3 | I35: =G35+H35 -> 86.37 | J35: 83.74 | K35: 1 | L35: =J35+K35 -> 84.74 | M35: 67.65 | N35: 0 | O35: =M35+N35 -> 67.65 | P35: 57.4 | Q35: 0 | R35: =P35+Q35 -> 57.4 | S35: 60 | T35: 1 | U35: =S35+T35 -> 61 | V35: =I35*0.1+L35*0.75+O35*0.05+R35*0.05+U35*0.05 -> 81.4945 | W35: 31 | X35: 35 | Y35: 是 | Z35: 125 | AA35: 体育成绩不合格
A36: 化学化工学院 | B36: 高分子材料与工程 | C36: 2025 | D36: 高252 | E36: 2508110059 | F36: 姚嘉乐 | G36: 85.5 | H36: 1 | I36: =G36+H36 -> 86.5 | J36: 85.11 | K36: 1 | L36: =J36+K36 -> 86.11 | M36: 83.8 | N36: 0 | O36: =M36+N36 -> 83.8 | P36: 34.2 | Q36: 0 | R36: =P36+Q36 -> 34.2 | S36: 45 | T36: 0 | U36: =S36+T36 -> 45 | V36: =I36*0.1+L36*0.75+O36*0.05+R36*0.05+U36*0.05 -> 81.3825 | W36: 32 | X36: 24 | Y36: 否 | Z36: 125 | AA36: 三等奖学金
A37: 化学化工学院 | B37: 高分子材料与工程 | C37: 2025 | D37: 高254 | E37: 2508110119 | F37: 黄国冰 | G37: 84.94 | H37: 3.2 | I37: =G37+H37 -> 88.14 | J37: 83.65 | K37: 1 | L37: =J37+K37 -> 84.65 | M37: 67.25 | N37: 0 | O37: =M37+N37 -> 67.25 | P37: 45.6 | Q37: 0 | R37: =P37+Q37 -> 45.6 | S37: 60 | T37: 7.5 | U37: =S37+T37 -> 67.5 | V37: =I37*0.1+L37*0.75+O37*0.05+R37*0.05+U37*0.05 -> 81.319 | W37: 33 | X37: 36 | Y37: 是 | Z37: 125 | AA37: 体育成绩不合格
A38: 化学化工学院 | B38: 高分子材料与工程 | C38: 2025 | D38: 高251 | E38: 2508110028 | F38: 曹心宇 | G38: 85 | H38: 2.5 | I38: =G38+H38 -> 87.5 | J38: 84.11828 | K38: 1 | L38: =J38+K38 -> 85.11828 | M38: 67.8 | N38: 0 | O38: =M38+N38 -> 67.8 | P38: 45.6 | Q38: 0 | R38: =P38+Q38 -> 45.6 | S38: 60 | T38: 1 | U38: =S38+T38 -> 61 | V38: 81.31 | W38: 34 | X38: 30 | Y38: 否 | Z38: 125 | AA38: 三等奖学金
A39: 化学化工学院 | B39: 高分子材料与工程 | C39: 2025 | D39: 高251 | E39: 2508110007 | F39: 廖舒乐 | G39: 86.36 | H39: 2.5 | I39: 88.86 | J39: 82.978495 | K39: 1 | L39: 83.98 | M39: 69.95 | N39: 0 | O39: 69.95 | P39: 45.6 | Q39: 0 | R39: 45.6 | S39: 60 | T39: 11 | U39: =S39+T39 -> 71 | V39: =I39*0.1+L39*0.75+O39*0.05+R39*0.05+U39*0.05 -> 81.1985 | W39: 35 | X39: 42 | Y39: 否 | Z39: 125 | AA39: 三等奖学金
A40: 化学化工学院 | B40: 高分子材料与工程 | C40: 2025 | D40: 高251 | E40: 2508110009 | F40: 刘洪志 | G40: 84.71 | H40: 1 | I40: 85.71 | J40: 84.204301 | K40: 0.5 | L40: 84.7 | M40: 78.05 | N40: 0 | O40: 78.05 | P40: 34.2 | Q40: 0 | R40: 34.2 | S40: 60 | T40: 5.555 | U40: 64.56 | V40: 80.97 | W40: 36 | X40: 29 | Y40: 否 | Z40: 125 | AA40: 三等奖学金
A41: 化学化工学院 | B41: 高分子材料与工程 | C41: 2025 | D41: 高251 | E41: 2508110010 | F41: 何俊杰 | G41: 84.96 | H41: 0.75 | I41: 85.71 | J41: 82.032258 | K41: 1.1 | L41: 83.13 | M41: 72.35 | N41: 0 | O41: 72.35 | P41: 57.6 | Q41: 0 | R41: 57.6 | S41: 60 | T41: 4.66 | U41: 64.66 | V41: =I41*0.1+L41*0.75+O41*0.05+R41*0.05+U41*0.05 -> 80.649 | W41: 37 | X41: 46 | Y41: 否 | Z41: 125 | AA41: 三等奖学金
A42: 化学化工学院 | B42: 高分子材料与工程 | C42: 2025 | D42: 高252 | E42: 2508110066 | F42: 李骏康 | G42: 84.77 | H42: 0.5 | I42: =G42+H42 -> 85.27 | J42: 84.03 | K42: 1 | L42: =J42+K42 -> 85.03 | M42: 73.45 | N42: 0 | O42: =M42+N42 -> 73.45 | P42: 22.8 | Q42: 0 | R42: =P42+Q42 -> 22.8 | S42: 60 | T42: 10 | U42: =S42+T42 -> 70 | V42: =I42*0.1+L42*0.75+O42*0.05+R42*0.05+U42*0.05 -> 80.612 | W42: 38 | X42: 32 | Y42: 否 | Z42: 125 | AA42: 三等奖学金
A43: 化学化工学院 | B43: 高分子材料与工程 | C43: 2025 | D43: 高253 | E43: 2508110087 | F43: 章明 | G43: 84.7 | H43: 2.5 | I43: 87.2 | J43: 81.58 | K43: 1.5 | L43: 83.08 | M43: 84.15 | N43: 0 | O43: 84.15 | P43: 58.4 | Q43: 0 | R43: 58.2 | S43: 45 | T43: 1 | U43: 46 | V43: =I43*0.1+L43*0.75+O43*0.05+R43*0.05+U43*0.05 -> 80.4475 | W43: 39 | X43: 48 | Y43: 否 | Z43: 125 | AA43: 三等奖学金
A44: 化学化工学院 | B44: 高分子材料与工程 | C44: 2025 | D44: 高254 | E44: 2508110114 | F44: 刁浩天 | G44: 84.67 | H44: 2.1 | I44: =G44+H44 -> 86.77 | J44: 81.02 | K44: 1 | L44: =J44+K44 -> 82.02 | M44: 72.95 | N44: 0 | O44: =M44+N44 -> 72.95 | P44: 57 | Q44: 0 | R44: =P44+Q44 -> 57 | S44: 60 | T44: 11 | U44: =S44+T44 -> 71 | V44: =I44*0.1+L44*0.75+O44*0.05+R44*0.05+U44*0.05 -> 80.2395 | W44: 40 | X44: 51 | Y44: 否 | Z44: 125 | AA44: 三等奖学金
A45: 化学化工学院 | B45: 高分子材料与工程 | C45: 2025 | D45: 高252 | E45: 2508110058 | F45: 戴锦程 | G45: 86.125 | H45: 1 | I45: =G45+H45 -> 87.125 | J45: 82.7 | K45: 1 | L45: =J45+K45 -> 83.7 | M45: 69.5 | N45: 0 | O45: =M45+N45 -> 69.5 | P45: 58 | Q45: 0 | R45: =P45+Q45 -> 58 | S45: 45 | T45: 0 | U45: =S45+T45 -> 45 | V45: =I45*0.1+L45*0.75+O45*0.05+R45*0.05+U45*0.05 -> 80.1125 | W45: 41 | X45: 45 | Y45: 否 | Z45: 125 | AA45: 三等奖学金
A46: 化学化工学院 | B46: 高分子材料与工程 | C46: 2025 | D46: 高251 | E46: 2508110018 | F46: 潘家辉 | G46: 83.41 | H46: 1 | I46: 84.41 | J46: 83.365591 | K46: 1 | L46: 84.37 | M46: 74.6 | N46: 0 | O46: 74.6 | P46: 22.8 | Q46: 0 | R46: 22.8 | S46: 60 | T46: 10 | U46: 70 | V46: =I46*0.1+L46*0.75+O46*0.05+R46*0.05+U46*0.05 -> 80.0885 | W46: 42 | X46: 40 | Y46: 否 | Z46: 125 | AA46: 三等奖学金
A47: 化学化工学院 | B47: 高分子材料与工程 | C47: 2025 | D47: 高251 | E47: 2508110024 | F47: 刘志豪 | G47: 84.63 | H47: 0 | I47: 84.63 | J47: 83.580645 | K47: 1 | L47: 84.58 | M47: 80.4 | N47: 0 | O47: 80.4 | P47: 34.2 | Q47: 0 | R47: 34.2 | S47: 45 | T47: 0 | U47: 45 | V47: =I47*0.1+L47*0.75+O47*0.05+R47*0.05+U47*0.05 -> 79.878 | W47: 43 | X47: 37 | Y47: 否 | Z47: 125 | AA47: 三等奖学金
A48: 化学化工学院 | B48: 高分子材料与工程 | C48: 2025 | D48: 高254 | E48: 2508110121 | F48: 肖陆枫 | G48: 85.33 | H48: 2 | I48: =G48+H48 -> 87.33 | J48: 81.54 | K48: 1 | L48: =J48+K48 -> 82.54 | M48: 73.15 | N48: 0 | O48: =M48+N48 -> 73.15 | P48: 45.6 | Q48: 0 | R48: =P48+Q48 -> 45.6 | S48: 60 | T48: 4.5 | U48: =S48+T48 -> 64.5 | V48: =I48*0.1+L48*0.75+O48*0.05+R48*0.05+U48*0.05 -> 79.8005 | W48: 44 | X48: 49 | Y48: 否 | Z48: 125 | AA48: 三等奖学金
A49: 化学化工学院 | B49: 高分子材料与工程 | C49: 2025 | D49: 高253 | E49: 2508110095 | F49: 陈涵予 | G49: 84.9 | H49: 2 | I49: 86.9 | J49: 83.77 | K49: 1 | L49: 84.77 | M49: 69.35 | N49: 0 | O49: 69.35 | P49: 34.2 | Q49: 0 | R49: 34.2 | S49: 45 | T49: 1 | U49: 46 | V49: =I49*0.1+L49*0.75+O49*0.05+R49*0.05+U49*0.05 -> 79.745 | W49: 45 | X49: 34 | Y49: 否 | Z49: 125 | AA49: 三等奖学金
A50: 化学化工学院 | B50: 高分子材料与工程 | C50: 2025 | D50: 高254 | E50: 2508110135 | F50: 金城 | G50: 85.39 | H50: 0 | I50: =G50+H50 -> 85.39 | J50: 83.9 | K50: 1.5 | L50: =J50+K50 -> 85.4 | M50: 67.7 | N50: 0 | O50: =M50+N50 -> 67.7 | P50: 11.4 | Q50: 0 | R50: =P50+Q50 -> 11.4 | S50: 60 | T50: 1.5 | U50: =S50+T50 -> 61.5 | V50: =I50*0.1+L50*0.75+O50*0.05+R50*0.05+U50*0.05 -> 79.619 | W50: 46 | X50: 33 | Y50: 否 | Z50: 125 | AA50: 三等奖学金
A51: 化学化工学院 | B51: 高分子材料与工程 | C51: 2025 | D51: 高254 | E51: 2508110129 | F51: 严子阳 | G51: 79.14 | H51: 2 | I51: =G51+H51 -> 81.14 | J51: 78.85 | K51: 4 | L51: =J51+K51 -> 82.85 | M51: 66.8 | N51: 0 | O51: =M51+N51 -> 66.8 | P51: 57 | Q51: 0 | R51: =P51+Q51 -> 57 | S51: 60 | T51: 2.5 | U51: =S51+T51 -> 62.5 | V51: =I51*0.1+L51*0.75+O51*0.05+R51*0.05+U51*0.05 -> 79.5665 | W51: 47 | X51: 62 | Y51: 否 | Z51: 125 | AA51: 三等奖学金
A52: 化学化工学院 | B52: 高分子材料与工程 | C52: 2025 | D52: 高252 | E52: 2508110053 | F52: 韩旭辉 | G52: 85.6 | H52: 1 | I52: =G52+H52 -> 86.6 | J52: 79.88 | K52: 1 | L52: =J52+K52 -> 80.88 | M52: 81 | N52: 0 | O52: =M52+N52 -> 81 | P52: 58 | Q52: 0 | R52: =P52+Q52 -> 58 | S52: 60 | T52: 5.5 | U52: =S52+T52 -> 65.5 | V52: =I52*0.1+L52*0.75+O52*0.05+R52*0.05+U52*0.05 -> 79.545 | W52: 48 | X52: 55 | Y52: 否 | Z52: 125 | AA52: 三等奖学金
A53: 化学化工学院 | B53: 高分子材料与工程 | C53: 2025 | D53: 高253 | E53: 2508110078 | F53: 王馨奕 | G53: 85.6 | H53: 3 | I53: 88.6 | J53: 80.68 | K53: 0 | L53: 80.68 | M53: 79.65 | N53: 0 | O53: 79.65 | P53: 57.4 | Q53: 0 | R53: 57.4 | S53: 60 | T53: 5.765 | U53: 65.765 | V53: =I53*0.1+L53*0.75+O53*0.05+R53*0.05+U53*0.05 -> 79.51075 | W53: 49 | X53: 53 | Y53: 否 | Z53: 125 | AA53: 三等奖学金
A54: 化学化工学院 | B54: 高分子材料与工程 | C54: 2025 | D54: 高254 | E54: 2508110111 | F54: 颜雨凡 | G54: 86.21 | H54: 2 | I54: 88.21 | J54: 83.3 | K54: 1 | L54: 84.3 | M54: 79.25 | N54: 0 | O54: 79.25 | P54: 22.8 | Q54: 0 | R54: 22.8 | S54: 45 | T54: 1 | U54: 46 | V54: =I54*0.1+L54*0.75+O54*0.05+R54*0.05+U54*0.05 -> 79.4485 | W54: 50 | X54: 41 | Y54: 否 | Z54: 125 | AA54: 三等奖学金
A55: 化学化工学院 | B55: 高分子材料与工程 | C55: 2025 | D55: 高251 | E55: 2508110017 | F55: 胡梓恒 | G55: 83.87 | H55: 0.5 | I55: 84.37 | J55: 80.806452 | K55: 1 | L55: 81.81 | M55: 61.4 | N55: 0 | O55: 61.4 | P55: 57.2 | Q55: 0 | R55: 57.2 | S55: 60 | T55: 6.3 | U55: 66.3 | V55: =I55*0.1+L55*0.75+O55*0.05+R55*0.05+U55*0.05 -> 79.0395 | W55: 51 | X55: 52 | Y55: 是 | Z55: 125 | AA55: 体育成绩不合格
A56: 化学化工学院 | B56: 高分子材料与工程 | C56: 2025 | D56: 高254 | E56: 2508110116 | F56: 彭浩然 | G56: 84.45 | H56: 4 | I56: =G56+H56 -> 88.45 | J56: 79.19 | K56: 1 | L56: =J56+K56 -> 80.19 | M56: 72.85 | N56: 0 | O56: =M56+N56 -> 72.85 | P56: 57 | Q56: 0 | R56: =P56+Q56 -> 57 | S56: 60 | T56: 10.87 | U56: =S56+T56 -> 70.87 | V56: =I56*0.1+L56*0.75+O56*0.05+R56*0.05+U56*0.05 -> 79.0235 | W56: 52 | X56: 59 | Y56: 否 | Z56: 125 | AA56: 三等奖学金
A57: 化学化工学院 | B57: 高分子材料与工程 | C57: 2025 | D57: 高252 | E57: 2508110054 | F57: 曹崇庆 | G57: 85.8 | H57: 1.5 | I57: =G57+H57 -> 87.3 | J57: 81.04 | K57: 0 | L57: =J57+K57 -> 81.04 | M57: 90.7 | N57: 0 | O57: =M57+N57 -> 90.7 | P57: 34.2 | Q57: 0 | R57: =P57+Q57 -> 34.2 | S57: 60 | T57: 5 | U57: =S57+T57 -> 65 | V57: =I57*0.1+L57*0.75+O57*0.05+R57*0.05+U57*0.05 -> 79.005 | W57: 53 | X57: 50 | Y57: 否 | Z57: 125
A58: 化学化工学院 | B58: 高分子材料与工程 | C58: 2025 | D58: 高253 | E58: 2508110094 | F58: 唐帅科 | G58: 84.025 | H58: 1 | I58: 85.025 | J58: 78.46 | K58: 1 | L58: 79.46 | M58: 83.35 | N58: 0 | O58: 83.35 | P58: 58 | Q58: 0 | R58: 58 | S58: 60 | T58: 10 | U58: 70 | V58: =I58*0.1+L58*0.75+O58*0.05+R58*0.05+U58*0.05 -> 78.665 | W58: 54 | X58: 64 | Y58: 是 | Z58: 125 | AA58: 课程考核不合格
A59: 化学化工学院 | B59: 高分子材料与工程 | C59: 2025 | D59: 高253 | E59: 2508110102 | F59: 吴宇伦 | G59: 84.2 | H59: 2 | I59: 86.2 | J59: 77.71 | K59: 1 | L59: 78.71 | M59: 90.2 | N59: 2 | O59: 92.2 | P59: 57 | Q59: 0 | R59: 57 | S59: 60 | T59: 11 | U59: 71 | V59: =I59*0.1+L59*0.75+O59*0.05+R59*0.05+U59*0.05 -> 78.6625 | W59: 55 | X59: 65 | Y59: 否 | Z59: 125
A60: 化学化工学院 | B60: 高分子材料与工程 | C60: 2025 | D60: 高253 | E60: 2508110100 | F60: 张苏凡 | G60: 85.1 | H60: 2 | I60: 87.1 | J60: 78.85 | K60: 1 | L60: 79.85 | M60: 76.05 | N60: 0 | O60: 76.05 | P60: 57.2 | Q60: 0 | R60: 57.2 | S60: 60 | T60: 6.35 | U60: 66.35 | V60: =I60*0.1+L60*0.75+O60*0.05+R60*0.05+U60*0.05 -> 78.5775 | W60: 56 | X60: 61 | Y60: 否 | Z60: 125
A61: 化学化工学院 | B61: 高分子材料与工程 | C61: 2025 | D61: 高253 | E61: 2508110071 | F61: 朱倚娴 | G61: 85.768 | H61: 4 | I61: 89.768 | J61: 77.49 | K61: 1 | L61: 78.49 | M61: 83.95 | N61: 1.5 | O61: 85.45 | P61: 57.8 | Q61: 0 | R61: 57.8 | S61: 60 | T61: 11 | U61: 71 | V61: =I61*0.1+L61*0.75+O61*0.05+R61*0.05+U61*0.05 -> 78.5568 | W61: 57 | X61: 68 | Y61: 是 | Z61: 125 | AA61: 课程考核不合格
A62: 化学化工学院 | B62: 高分子材料与工程 | C62: 2025 | D62: 高254 | E62: 2508110108 | F62: 龙淑婷 | G62: 86.33 | H62: 2.5 | I62: 88.83 | J62: 81.62 | K62: 1 | L62: 82.62 | M62: 80.35 | N62: 0 | O62: 80.35 | P62: 22.8 | Q62: 0 | R62: 22.8 | S62: 45 | T62: 0 | U62: 45 | V62: =I62*0.1+L62*0.75+O62*0.05+R62*0.05+U62*0.05 -> 78.2555 | W62: 58 | X62: 47 | Y62: 否 | Z62: 125
A63: 化学化工学院 | B63: 高分子材料与工程 | C63: 2025 | D63: 高251 | E63: 2508110012 | F63: 许庭瑜 | G63: 84.44 | H63: 0.5 | I63: 84.49 | J63: 83.43 | K63: 0 | L63: 83.43 | M63: 72.5 | N63: 0 | O63: 72.5 | P63: 11.4 | Q63: 0 | R63: 11.4 | S63: 60 | T63: 0 | U63: 60 | V63: =I63*0.1+L63*0.75+O63*0.05+R63*0.05+U63*0.05 -> 78.2165 | W63: 59 | X63: 39 | Y63: 否 | Z63: 125
A64: 化学化工学院 | B64: 高分子材料与工程 | C64: 2025 | D64: 高253 | E64: 2508110072 | F64: 王鋆希 | G64: 86.34 | H64: 0 | I64: 86.34 | J64: 79.88 | K64: 1 | L64: 80.88 | M64: 73 | N64: 0 | O64: 73 | P64: 57.2 | Q64: 0 | R64: 57.2 | S64: 45 | T64: 1 | U64: 46 | V64: =I64*0.1+L64*0.75+O64*0.05+R64*0.05+U64*0.05 -> 78.104 | W64: 60 | X64: 54 | Y64: 是 | Z64: 125 | AA64: 课程考核不合格
A65: 化学化工学院 | B65: 高分子材料与工程 | C65: 2025 | D65: 高251 | E65: 2508110013 | F65: 费诗恒 | G65: 84.94 | H65: 1 | I65: 85.94 | J65: 77.494624 | K65: 1.5 | L65: 78.99 | M65: 73.6 | N65: 0 | O65: 73.6 | P65: 58.2 | Q65: 0 | R65: 58.2 | S65: 60 | T65: 7.74 | U65: 67.74 | V65: =I65*0.1+L65*0.75+O65*0.05+R65*0.05+U65*0.05 -> 77.8135 | W65: 61 | X65: 67 | Y65: 否 | Z65: 125
A66: 化学化工学院 | B66: 高分子材料与工程 | C66: 2025 | D66: 高251 | E66: 2508110021 | F66: 刘子豪 | G66: 83 | H66: 1 | I66: 83 | J66: 79.817204 | K66: 1 | L66: 80.82 | M66: 73.25 | N66: 0 | O66: 73.25 | P66: 57.4 | Q66: 0 | R66: 57.4 | S66: 45 | T66: 0 | U66: 45 | V66: =I66*0.1+L66*0.75+O66*0.05+R66*0.05+U66*0.05 -> 77.6975 | W66: 62 | X66: 56 | Y66: 否 | Z66: 125
A67: 化学化工学院 | B67: 高分子材料与工程 | C67: 2025 | D67: 高254 | E67: 2508110117 | F67: 王刚 | G67: 85.1 | H67: 2.15 | I67: =G67+H67 -> 87.25 | J67: 76.44 | K67: 0 | L67: =J67+K67 -> 76.44 | M67: 92.5 | N67: 0 | O67: =M67+N67 -> 92.5 | P67: 57 | Q67: 0 | R67: =P67+Q67 -> 57 | S67: 60 | T67: 12.615 | U67: =S67+T67 -> 72.615 | V67: =I67*0.1+L67*0.75+O67*0.05+R67*0.05+U67*0.05 -> 77.16075 | W67: 63 | X67: 75 | Y67: 是 | Z67: 125 | AA67: 课程考核不合格
A68: 化学化工学院 | B68: 高分子材料与工程 | C68: 2025 | D68: 高251 | E68: 2508110015 | F68: 张志轩 | G68: 84.44 | H68: 0 | I68: 84.44 | J68: 79.55914 | K68: 1 | L68: 80.56 | M68: 69.95 | N68: 0 | O68: 69.95 | P68: 34.2 | Q68: 0 | R68: 34.2 | S68: 60 | T68: 0 | U68: 60 | V68: =I68*0.1+L68*0.75+O68*0.05+R68*0.05+U68*0.05 -> 77.0715 | W68: 64 | X68: 57 | Y68: 否 | Z68: 125
A69: 化学化工学院 | B69: 高分子材料与工程 | C69: 2025 | D69: 高251 | E69: 2508110022 | F69: 班文豪 | G69: 85.13 | H69: 0.5 | I69: 85.63 | J69: 79.215054 | K69: 1 | L69: 80.22 | M69: 78.25 | N69: 0 | O69: 78.25 | P69: 34.2 | Q69: 0 | R69: 34.2 | S69: 45,00 | T69: 0 | U69: 45 | V69: =I69*0.1+L69*0.75+O69*0.05+R69*0.05+U69*0.05 -> 76.6005 | W69: 65 | X69: 58 | Y69: 否 | Z69: 125
A70: 化学化工学院 | B70: 高分子材料与工程 | C70: 2025 | D70: 高252 | E70: 2508110036 | F70: 赵祥云 | G70: 85.7 | H70: 0 | I70: =G70+H70 -> 85.7 | J70: 77.11 | K70: 0 | L70: 77.11 | M70: 83 | N70: 0 | O70: =M70+N70 -> 83 | P70: 57.2 | Q70: 0.12 | R70: =P70+Q70 -> 57.32 | S70: 60 | T70: 1.5 | U70: =S70+T70 -> 61.5 | V70: =I70*0.1+L70*0.75+O70*0.05+R70*0.05+U70*0.05 -> 76.4935 | W70: 66 | X70: 73 | Y70: 否 | Z70: 125
A71: 化学化工学院 | B71: 高分子材料与工程 | C71: 2025 | D71: 高252 | E71: 2508110063 | F71: 刘俊一 | G71: 83.9 | H71: 1 | I71: =G71+H71 -> 84.9 | J71: 77.19 | K71: 0 | L71: =J71+K71 -> 77.19 | M71: 78.2 | N71: 0 | O71: =M71+N71 -> 78.2 | P71: 45.6 | Q71: 0 | R71: =P71+Q71 -> 45.6 | S71: 60 | T71: 10 | U71: =S71+T71 -> 70 | V71: =I71*0.1+L71*0.75+O71*0.05+R71*0.05+U71*0.05 -> 76.0725 | W71: 67 | X71: 72 | Y71: 是 | Z71: 125 | AA71: 课程考核不合格
A72: 化学化工学院 | B72: 高分子材料与工程 | C72: 2025 | D72: 高253 | E72: 2508110082 | F72: 马俊 | G72: 85.37 | H72: 0.75 | I72: 86.12 | J72: 77.67 | K72: 1 | L72: 78.67 | M72: 70.45 | N72: 0 | O72: 70.45 | P72: 34.2 | Q72: 0 | R72: 34.2 | S72: 60 | T72: 3.5 | U72: 63.5 | V72: =I72*0.1+L72*0.75+O72*0.05+R72*0.05+U72*0.05 -> 76.022 | W72: 68 | X72: 66 | Y72: 否 | Z72: 125
A73: 化学化工学院 | B73: 高分子材料与工程 | C73: 2025 | D73: 高253 | E73: 2508110104 | F73: 马程驰 | G73: 84.74 | H73: 4.65 | I73: 89.39 | J73: 75.9 | K73: 0 | L73: 75.9 | M73: 86.95 | N73: 0 | O73: 86.95 | P73: 45.6 | Q73: 0 | R73: 45.6 | S73: 60 | T73: 9.54 | U73: 69.54 | V73: =I73*0.1+L73*0.75+O73*0.05+R73*0.05+U73*0.05 -> 75.9685 | W73: 69 | X73: 79 | Y73: 否 | Z73: 125
A74: 化学化工学院 | B74: 高分子材料与工程 | C74: 2025 | D74: 高251 | E74: 2508110026 | F74: 孙皓轩 | G74: 84.54 | H74: 0 | I74: 84.54 | J74: 78.935484 | K74: 0 | L74: 78.94 | M74: 86.55 | N74: 0 | O74: 86.55 | P74: 34.2 | Q74: 0 | R74: 34.2 | S74: 45 | T74: 0 | U74: 45 | V74: =I74*0.1+L74*0.75+O74*0.05+R74*0.05+U74*0.05 -> 75.9465 | W74: 70 | X74: 60 | Y74: 否 | Z74: 125
A75: 化学化工学院 | B75: 高分子材料与工程 | C75: 2025 | D75: 高252 | E75: 2508110046 | F75: 杨云龙 | G75: 85.025 | H75: 0 | I75: =G75+H75 -> 85.025 | J75: 77.37 | K75: 1 | L75: =J75+K75 -> 78.37 | M75: 75.75 | N75: 0 | O75: =M75+N75 -> 75.75 | P75: 45.6 | Q75: 0 | R75: =P75+Q75 -> 45.6 | S75: 45 | T75: 0.5 | U75: =S75+T75 -> 45.5 | V75: =I75*0.1+L75*0.75+O75*0.05+R75*0.05+U75*0.05 -> 75.6225 | W75: 71 | X75: 69 | Y75: 是 | Z75: 125 | AA75: 课程考核不合格
A76: 化学化工学院 | B76: 高分子材料与工程 | C76: 2025 | D76: 高253 | E76: 2508110079 | F76: 郑诚 | G76: 86.43 | H76: 0 | I76: 86.43 | J76: 78.46 | K76: 0 | L76: 78.46 | M76: 79.5 | N76: 0 | O76: 68.6 | P76: 22.8 | Q76: 0.2 | R76: 23 | S76: 60 | T76: 11 | U76: 71 | V76: =I76*0.1+L76*0.75+O76*0.05+R76*0.05+U76*0.05 -> 75.618 | W76: 72 | X76: 63 | Y76: 是 | Z76: 125 | AA76: 课程考核不合格
A77: 化学化工学院 | B77: 高分子材料与工程 | C77: 2025 | D77: 高253 | E77: 2508110085 | F77: 仲文博 | G77: 85.01 | H77: 3.5 | I77: 88.51 | J77: 77.24 | K77: 0 | L77: 77.24 | M77: 80.55 | N77: 0 | O77: 80.55 | P77: 45.6 | Q77: 0 | R77: 45.6 | S77: 45 | T77: 2 | U77: 46.5 | V77: =I77*0.1+L77*0.75+O77*0.05+R77*0.05+U77*0.05 -> 75.4135 | W77: 73 | X77: 71 | Y77: 否 | Z77: 125
A78: 化学化工学院 | B78: 高分子材料与工程 | C78: 2025 | D78: 高251 | E78: 2508110034 | F78: 丁文涛 | G78: 82.9 | H78: 0 | I78: =G78+H78 -> 82.9 | J78: 76.11828 | K78: 1 | L78: =J78+K78 -> 77.11828 | M78: 72.1 | N78: 0 | O78: =M78+N78 -> 72.1 | P78: 45.6 | Q78: 0 | R78: =P78+Q78 -> 45.6 | S78: 60 | T78: 0 | U78: =S78+T78 -> 60 | V78: 75.27 | W78: 74 | X78: 76 | Y78: 否 | Z78: 125
A79: 化学化工学院 | B79: 高分子材料与工程 | C79: 2025 | D79: 高252 | E79: 2508110060 | F79: 胡睿 | G79: 84.9 | H79: 0.75 | I79: =G79+H79 -> 85.65 | J79: 75.95 | K79: 1.5 | L79: =J79+K79 -> 77.45 | M79: 81.3 | N79: 0 | O79: =M79+N79 -> 81.3 | P79: 22.8 | Q79: 0 | R79: =P79+Q79 -> 22.8 | S79: 60 | T79: 6.75 | U79: =S79+T79 -> 66.75 | V79: =I79*0.1+L79*0.75+O79*0.05+R79*0.05+U79*0.05 -> 75.195 | W79: 75 | X79: 78 | Y79: 否 | Z79: 125
A80: 化学化工学院 | B80: 高分子材料与工程 | C80: 2025 | D80: 高251 | E80: 2508110027 | F80: 郭超 | G80: 84.45 | H80: 2 | I80: =G80+H80 -> 86.45 | J80: 76.569892 | K80: 1 | L80: =J80+K80 -> 77.569892 | M80: 75 | N80: 0 | O80: =M80+N80 -> 75 | P80: 45.6 | Q80: 0 | R80: =P80+Q80 -> 45.6 | S80: 45 | T80: 0 | U80: =S80+T80 -> 45 | V80: 75.11 | W80: 76 | X80: 74 | Y80: 是 | Z80: 125 | AA80: 课程考核不合格
A81: 化学化工学院 | B81: 高分子材料与工程 | C81: 2025 | D81: 高251 | E81: 2508110011 | F81: 宫传阳 | G81: 85.12 | H81: 2.25 | I81: 87.37 | J81: 74.419355 | K81: 1 | L81: 75.42 | M81: 81.9 | N81: 0 | O81: 81.9 | P81: 45.6 | Q81: 0 | R81: 45.6 | S81: 60 | T81: 1.5 | U81: 61.5 | V81: =I81*0.1+L81*0.75+O81*0.05+R81*0.05+U81*0.05 -> 74.752 | W81: 77 | X81: 86 | Y81: 否 | Z81: 125
A82: 化学化工学院 | B82: 高分子材料与工程 | C82: 2025 | D82: 高252 | E82: 2508110042 | F82: 郭文涵 | G82: 86.375 | H82: 0 | I82: =G82+H82 -> 86.375 | J82: 75.65 | K82: 1 | L82: =J82+K82 -> 76.65 | M82: 86.3 | N82: 0.5 | O82: =M82+N82 -> 86.8 | P82: 22.8 | Q82: 0 | R82: =P82+Q82 -> 22.8 | S82: 60 | T82: 0.5 | U82: =S82+T82 -> 60.5 | V82: =I82*0.1+L82*0.75+O82*0.05+R82*0.05+U82*0.05 -> 74.63 | W82: 78 | X82: 80 | Y82: 是 | Z82: 125 | AA82: 课程考核不合格
A83: 化学化工学院 | B83: 高分子材料与工程 | C83: 2025 | D83: 高254 | E83: 2508110136 | F83: 周宗琦 | G83: 84.42 | H83: 1.5 | I83: =G83+H83 -> 85.92 | J83: 74.66 | K83: 0 | L83: =J83+K83 -> 74.66 | M83: 75.7 | N83: 0 | O83: =M83+N83 -> 75.7 | P83: 57.2 | Q83: 0 | R83: =P83+Q83 -> 57.2 | S83: 60 | T83: 4.75 | U83: =S83+T83 -> 64.75 | V83: =I83*0.1+L83*0.75+O83*0.05+R83*0.05+U83*0.05 -> 74.4695 | W83: 79 | X83: 84 | Y83: 是 | Z83: 125 | AA83: 课程考核不合格
A84: 化学化工学院 | B84: 高分子材料与工程 | C84: 2025 | D84: 高252 | E84: 2508110067 | F84: 袁寂甯 | G84: 84.425 | H84: 0 | I84: =G84+H84 -> 84.425 | J84: 73.49 | K84: 0 | L84: =J84+K84 -> 73.49 | M84: 86 | N84: 2.25 | O84: =M84+N84 -> 88.25 | P84: 57 | Q84: 0 | R84: =P84+Q84 -> 57 | S84: 60 | T84: 12 | U84: =S84+T84 -> 72 | V84: =I84*0.1+L84*0.75+O84*0.05+R84*0.05+U84*0.05 -> 74.4225 | W84: 80 | X84: 91 | Y84: 是 | Z84: 125 | AA84: 课程考核不合格
A85: 化学化工学院 | B85: 高分子材料与工程 | C85: 2025 | D85: 高253 | E85: 2515110310 | F85: 万凯博 | G85: 86.5 | H85: 6.5 | I85: 93 | J85: 74.4 | K85: 0 | L85: 74.4 | M85: 73.75 | N85: 6 | O85: 79.75 | P85: 59.4 | Q85: 0 | R85: 59.4 | S85: 45 | T85: 1.5 | U85: 46.5 | V85: =I85*0.1+L85*0.75+O85*0.05+R85*0.05+U85*0.05 -> 74.3825 | W85: 81 | X85: 87 | Y85: 是 | Z85: 125 | AA85: 课程考核不合格
A86: 化学化工学院 | B86: 高分子材料与工程 | C86: 2025 | D86: 高254 | E86: 2508110109 | F86: 陆斯琪 | G86: 86.52 | H86: 2.5 | I86: 89.02 | J86: 76.1 | K86: 1 | L86: 77.1 | M86: 82.95 | N86: 0 | O86: 82.95 | P86: 22.8 | Q86: 0 | R86: 22.8 | S86: 45 | T86: 0 | U86: 45 | V86: =I86*0.1+L86*0.75+O86*0.05+R86*0.05+U86*0.05 -> 74.2645 | W86: 82 | X86: 77 | Y86: 否 | Z86: 125
A87: 化学化工学院 | B87: 高分子材料与工程 | C87: 2025 | D87: 高251 | E87: 2508110177 | F87: 季阳 | G87: 84.24 | H87: 0 | I87: =G87+H87 -> 84.24 | J87: 73.965517 | K87: 1 | L87: =J87+K87 -> 74.965517 | M87: 64.25 | N87: 0 | O87: =M87+N87 -> 64.25 | P87: 57.2 | Q87: 0 | R87: =P87+Q87 -> 57.2 | S87: 60 | T87: 3 | U87: =S87+T87 -> 63 | V87: 74.07 | W87: 83 | X87: 89 | Y87: 是 | Z87: 125 | AA87: 课程考核不合格
A88: 化学化工学院 | B88: 高分子材料与工程 | C88: 2025 | D88: 高252 | E88: 2508110050 | F88: 刘相东 | G88: 85.1 | H88: 1 | I88: =G88+H88 -> 86.1 | J88: 73.02 | K88: 1 | L88: =J88+K88 -> 74.02 | M88: 73.8 | N88: 0 | O88: =M88+N88 -> 73.8 | P88: 58 | Q88: 0 | R88: =P88+Q88 -> 58 | S88: 60 | T88: 5 | U88: =S88+T88 -> 65 | V88: =I88*0.1+L88*0.75+O88*0.05+R88*0.05+U88*0.05 -> 73.965 | W88: 84 | X88: 93 | Y88: 是 | Z88: 125 | AA88: 课程考核不合格
A89: 化学化工学院 | B89: 高分子材料与工程 | C89: 2025 | D89: 高253 | E89: 2508110092 | F89: 陆子鹤 | G89: 84.3 | H89: 0 | I89: 84.3 | J89: 75.32 | K89: 1 | L89: 76.32 | M89: 88.1 | N89: 0 | O89: 88.1 | P89: 11.4 | Q89: 0 | R89: 11.4 | S89: 60 | T89: 6 | U89: 66 | V89: =I89*0.1+L89*0.75+O89*0.05+R89*0.05+U89*0.05 -> 73.945 | W89: 85 | X89: 81 | Y89: 是 | Z89: 125 | AA89: 课程考核不合格
A90: 化学化工学院 | B90: 高分子材料与工程 | C90: 2025 | D90: 高251 | E90: 2508110019 | F90: 陈智博 | G90: 84.34 | H90: 0 | I90: 84.34 | J90: 77.344086 | K90: 1 | L90: 78.34 | M90: 75.8 | N90: 0 | O90: 75.8 | P90: 11.4 | Q90: 0 | R90: 11.4 | S90: 45 | T90: 0 | U90: 45 | V90: =I90*0.1+L90*0.75+O90*0.05+R90*0.05+U90*0.05 -> 73.799 | W90: 86 | X90: 70 | Y90: 否 | Z90: 125
A91: 化学化工学院 | B91: 高分子材料与工程 | C91: 2025 | D91: 高254 | E91: 2508110122 | F91: 周灏铭 | G91: 84.86 | H91: 2 | I91: =G91+H91 -> 86.86 | J91: 74.01 | K91: 1 | L91: =J91+K91 -> 75.01 | M91: 74.25 | N91: 0 | O91: =M91+N91 -> 74.25 | P91: 57 | Q91: 0 | R91: =P91+Q91 -> 57 | S91: 45 | T91: 0 | U91: =S91+T91 -> 45 | V91: =I91*0.1+L91*0.75+O91*0.05+R91*0.05+U91*0.05 -> 73.756 | W91: 87 | X91: 88 | Y91: 是 | Z91: 125 | AA91: 课程考核不合格
A92: 化学化工学院 | B92: 高分子材料与工程 | C92: 2025 | D92: 高254 | E92: 2508110107 | F92: 史欣婷 | G92: 86.26 | H92: 3.5 | I92: 89.76 | J92: 72.42 | K92: 0 | L92: 72.42 | M92: 82.35 | N92: 0 | O92: 82.35 | P92: 57.2 | Q92: 0.6 | R92: 57.8 | S92: 60 | T92: 2.75 | U92: 62.75 | V92: =I92*0.1+L92*0.75+O92*0.05+R92*0.05+U92*0.05 -> 73.436 | W92: 88 | X92: 95 | Y92: 是 | Z92: 125 | AA92: 课程考核不合格
A93: 化学化工学院 | B93: 高分子材料与工程 | C93: 2025 | D93: 高253 | E93: 2508110098 | F93: 徐翊文 | G93: 83.86 | H93: 2.5 | I93: 86.36 | J93: 70.46 | K93: 1.6 | L93: 72.06 | M93: 75.55 | N93: 2 | O93: 77.55 | P93: 57.2 | Q93: 0 | R93: 57.2 | S93: 60 | T93: 3 | U93: 63 | V93: =I93*0.1+L93*0.75+O93*0.05+R93*0.05+U93*0.05 -> 72.5685 | W93: 89 | X93: 101 | Y93: 是 | Z93: 125 | AA93: 课程考核不合格
A94: 化学化工学院 | B94: 高分子材料与工程 | C94: 2025 | D94: 高254 | E94: 2508110115 | F94: 张杰 | G94: 84.125 | H94: 2 | I94: =G94+H94 -> 86.125 | J94: 71.06 | K94: 1 | L94: =J94+K94 -> 72.06 | M94: 61.35 | N94: 0 | O94: =M94+N94 -> 61.35 | P94: 57.6 | Q94: 0 | R94: =P94+Q94 -> 57.6 | S94: 60 | T94: 5.27 | U94: =S94+T94 -> 65.27 | V94: =I94*0.1+L94*0.75+O94*0.05+R94*0.05+U94*0.05 -> 71.8685 | W94: 90 | X94: 100 | Y94: 是 | Z94: 125 | AA94: 课程考核不合格
A95: 化学化工学院 | B95: 高分子材料与工程 | C95: 2025 | D95: 高251 | E95: 2406110082 | F95: 戴曹楠 | G95: 85.33 | H95: 0.2 | I95: 85.53 | J95: 74.907692 | K95: 1.5 | L95: 76.41 | M95: 30 | N95: 0 | O95: 30 | P95: 22.8 | Q95: 0 | R95: 22.8 | S95: 60 | T95: 3.15 | U95: 63.15 | V95: =I95*0.1+L95*0.75+O95*0.05+R95*0.05+U95*0.05 -> 71.658 | W95: 91 | X95: 83 | Y95: 否 | Z95: 125
A96: 化学化工学院 | B96: 高分子材料与工程 | C96: 2025 | D96: 高253 | E96: 2508110073 | F96: 王蕊 | G96: 86.552 | H96: 0 | I96: 86.552 | J96: 74.51 | K96: 1 | L96: 75.51 | M96: 61.2 | N96: 0 | O96: 61.2 | P96: 11.4 | Q96: 0 | R96: 11.4 | S96: 45 | T96: 2 | U96: 47 | V96: =I96*0.1+L96*0.75+O96*0.05+R96*0.05+U96*0.05 -> 71.2677 | W96: 92 | X96: 85 | Y96: 是 | Z96: 125 | AA96: 课程考核不合格
A97: 化学化工学院 | B97: 高分子材料与工程 | C97: 2025 | D97: 高252 | E97: 2508110056 | F97: 彭海旭 | G97: 84.6 | H97: 0.5 | I97: =G97+H97 -> 85.1 | J97: 69.49 | K97: 1 | L97: =J97+K97 -> 70.49 | M97: 71.95 | N97: 0 | O97: =M97+N97 -> 71.95 | P97: 58 | Q97: 0 | R97: =P97+Q97 -> 58 | S97: 60 | T97: 5.1 | U97: =S97+T97 -> 65.1 | V97: =I97*0.1+L97*0.75+O97*0.05+R97*0.05+U97*0.05 -> 71.13 | W97: 93 | X97: 108 | Y97: 是 | Z97: 125 | AA97: 课程考核不合格
A98: 化学化工学院 | B98: 高分子材料与工程 | C98: 2025 | D98: 高254 | E98: 2508110139 | F98: 解鑫枭 | G98: 84.33 | H98: 2 | I98: =G98+H98 -> 86.33 | J98: 73.9 | K98: 0 | L98: =J98+K98 -> 73.9 | M98: 79.35 | N98: 0 | O98: =M98+N98 -> 79.35 | P98: 11 | Q98: 0 | R98: =P98+Q98 -> 11 | S98: 45 | T98: 1 | U98: =S98+T98 -> 46 | V98: =I98*0.1+L98*0.75+O98*0.05+R98*0.05+U98*0.05 -> 70.8755 | W98: 94 | X98: 90 | Y98: 是 | Z98: 125 | AA98: 课程考核不合格
A99: 化学化工学院 | B99: 高分子材料与工程 | C99: 2025 | D99: 高254 | E99: 2508110140 | F99: 李越 | G99: 84 | H99: 2 | I99: =G99+H99 -> 86 | J99: 73.3 | K99: 1 | L99: =J99+K99 -> 74.3 | M99: 73.1 | N99: 0 | O99: =M99+N99 -> 73.1 | P99: 11.4 | Q99: 0 | R99: =P99+Q99 -> 11.4 | S99: 45 | T99: 1 | U99: =S99+T99 -> 46 | V99: =I99*0.1+L99*0.75+O99*0.05+R99*0.05+U99*0.05 -> 70.85 | W99: 95 | X99: 92 | Y99: 是 | Z99: 125 | AA99: 课程考核不合格
A100: 化学化工学院 | B100: 高分子材料与工程 | C100: 2025 | D100: 高252 | E100: 2508110064 | F100: 徐照洋 | G100: 84.625 | H100: 1.5 | I100: =G100+H100 -> 86.125 | J100: 75.17 | K100: 0 | L100: =J100+K100 -> 75.17 | M100: 71.7 | N100: 0 | O100: =M100+N100 -> 71.7 | P100: 0 | Q100: 0 | R100: =P100+Q100 -> 0 | S100: 45 | T100: 0 | U100: =S100+T100 -> 45 | V100: =I100*0.1+L100*0.75+O100*0.05+R100*0.05+U100*0.05 -> 70.825 | W100: 96 | X100: 82 | Y100: 是 | Z100: 125 | AA100: 课程考核不合格
...

Sheet 化师25
A1: 附件5：
A2: 化学化工学院化学（师范）专业2025年级综合测评排名表
A3: 学院: | C3: （盖章） | X3: 学院分管学生工作领导签名：
A4: 学院 | B4: 专业 | C4: 年级 | D4: 班级 | E4: 学号 | F4: 姓名 | G4: 德育 考评分 | H4: 德育 加减分 | I4: 德育 成绩 | J4: 智育 考试分 | K4: 智育 加减分 | L4: 智育 成绩 | M4: 体育 测评分 | N4: 体育 加减分 | O4: 体育 成绩 | P4: 美育 基础分 | Q4: 美育 奖惩分 | R4: 美育 成绩 | S4: 劳育 基础分 | T4: 劳育 奖惩分 | U4: 劳育 成绩 | V4: 综合 测评分 | W4: 综合测评排名 | X4: 学习成绩排名 | Y4: 是否有不及格课程 | Z4: 专业年级 总人数 | AA4: 奖学金 等级 | AB4: 单项 奖学金 | AC4: 荣誉称号 | AD4: 学生签名
A5: 化学化工学院 | B5: 化学（师范） | C5: 2025 | D5: 化师253 | E5: 2508110423 | F5: 宋涛 | G5: 86.22 | H5: 13.775 | I5: =G5+H5 -> 99.995 | J5: =VLOOKUP(F5,[1]工作表1!A:W,23,0) -> 95.76 | K5: 5.3 | L5: 100 | M5: 85.4 | N5: 0 | O5: =M5+N5 -> 85.4 | P5: 60 | Q5: 1.5 | R5: =SUM(P5:Q5) -> 61.5 | S5: 60 | T5: 11 | U5: =SUM(S5:T5) -> 71 | V5: =I5*0.1+L5*0.75+O5*0.05+R5*0.05+U5*0.05 -> 95.8945 | W5: 1 | X5: 1 | Y5: 否 | Z5: 93 | AA5: 一等奖学金 | AB5: 研究与创新奖 | AC5: 三好学生标兵
A6: 化学化工学院 | B6: 化学（师范） | C6: 2025 | D6: 化师251 | E6: 2508110362 | F6: 王佳成 | G6: 86.46 | H6: 4 | I6: 90.46 | J6: 91.57 | K6: 7.5 | L6: 99.07 | M6: 73.2 | N6: 0 | O6: 73.2 | P6: 57.4 | Q6: 0 | R6: 57.4 | S6: 60 | T6: 11 | U6: 71 | V6: 93.43 | W6: 2 | X6: 5 | Y6: 否 | Z6: 93 | AA6: 一等奖学金 | AC6: 三好学生
A7: 化学化工学院 | B7: 化学（师范） | C7: 2025 | D7: 化师253 | E7: 2508110410 | F7: 张灵钰 | G7: 86.91 | H7: 7.58 | I7: =G7+H7 -> 94.49 | J7: =VLOOKUP(F7,[1]工作表1!A:W,23,0) -> 93.11 | K7: 3.5 | L7: =J7+K7 -> 96.61 | M7: 88.15 | N7: 0.75 | O7: =M7+N7 -> 88.9 | P7: 60 | Q7: 0 | R7: =SUM(P7:Q7) -> 60 | S7: 60 | T7: 10 | U7: =SUM(S7:T7) -> 70 | V7: =I7*0.1+L7*0.75+O7*0.05+R7*0.05+U7*0.05 -> 92.8515 | W7: 3 | X7: 2 | Y7: 否 | Z7: 93 | AA7: 一等奖学金 | AC7: 三好学生
A8: 化学化工学院 | B8: 化学（师范） | C8: 2025 | D8: 化师253 | E8: 2508110417 | F8: 郑萌萌 | G8: 86.86 | H8: 7 | I8: =G8+H8 -> 93.86 | J8: =VLOOKUP(F8,[1]工作表1!A:W,23,0) -> 91.87 | K8: 3.5 | L8: =J8+K8 -> 95.37 | M8: 92.5 | N8: 2.5 | O8: =M8+N8 -> 95 | P8: 58.8 | Q8: 0 | R8: =SUM(P8:Q8) -> 58.8 | S8: 60 | T8: 10 | U8: =SUM(S8:T8) -> 70 | V8: =I8*0.1+L8*0.75+O8*0.05+R8*0.05+U8*0.05 -> 92.1035 | W8: 4 | X8: 3 | Y8: 否 | Z8: 93 | AA8: 一等奖学金 | AC8: 三好学生 | CO8: 一等 | CP8: 三标 | CQ8: 研究与创新奖
A9: 化学化工学院 | B9: 化学（师范） | C9: 2025 | D9: 化师253 | E9: 2508110426 | F9: 胡双双 | G9: 86.85 | H9: 15.08 | I9: 100 | J9: =VLOOKUP(F9,[1]工作表1!A:W,23,0) -> 90.49 | K9: 3.025 | L9: =J9+K9 -> 93.515 | M9: 92.95 | N9: 1.25 | O9: =M9+N9 -> 94.2 | P9: 60 | Q9: 0.15 | R9: =SUM(P9:Q9) -> 60.15 | S9: 60 | T9: 14 | U9: =SUM(S9:T9) -> 74 | V9: =I9*0.1+L9*0.75+O9*0.05+R9*0.05+U9*0.05 -> 91.55375 | W9: 5 | X9: 9 | Y9: 否 | Z9: 93 | AA9: 二等奖学金 | AB9: 文体活动奖 | AC9: 三好学生 | CO9: 二等 | CP9: 三好 | CQ9: 道德风尚奖
A10: 化学化工学院 | B10: 化学（师范） | C10: 2025 | D10: 化师253 | E10: 2508110418 | F10: 施佳汝 | G10: 86.88 | H10: 13.13 | I10: 100 | J10: =VLOOKUP(F10,[1]工作表1!A:W,23,0) -> 90.68 | K10: 1.8 | L10: =J10+K10 -> 92.48 | M10: 86.2 | N10: 0.75 | O10: =M10+N10 -> 86.95 | P10: 59.4 | Q10: 0.32 | R10: =SUM(P10:Q10) -> 59.72 | S10: 60 | T10: 12 | U10: =SUM(S10:T10) -> 72 | V10: =I10*0.1+L10*0.75+O10*0.05+R10*0.05+U10*0.05 -> 90.2935 | W10: 6 | X10: 7 | Y10: 否 | Z10: 93 | AA10: 二等奖学金 | AC10: 三好学生 | CO10: 三等 | CP10: 优干 | CQ10: 文体活动奖
A11: 化学化工学院 | B11: 化学（师范） | C11: 2025 | D11: 化师252 | E11: 2508110386 | F11: 杨苏鈺 | G11: 86.9 | H11: 11.8 | I11: 98.7 | J11: 89.3 | K11: 1.08 | L11: 90.38 | M11: 93.15 | N11: 0 | O11: 93.15 | P11: 60 | Q11: 5.4 | R11: 65.4 | S11: 60 | T11: 25 | U11: 85 | V11: =I11*0.1+L11*0.75+O11*0.05+R11*0.05+U11*0.05 -> 89.8325 | W11: 7 | X11: 14 | Y11: 否 | Z11: 93 | AA11: 二等奖学金 | AB11: 文体活动奖 | CO11: 课程考核不合格 | CQ11: 社会工作奖
A12: 化学化工学院 | B12: 化学（师范） | C12: 2025 | D12: 化师252 | E12: 2508110387 | F12: 何梦茹 | G12: 85.28 | H12: 4.53 | I12: =SUM(G12+H12) -> 89.81 | J12: 90.15 | K12: 3 | L12: 93.15 | M12: 89.15 | N12: 0.3 | O12: 89.45 | P12: 57 | Q12: 2.6 | R12: 59.6 | S12: 60 | T12: 10 | U12: 70 | V12: =I12*0.1+L12*0.75+O12*0.05+R12*0.05+U12*0.05 -> 89.796 | W12: 8 | X12: 11 | Y12: 否 | Z12: 93 | AA12: 二等奖学金
A13: 化学化工学院 | B13: 化学（师范） | C13: 2025 | D13: 化师252 | E13: 2508110381 | F13: 王颖 | G13: 86.42 | H13: 5.1 | I13: =SUM(G13+H13) -> 91.52 | J13: 91.6 | K13: 1.5 | L13: 93.1 | M13: 79.75 | N13: 0 | O13: 79.75 | P13: 58.8 | Q13: 0 | R13: 58.8 | S13: 60 | T13: 11 | U13: 71 | V13: =I13*0.1+L13*0.75+O13*0.05+R13*0.05+U13*0.05 -> 89.4545 | W13: 9 | X13: 4 | Y13: 否 | Z13: 93 | AA13: 二等奖学金 | AC13: 三好学生
A14: 化学化工学院 | B14: 化学（师范） | C14: 2025 | D14: 化师253 | E14: 2508110403 | F14: 张敏 | G14: 86.63 | H14: 4.83 | I14: =G14+H14 -> 91.46 | J14: =VLOOKUP(F14,[1]工作表1!A:W,23,0) -> 90.79 | K14: 3 | L14: =J14+K14 -> 93.79 | M14: 61.7 | N14: 0 | O14: =M14+N14 -> 61.7 | P14: 58 | Q14: 0 | R14: =SUM(P14:Q14) -> 58 | S14: 60 | T14: 11 | U14: =SUM(S14:T14) -> 71 | V14: =I14*0.1+L14*0.75+O14*0.05+R14*0.05+U14*0.05 -> 89.0235 | W14: 10 | X14: 6 | Y14: 是 | Z14: 93 | AA14: 体测成绩不合格 | CO14: 德育分未达标
A15: 化学化工学院 | B15: 化学（师范） | C15: 2025 | D15: 化师253 | E15: 2508110414 | F15: 刘子轩 | G15: 86.94 | H15: 7.1 | I15: =G15+H15 -> 94.04 | J15: =VLOOKUP(F15,[1]工作表1!A:W,23,0) -> 89.92 | K15: 1.5 | L15: =J15+K15 -> 91.42 | M15: 85.15 | N15: 0.75 | O15: =M15+N15 -> 85.9 | P15: 58.4 | Q15: 0 | R15: =SUM(P15:Q15) -> 58.4 | S15: 60 | T15: 10 | U15: =SUM(S15:T15) -> 70 | V15: =I15*0.1+L15*0.75+O15*0.05+R15*0.05+U15*0.05 -> 88.684 | W15: 11 | X15: 12 | Y15: 否 | Z15: 93 | AA15: 二等奖学金 | CO15: 体育成绩不合格
A16: 化学化工学院 | B16: 化学（师范） | C16: 2025 | D16: 化师252 | E16: 2508110384 | F16: 张秋彦 | G16: 85.99 | H16: 4.35 | I16: =SUM(G16+H16) -> 90.34 | J16: 90.54 | K16: 1.5 | L16: 92.04 | M16: 82.35 | N16: 0 | O16: 82.35 | P16: 58 | Q16: 0.2 | R16: 58.2 | S16: 60 | T16: 11 | U16: 71 | V16: =I16*0.1+L16*0.75+O16*0.05+R16*0.05+U16*0.05 -> 88.6415 | W16: 12 | X16: 8 | Y16: 否 | Z16: 93 | AA16: 二等奖学金 | AC16: 三好学生
A17: 化学化工学院 | B17: 化学（师范） | C17: 2025 | D17: 化师253 | E17: 2508110406 | F17: 王凤梅 | G17: 86.61 | H17: 12.75 | I17: =G17+H17 -> 99.36 | J17: =VLOOKUP(F17,[1]工作表1!A:W,23,0) -> 87.07 | K17: 3.5 | L17: =J17+K17 -> 90.57 | M17: 84.15 | N17: 0 | O17: =M17+N17 -> 84.15 | P17: 59.4 | Q17: 0 | R17: =SUM(P17:Q17) -> 59.4 | S17: 60 | T17: 11 | U17: =SUM(S17:T17) -> 71 | V17: =I17*0.1+L17*0.75+O17*0.05+R17*0.05+U17*0.05 -> 88.591 | W17: 13 | X17: 24 | Y17: 否 | Z17: 93 | AA17: 二等奖学金
A18: 化学化工学院 | B18: 化学（师范） | C18: 2025 | D18: 化师253 | E18: 2508110416 | F18: 茆钏钰 | G18: 86.94 | H18: 7.1 | I18: =G18+H18 -> 94.04 | J18: =VLOOKUP(F18,[1]工作表1!A:W,23,0) -> 89.18 | K18: 1.5 | L18: =J18+K18 -> 90.68 | M18: 85.9 | N18: 0.75 | O18: =M18+N18 -> 86.65 | P18: 58.2 | Q18: 0 | R18: =SUM(P18:Q18) -> 58.2 | S18: 60 | T18: 10 | U18: =SUM(S18:T18) -> 70 | V18: =I18*0.1+L18*0.75+O18*0.05+R18*0.05+U18*0.05 -> 88.1565 | W18: 14 | X18: 15 | Y18: 否 | Z18: 93 | AA18: 三等奖学金
A19: 化学化工学院 | B19: 化学（师范） | C19: 2025 | D19: 化师253 | E19: 2508110419 | F19: 绪峻齐 | G19: 86.94 | H19: 6.35 | I19: =G19+H19 -> 93.29 | J19: =VLOOKUP(F19,[1]工作表1!A:W,23,0) -> 90.2 | K19: 1 | L19: =J19+K19 -> 91.2 | M19: 77.25 | N19: 0.75 | O19: =M19+N19 -> 78 | P19: 58.2 | Q19: 0 | R19: =SUM(P19:Q19) -> 58.2 | S19: 60 | T19: 10 | U19: =SUM(S19:T19) -> 70 | V19: =I19*0.1+L19*0.75+O19*0.05+R19*0.05+U19*0.05 -> 88.039 | W19: 15 | X19: 10 | Y19: 否 | Z19: 93 | AA19: 三等奖学金
A20: 化学化工学院 | B20: 化学（师范） | C20: 2025 | D20: 化师253 | E20: 2508110402 | F20: 李美琪 | G20: 86.16 | H20: 15.03 | I20: 100 | J20: =VLOOKUP(F20,[1]工作表1!A:W,23,0) -> 86.52 | K20: 3 | L20: =J20+K20 -> 89.52 | M20: 79.35 | N20: 0 | O20: =M20+N20 -> 79.35 | P20: 57.8 | Q20: 0.75 | R20: =SUM(P20:Q20) -> 58.55 | S20: 60 | T20: 13 | U20: =SUM(S20:T20) -> 73 | V20: =I20*0.1+L20*0.75+O20*0.05+R20*0.05+U20*0.05 -> 87.685 | W20: 16 | X20: 30 | Y20: 否 | Z20: 93 | AA20: 三等奖学金
A21: 化学化工学院 | B21: 化学（师范） | C21: 2025 | D21: 化师251 | E21: 2508110344 | F21: 陈芊名 | G21: 92.17 | H21: 2.5 | I21: =G21+H21 -> 94.67 | J21: 86.86 | K21: 3 | L21: =J21+K21 -> 89.86 | M21: 78.9 | N21: 0 | O21: =M21+N21 -> 78.9 | P21: 59.2 | Q21: 0 | R21: =P21+Q21 -> 59.2 | S21: 70 | T21: 0 | U21: =S21+T21 -> 70 | V21: =I21*0.1+L21*0.75+O21*0.05+R21*0.05+U21*0.05 -> 87.267 | W21: 17 | X21: 27 | Y21: 否 | Z21: 93 | AA21: 三等奖学金
A22: 化学化工学院 | B22: 化学（师范） | C22: 2025 | D22: 化师251 | E22: 2508110341 | F22: 黄露露 | G22: 93.49 | H22: 0 | I22: =G22+H22 -> 93.49 | J22: 87.94 | K22: 1.5 | L22: =J22+K22 -> 89.44 | M22: 78.85 | N22: 0 | O22: =M22+N22 -> 78.85 | P22: 58.2 | Q22: 0 | R22: =P22+Q22 -> 58.2 | S22: 70 | T22: 2.5 | U22: =S22+T22 -> 72.5 | V22: =I22*0.1+L22*0.75+O22*0.05+R22*0.05+U22*0.05 -> 86.9065 | W22: 18 | X22: 20 | Y22: 否 | Z22: 93 | AA22: 三等奖学金 | AB22: 学业进步奖
A23: 化学化工学院 | B23: 化学（师范） | C23: 2025 | D23: 化师252 | E23: 2508110389 | F23: 曲祉铭 | G23: 86.5 | H23: 7.75 | I23: =SUM(G23+H23) -> 94.25 | J23: 88.1 | K23: 1.25 | L23: 89.35 | M23: 80.02 | N23: 0 | O23: 76.4 | P23: 60 | Q23: 0 | R23: 60 | S23: 60 | T23: 11 | U23: 71 | V23: =I23*0.1+L23*0.75+O23*0.05+R23*0.05+U23*0.05 -> 86.8075 | W23: 19 | X23: 19 | Y23: 否 | Z23: 93 | AA23: 三等奖学金
A24: 化学化工学院 | B24: 化学（师范） | C24: 2025 | D24: 化师252 | E24: 2508110371 | F24: 刘雨薇 | G24: 85.87 | H24: 2.5 | I24: =SUM(G24+H24) -> 88.37 | J24: 88.33 | K24: 1 | L24: 89.33 | M24: 83.3 | N24: 0 | O24: 83.3 | P24: 58.6 | Q24: 0 | R24: 58.6 | S24: 60 | T24: 10 | U24: 70 | V24: =I24*0.1+L24*0.75+O24*0.05+R24*0.05+U24*0.05 -> 86.4295 | W24: 20 | X24: 16 | Y24: 否 | Z24: 93 | AA24: 三等奖学金
A25: 化学化工学院 | B25: 化学（师范） | C25: 2025 | D25: 化师252 | E25: 2508110379 | F25: 朱佳 | G25: 86.72 | H25: 2.75 | I25: =SUM(G25+H25) -> 89.47 | J25: 88.29 | K25: 1.5 | L25: 89.79 | M25: 79.2 | N25: 0 | O25: 79.2 | P25: 57.6 | Q25: 0 | R25: 57.6 | S25: 60 | T25: 6 | U25: 66 | V25: =I25*0.1+L25*0.75+O25*0.05+R25*0.05+U25*0.05 -> 86.4295 | W25: 21 | X25: 17 | Y25: 否 | Z25: 93 | AA25: 三等奖学金
A26: 化学化工学院 | B26: 化学（师范） | C26: 2025 | D26: 化师253 | E26: 2508110413 | F26: 陈欣怡 | G26: 86.78 | H26: 5.5 | I26: =G26+H26 -> 92.28 | J26: =VLOOKUP(F26,[1]工作表1!A:W,23,0) -> 89.48 | K26: 1.5 | L26: =J26+K26 -> 90.98 | M26: 69.55 | N26: 0 | O26: =M26+N26 -> 69.55 | P26: 58.4 | Q26: 0 | R26: =SUM(P26:Q26) -> 58.4 | S26: 45 | T26: 0 | U26: =SUM(S26:T26) -> 45 | V26: =I26*0.1+L26*0.75+O26*0.05+R26*0.05+U26*0.05 -> 86.1105 | W26: 22 | X26: 13 | Y26: 是 | Z26: 93 | AA26: 体测成绩不合格
A27: 化学化工学院 | B27: 化学（师范） | C27: 2025 | D27: 化师252 | E27: 2508110377 | F27: 谢东廷 | G27: 86.89 | H27: 3.25 | I27: =SUM(G27+H27) -> 90.14 | J27: 88.15 | K27: 1 | L27: 89.15 | M27: 80 | N27: 0 | O27: 80 | P27: 57.6 | Q27: 0 | R27: 57.6 | S27: 60 | T27: 4.5 | U27: 64.5 | V27: =I27*0.1+L27*0.75+O27*0.05+R27*0.05+U27*0.05 -> 85.9815 | W27: 23 | X27: 18 | Y27: 否 | Z27: 93 | AA27: 三等奖学金
A28: 化学化工学院 | B28: 化学（师范） | C28: 2025 | D28: 化师251 | E28: 2508110356 | F28: 陈佳瑶 | G28: 86.88 | H28: 2.75 | I28: 89.63 | J28: 87.44 | K28: 1 | L28: 88.44 | M28: 79.8 | N28: 0 | O28: 79.8 | P28: 57.6 | Q28: 0 | R28: 57.6 | S28: 60 | T28: 8.98 | U28: 68.98 | V28: 85.61 | W28: 24 | X28: 21 | Y28: 否 | Z28: 93 | AA28: 三等奖学金
A29: 化学化工学院 | B29: 化学（师范） | C29: 2025 | D29: 化师253 | E29: 2508110409 | F29: 徐紫程 | G29: 86.83 | H29: 3.85 | I29: =G29+H29 -> 90.68 | J29: =VLOOKUP(F29,[1]工作表1!A:W,23,0) -> 86.77 | K29: 1 | L29: =J29+K29 -> 87.77 | M29: 83.55 | N29: 0.75 | O29: =M29+N29 -> 84.3 | P29: 58.8 | Q29: 0 | R29: =SUM(P29:Q29) -> 58.8 | S29: 60 | T29: 10 | U29: =SUM(S29:T29) -> 70 | V29: =I29*0.1+L29*0.75+O29*0.05+R29*0.05+U29*0.05 -> 85.5505 | W29: 25 | X29: 28 | Y29: 否 | Z29: 93 | AA29: 三等奖学金
A30: 化学化工学院 | B30: 化学（师范） | C30: 2025 | D30: 化师253 | E30: 2508110401 | F30: 冯秋涵 | G30: 86.05 | H30: 4 | I30: =G30+H30 -> 90.05 | J30: =VLOOKUP(F30,[1]工作表1!A:W,23,0) -> 86.95 | K30: 1 | L30: =J30+K30 -> 87.95 | M30: 77.85 | N30: 0 | O30: =M30+N30 -> 77.85 | P30: 57.8 | Q30: 0 | R30: =SUM(P30:Q30) -> 57.8 | S30: 60 | T30: 10 | U30: =SUM(S30:T30) -> 70 | V30: =I30*0.1+L30*0.75+O30*0.05+R30*0.05+U30*0.05 -> 85.25 | W30: 26 | X30: 25 | Y30: 否 | Z30: 93 | AA30: 三等奖学金
A31: 化学化工学院 | B31: 化学（师范） | C31: 2025 | D31: 化师252 | E31: 2508110373 | F31: 徐敬文 | G31: 86.69 | H31: 3.3 | I31: =SUM(G31+H31) -> 89.99 | J31: 86.91 | K31: 1 | L31: 87.91 | M31: 77.15 | N31: 0 | O31: 77.15 | P31: 58.6 | Q31: 0 | R31: 58.6 | S31: 60 | T31: 9.09 | U31: 69.09 | V31: =I31*0.1+L31*0.75+O31*0.05+R31*0.05+U31*0.05 -> 85.1735 | W31: 27 | X31: 26 | Y31: 否 | Z31: 93 | AA31: 三等奖学金
A32: 化学化工学院 | B32: 化学（师范） | C32: 2025 | D32: 化师253 | E32: 2508110407 | F32: 黄诗喻 | G32: 86.31 | H32: 9.5 | I32: =G32+H32 -> 95.81 | J32: =VLOOKUP(F32,[1]工作表1!A:W,23,0) -> 84.36 | K32: 2.17 | L32: =J32+K32 -> 86.53 | M32: 76.5 | N32: 0.75 | O32: =M32+N32 -> 77.25 | P32: 60 | Q32: 0.27 | R32: =SUM(P32:Q32) -> 60.27 | S32: 60 | T32: 10 | U32: =SUM(S32:T32) -> 70 | V32: =I32*0.1+L32*0.75+O32*0.05+R32*0.05+U32*0.05 -> 84.8545 | W32: 28 | X32: 42 | Y32: 否 | Z32: 93 | AA32: 三等奖学金
A33: 化学化工学院 | B33: 化学（师范） | C33: 2025 | D33: 化师252 | E33: 2508110385 | F33: 陈花培钰 | G33: 86.18 | H33: 5.53 | I33: =SUM(G33+H33) -> 91.71 | J33: 85.64 | K33: 1.25 | L33: 86.89 | M33: 78.6 | N33: 0 | O33: 78.6 | P33: 57.8 | Q33: 0.75 | R33: 58.55 | S33: 60 | T33: 11 | U33: 71 | V33: =I33*0.1+L33*0.75+O33*0.05+R33*0.05+U33*0.05 -> 84.746 | W33: 29 | X33: 34 | Y33: 否 | Z33: 93 | AA33: 三等奖学金
A34: 化学化工学院 | B34: 化学（师范） | C34: 2025 | D34: 化师252 | E34: 2508110380 | F34: 王奕轩 | G34: 86.48 | H34: 5.9 | I34: =SUM(G34+H34) -> 92.38 | J34: 84.84 | K34: 1.05 | L34: 85.89 | M34: 87.7 | N34: 0 | O34: 87.7 | P34: 59.6 | Q34: 0 | R34: 59.6 | S34: 60 | T34: 8.5 | U34: 68.5 | V34: =I34*0.1+L34*0.75+O34*0.05+R34*0.05+U34*0.05 -> 84.4455 | W34: 30 | X34: 38 | Y34: 否 | Z34: 93 | AA34: 三等奖学金
A35: 化学化工学院 | B35: 化学（师范） | C35: 2025 | D35: 化师252 | E35: 2508110383 | F35: 车莹 | G35: 85.94 | H35: 4.75 | I35: =SUM(G35+H35) -> 90.69 | J35: 85.39 | K35: 1 | L35: 86.39 | M35: 81.35 | N35: 0 | O35: 81.35 | P35: 57 | Q35: 1 | R35: 58 | S35: 60 | T35: 11 | U35: 71 | V35: =I35*0.1+L35*0.75+O35*0.05+R35*0.05+U35*0.05 -> 84.379 | W35: 31 | X35: 35 | Y35: 否 | Z35: 93 | AA35: 三等奖学金
A36: 化学化工学院 | B36: 化学（师范） | C36: 2025 | D36: 化师251 | E36: 2508110360 | F36: 范佳冰 | G36: 86.71 | H36: 3 | I36: 89.71 | J36: 84.29 | K36: 1.5 | L36: 85.79 | M36: 89 | N36: 0 | O36: 89 | P36: 58 | Q36: 1 | R36: 59 | S36: 60 | T36: 12 | U36: 72 | V36: 84.31 | W36: 32 | X36: 44 | Y36: 否 | Z36: 93 | AA36: 三等奖学金
A37: 化学化工学院 | B37: 化学（师范） | C37: 2025 | D37: 化师252 | E37: 2508110393 | F37: 王子豪 | G37: 85.73 | H37: 3 | I37: =SUM(G37+H37) -> 88.73 | J37: 86.63 | K37: 1 | L37: 87.63 | M37: 75.25 | N37: 0 | O37: 75.25 | P37: 57 | Q37: 0 | R37: 57 | S37: 60 | T37: 1.5 | U37: 61.5 | V37: =I37*0.1+L37*0.75+O37*0.05+R37*0.05+U37*0.05 -> 84.283 | W37: 33 | X37: 29 | Y37: 否 | Z37: 93 | AA37: 三等奖学金
A38: 化学化工学院 | B38: 化学（师范） | C38: 2025 | D38: 化师252 | E38: 2508110392 | F38: 史鸿飞 | G38: 86.07 | H38: 3 | I38: =SUM(G38+H38) -> 89.07 | J38: 87.18 | K38: 1 | L38: 88.18 | M38: 70.65 | N38: 0 | O38: 70.65 | P38: 45.6 | Q38: 0 | R38: 45.6 | S38: 60 | T38: 8.15 | U38: 68.15 | V38: =I38*0.1+L38*0.75+O38*0.05+R38*0.05+U38*0.05 -> 84.262 | W38: 34 | X38: 23 | Y38: 否 | Z38: 93 | AA38: 三等奖学金
A39: 化学化工学院 | B39: 化学（师范） | C39: 2025 | D39: 化师251 | E39: 2508110352 | F39: 朱生枫 | G39: 86.88 | H39: 3 | I39: 89.88 | J39: 85.78 | K39: 1.5 | L39: 87.28 | M39: 74.5 | N39: 0 | O39: 74.5 | P39: 57.2 | Q39: 0.66 | R39: 57.86 | S39: 60 | T39: 2.5 | U39: 62.5 | V39: 84.19 | W39: 35 | X39: 33 | Y39: 否 | Z39: 93 | AA39: 三等奖学金
A40: 化学化工学院 | B40: 化学（师范） | C40: 2025 | D40: 化师252 | E40: 2508110374 | F40: 管营营 | G40: 86.5 | H40: 6 | I40: =SUM(G40+H40) -> 92.5 | J40: 86.33 | K40: 1 | L40: 87.33 | M40: 77.15 | N40: 0 | O40: 77.15 | P40: 34.2 | Q40: 0 | R40: 34.2 | S40: 60 | T40: 10 | U40: 70 | V40: =I40*0.1+L40*0.75+O40*0.05+R40*0.05+U40*0.05 -> 83.815 | W40: 36 | X40: 31 | Y40: 否 | Z40: 93 | AA40: 三等奖学金
A41: 化学化工学院 | B41: 化学（师范） | C41: 2025 | D41: 化师253 | E41: 2508110412 | F41: 李诗雨 | G41: 86.75 | H41: 8.9 | I41: =G41+H41 -> 95.65 | J41: =VLOOKUP(F41,[1]工作表1!A:W,23,0) -> 84.56 | K41: 1 | L41: =J41+K41 -> 85.56 | M41: 78.65 | N41: 0.75 | O41: =M41+N41 -> 79.4 | P41: 58.4 | Q41: 0.17 | R41: =SUM(P41:Q41) -> 58.57 | S41: 60 | T41: 1.365 | U41: =SUM(S41:T41) -> 61.365 | V41: =I41*0.1+L41*0.75+O41*0.05+R41*0.05+U41*0.05 -> 83.70175 | W41: 37 | X41: 40 | Y41: 否 | Z41: 93 | AA41: 三等奖学金
A42: 化学化工学院 | B42: 化学（师范） | C42: 2025 | D42: 化师251 | E42: 2508110363 | F42: 顾佳鹏 | G42: 86.47 | H42: 4.4 | I42: 90.87 | J42: 84.36 | K42: 1.15 | L42: 85.51 | M42: 82.75 | N42: 0 | O42: 82.75 | P42: 58.4 | Q42: 0.57 | R42: 58.97 | S42: 60 | T42: 6.5 | U42: 66.5 | V42: 83.63 | W42: 38 | X42: 43 | Y42: 否 | Z42: 93
A43: 化学化工学院 | B43: 化学（师范） | C43: 2025 | D43: 化师251 | E43: 2508110357 | F43: 张欣玥 | G43: 86.71 | H43: 2.75 | I43: 89.46 | J43: 86.26 | K43: 0 | L43: 86.26 | M43: 81.15 | N43: 0 | O43: 81.15 | P43: 57 | Q43: 0 | R43: 57 | S43: 60 | T43: 1.25 | U43: 61.25 | V43: 83.61 | W43: 39 | X43: 32 | Y43: 否 | Z43: 93
A44: 化学化工学院 | B44: 化学（师范） | C44: 2025 | D44: 化师251 | E44: 2508110346 | F44: 翟晗旭 | G44: 89.31 | H44: 0 | I44: =G44+H44 -> 89.31 | J44: 85.14 | K44: 1 | L44: =J44+K44 -> 86.14 | M44: 83.05 | N44: 0 | O44: =M44+N44 -> 83.05 | P44: 45.6 | Q44: 0 | R44: =P44+Q44 -> 45.6 | S44: 64.5 | T44: 0 | U44: =S44+T44 -> 64.5 | V44: =I44*0.1+L44*0.75+O44*0.05+R44*0.05+U44*0.05 -> 83.1935 | W44: 40 | X44: 36 | Y44: 否 | Z44: 93
A45: 化学化工学院 | B45: 化学（师范） | C45: 2025 | D45: 化师251 | E45: 2508110348 | F45: 周孝雪 | G45: 88.59 | H45: 0 | I45: =G45+H45 -> 88.59 | J45: 83.74 | K45: 1 | L45: =J45+K45 -> 84.74 | M45: 86.1 | N45: 0 | O45: =M45+N45 -> 86.1 | P45: 57.3 | Q45: 0 | R45: =P45+Q45 -> 57.3 | S45: 67 | T45: 0 | U45: =S45+T45 -> 67 | V45: =I45*0.1+L45*0.75+O45*0.05+R45*0.05+U45*0.05 -> 82.934 | W45: 41 | X45: 48 | Y45: 否 | Z45: 93
A46: 化学化工学院 | B46: 化学（师范） | C46: 2025 | D46: 化师253 | E46: 2521110220 | F46: 刘以琳 | G46: 86 | H46: 2.25 | I46: =G46+H46 -> 88.25 | J46: =VLOOKUP(F46,[1]工作表1!A:W,23,0) -> 87.3 | K46: 1.5 | L46: =J46+K46 -> 88.8 | M46: 80.5 | N46: 0 | O46: =M46+N46 -> 80.5 | P46: 22.8 | Q46: 0 | R46: =SUM(P46:Q46) -> 22.8 | S46: 45 | T46: 0 | U46: =SUM(S46:T46) -> 45 | V46: =I46*0.1+L46*0.75+O46*0.05+R46*0.05+U46*0.05 -> 82.84 | W46: 42 | X46: 22 | Y46: 否 | Z46: 93
A47: 化学化工学院 | B47: 化学（师范） | C47: 2025 | D47: 化师251 | E47: 2508110345 | F47: 陈思羽 | G47: 93.49 | H47: 0 | I47: =G47+H47 -> 93.49 | J47: 83.57 | K47: 0 | L47: =J47+K47 -> 83.57 | M47: 84.15 | N47: 0 | O47: =M47+N47 -> 84.15 | P47: 58.8 | Q47: 1 | R47: =P47+Q47 -> 59.8 | S47: 70 | T47: 1 | U47: =S47+T47 -> 71 | V47: =I47*0.1+L47*0.75+O47*0.05+R47*0.05+U47*0.05 -> 82.774 | W47: 43 | X47: 49 | Y47: 否 | Z47: 93
A48: 化学化工学院 | B48: 化学（师范） | C48: 2025 | D48: 化师253 | E48: 2508110404 | F48: 刘博文 | G48: 86.18 | H48: 6.4 | I48: =G48+H48 -> 92.58 | J48: =VLOOKUP(F48,[1]工作表1!A:W,23,0) -> 84.17 | K48: 0 | L48: =J48+K48 -> 84.17 | M48: 76.45 | N48: 0 | O48: =M48+N48 -> 76.45 | P48: 58.4 | Q48: 0 | R48: =SUM(P48:Q48) -> 58.4 | S48: 60 | T48: 11 | U48: =SUM(S48:T48) -> 71 | V48: =I48*0.1+L48*0.75+O48*0.05+R48*0.05+U48*0.05 -> 82.678 | W48: 44 | X48: 45 | Y48: 否 | Z48: 93
A49: 化学化工学院 | B49: 化学（师范） | C49: 2025 | D49: 化师253 | E49: 2508110411 | F49: 张莉 | G49: 86.92 | H49: 5.7 | I49: =G49+H49 -> 92.62 | J49: =VLOOKUP(F49,[1]工作表1!A:W,23,0) -> 84.98 | K49: 1 | L49: =J49+K49 -> 85.98 | M49: 72.55 | N49: 0 | O49: =M49+N49 -> 72.55 | P49: 57.2 | Q49: 0 | R49: =SUM(P49:Q49) -> 57.2 | S49: 45 | T49: 0 | U49: =SUM(S49:T49) -> 45 | V49: =I49*0.1+L49*0.75+O49*0.05+R49*0.05+U49*0.05 -> 82.4845 | W49: 45 | X49: 37 | Y49: 否 | Z49: 93
A50: 化学化工学院 | B50: 化学（师范） | C50: 2025 | D50: 化师251 | E50: 2508110353 | F50: 蒋琬婷 | G50: 86.8 | H50: 4.5 | I50: 91.3 | J50: 83.97 | K50: 1.5 | L50: 85.47 | M50: 74.2 | N50: 0 | O50: 74.2 | P50: 45.6 | Q50: 0 | R50: 45.6 | S50: 60 | T50: 2.01 | U50: 62.01 | V50: 82.32 | W50: 46 | X50: 47 | Y50: 否 | Z50: 93
A51: 化学化工学院 | B51: 化学（师范） | C51: 2025 | D51: 化师251 | E51: 2508110359 | F51: 曲秋晓 | G51: 85.99 | H51: 3.5 | I51: 89.49 | J51: 77.94 | K51: 5.5 | L51: 83.44 | M51: 85.35 | N51: 0 | O51: 85.35 | P51: 58.2 | Q51: 0.14 | R51: 58.34 | S51: 60 | T51: 10 | U51: 70 | V51: 82.21 | W51: 47 | X51: 73 | Y51: 是 | Z51: 93 | AA51: 课程考核不合格
A52: 化学化工学院 | B52: 化学（师范） | C52: 2025 | D52: 化师251 | E52: 2508110364 | F52: 沈泉壹 | G52: 85.43 | H52: 2.5 | I52: 87.93 | J52: 83.99 | K52: 1 | L52: 84.99 | M52: 60.15 | N52: 0 | O52: 60.15 | P52: 57.6 | Q52: 0 | R52: 57.6 | S52: 60 | T52: 10 | U52: 70 | V52: 81.92 | W52: 48 | X52: 46 | Y52: 是 | Z52: 93 | AA52: 体测成绩不合格
A53: 化学化工学院 | B53: 化学（师范） | C53: 2025 | D53: 化师253 | E53: 2506110160 | F53: 濮一轩 | G53: 84.375 | H53: 2.25 | I53: =G53+H53 -> 86.625 | J53: =VLOOKUP(F53,[1]工作表1!A:W,23,0) -> 83.16 | K53: 1 | L53: =J53+K53 -> 84.16 | M53: 75.1 | N53: 0 | O53: =M53+N53 -> 75.1 | P53: 57 | Q53: 0 | R53: =SUM(P53:Q53) -> 57 | S53: 60 | T53: 8 | U53: =SUM(S53:T53) -> 68 | V53: =I53*0.1+L53*0.75+O53*0.05+R53*0.05+U53*0.05 -> 81.7875 | W53: 49 | X53: 50 | Y53: 否 | Z53: 93
A54: 化学化工学院 | B54: 化学（师范） | C54: 2025 | D54: 化师251 | E54: 2508110350 | F54: 朱新彤 | G54: 86.79 | H54: 3 | I54: 89.79 | J54: 84.72 | K54: 0 | L54: 84.72 | M54: 66.7 | N54: 0 | O54: 66.7 | P54: 45.6 | Q54: 0 | R54: 45.6 | S54: 60 | T54: 0 | U54: 60 | V54: 81.13 | W54: 50 | X54: 39 | Y54: 是 | Z54: 93 | AA54: 体测成绩不合格
A55: 化学化工学院 | B55: 化学（师范） | C55: 2025 | D55: 化师253 | E55: 2508110408 | F55: 殷菲 | G55: 86.32 | H55: 6.83 | I55: =G55+H55 -> 93.15 | J55: =VLOOKUP(F55,[1]工作表1!A:W,23,0) -> 81 | K55: 1 | L55: =J55+K55 -> 82 | M55: 77 | N55: 0.75 | O55: =M55+N55 -> 77.75 | P55: 58.2 | Q55: 0 | R55: =SUM(P55:Q55) -> 58.2 | S55: 60 | T55: 10 | U55: =SUM(S55:T55) -> 70 | V55: =I55*0.1+L55*0.75+O55*0.05+R55*0.05+U55*0.05 -> 81.1125 | W55: 51 | X55: 60 | Y55: 否 | Z55: 93
A56: 化学化工学院 | B56: 化学（师范） | C56: 2025 | D56: 化师252 | E56: 2508110394 | F56: 秦家琦 | G56: 85.5 | H56: 2.77 | I56: =SUM(G56+H56) -> 88.27 | J56: 82.82 | K56: 1 | L56: 83.82 | M56: 78.75 | N56: 0 | O56: 78.75 | P56: 45.6 | Q56: 1 | R56: 46.6 | S56: 60 | T56: 3 | U56: 63 | V56: =I56*0.1+L56*0.75+O56*0.05+R56*0.05+U56*0.05 -> 81.1095 | W56: 52 | X56: 52 | Y56: 否 | Z56: 93
A57: 化学化工学院 | B57: 化学（师范） | C57: 2025 | D57: 化师253 | E57: 2508110420 | F57: 张雨桐 | G57: 86.74 | H57: 3.75 | I57: =G57+H57 -> 90.49 | J57: =VLOOKUP(F57,[1]工作表1!A:W,23,0) -> 82.43 | K57: 0 | L57: =J57+K57 -> 82.43 | M57: 77.5 | N57: 0.75 | O57: =M57+N57 -> 78.25 | P57: 58.6 | Q57: 0 | R57: =SUM(P57:Q57) -> 58.6 | S57: 60 | T57: 6.5 | U57: =SUM(S57:T57) -> 66.5 | V57: =I57*0.1+L57*0.75+O57*0.05+R57*0.05+U57*0.05 -> 81.039 | W57: 53 | X57: 53 | Y57: 否 | Z57: 93
A58: 化学化工学院 | B58: 化学（师范） | C58: 2025 | D58: 化师253 | E58: 2508110427 | F58: 李皓宇 | G58: 86.87 | H58: 3.5 | I58: =G58+H58 -> 90.37 | J58: =VLOOKUP(F58,[1]工作表1!A:W,23,0) -> 82.08 | K58: 1 | L58: =J58+K58 -> 83.08 | M58: 70.7 | N58: 0 | O58: =M58+N58 -> 70.7 | P58: 58.4 | Q58: 0.17 | R58: =SUM(P58:Q58) -> 58.57 | S58: 60 | T58: 2.5 | U58: =SUM(S58:T58) -> 62.5 | V58: =I58*0.1+L58*0.75+O58*0.05+R58*0.05+U58*0.05 -> 80.9355 | W58: 54 | X58: 56 | Y58: 否 | Z58: 93
A59: 化学化工学院 | B59: 化学（师范） | C59: 2025 | D59: 化师251 | E59: 2509110286 | F59: 宋泽毅 | G59: 86.28 | H59: 2 | I59: 88.28 | J59: 80.56 | K59: 1 | L59: 81.56 | M59: 83.6 | N59: 0 | O59: 83.6 | P59: 59.4 | Q59: 0 | R59: 59.4 | S59: 60 | T59: 7.86 | U59: 67.86 | V59: 80.54 | W59: 55 | X59: 62 | Y59: 否 | Z59: 93
A60: 化学化工学院 | B60: 化学（师范） | C60: 2025 | D60: 化师251 | E60: 2508110361 | F60: 丁欣蕊 | G60: 85.93 | H60: 2 | I60: 87.93 | J60: 80.56 | K60: 1.5 | L60: 82.06 | M60: 75.75 | N60: 0 | O60: 75.75 | P60: 57.8 | Q60: 0.14 | R60: 57.94 | S60: 60 | T60: 10 | U60: 70 | V60: 80.52 | W60: 56 | X60: 63 | Y60: 否 | Z60: 93
A61: 化学化工学院 | B61: 化学（师范） | C61: 2025 | D61: 化师251 | E61: 2508110355 | F61: 龚钦怡 | G61: 86.68 | H61: 4.75 | I61: 91.43 | J61: 82.95 | K61: 1 | L61: 83.95 | M61: 73.3 | N61: 0 | O61: 73.3 | P61: 22.8 | Q61: 0.66 | R61: 23.46 | S61: 60 | T61: 1.5 | U61: 61.5 | V61: 80.02 | W61: 57 | X61: 51 | Y61: 否 | Z61: 93
A62: 化学化工学院 | B62: 化学（师范） | C62: 2025 | D62: 化师253 | E62: 2508110428 | F62: 陈航 | G62: 86.8 | H62: 2.25 | I62: =G62+H62 -> 89.05 | J62: =VLOOKUP(F62,[1]工作表1!A:W,23,0) -> 80.93 | K62: 1 | L62: =J62+K62 -> 81.93 | M62: 67.45 | N62: 0 | O62: =M62+N62 -> 67.45 | P62: 58.2 | Q62: 0 | R62: =SUM(P62:Q62) -> 58.2 | S62: 60 | T62: 7.36 | U62: =SUM(S62:T62) -> 67.36 | V62: =I62*0.1+L62*0.75+O62*0.05+R62*0.05+U62*0.05 -> 80.003 | W62: 58 | X62: 61 | Y62: 否 | Z62: 93
A63: 化学化工学院 | B63: 化学（师范） | C63: 2025 | D63: 化师251 | E63: 2508110365 | F63: 丛星宇 | G63: 86.39 | H63: 2.5 | I63: 88.89 | J63: 82.2 | K63: 1 | L63: 83.2 | M63: 84.95 | N63: 1 | O63: 85.95 | P63: 34.2 | Q63: 0 | R63: 34.2 | S63: 60 | T63: 7.32 | U63: 67.32 | V63: 79.91 | W63: 59 | X63: 55 | Y63: 是 | Z63: 93 | AA63: 课程考核不合格
A64: 化学化工学院 | B64: 化学（师范） | C64: 2025 | D64: 化师251 | E64: 2508110347 | F64: 沈书吉 | G64: 88.37 | H64: 0 | I64: =G64+H64 -> 88.37 | J64: 81.32 | K64: 1 | L64: =J64+K64 -> 82.32 | M64: 78.5 | N64: 0 | O64: =M64+N64 -> 78.5 | P64: 45.6 | Q64: 0 | R64: =P64+Q64 -> 45.6 | S64: 60 | T64: 0 | U64: =S64+T64 -> 60 | V64: =I64*0.1+L64*0.75+O64*0.05+R64*0.05+U64*0.05 -> 79.782 | W64: 60 | X64: 59 | Y64: 是 | Z64: 93 | AA64: 课程考核不合格
A65: 化学化工学院 | B65: 化学（师范） | C65: 2025 | D65: 化师253 | E65: 2508110425 | F65: 周恒 | G65: 86.1 | H65: 11.75 | I65: =G65+H65 -> 97.85 | J65: =VLOOKUP(F65,[1]工作表1!A:W,23,0) -> 79.3 | K65: 0 | L65: =J65+K65 -> 79.3 | M65: 81.75 | N65: 2.5 | O65: =M65+N65 -> 84.25 | P65: 45.6 | Q65: 0 | R65: =SUM(P65:Q65) -> 45.6 | S65: 60 | T65: 10 | U65: =SUM(S65:T65) -> 70 | V65: =I65*0.1+L65*0.75+O65*0.05+R65*0.05+U65*0.05 -> 79.2525 | W65: 61 | X65: 67 | Y65: 否 | Z65: 93
A66: 化学化工学院 | B66: 化学（师范） | C66: 2025 | D66: 化师252 | E66: 2508110390 | F66: 吴怡 | G66: 85.88 | H66: 4.25 | I66: =SUM(G66+H66) -> 90.13 | J66: 79.97 | K66: 0 | L66: 79.97 | M66: 74.65 | N66: 0 | O66: 74.65 | P66: 58.8 | Q66: 0 | R66: 58.8 | S66: 60 | T66: 10 | U66: 70 | V66: =I66*0.1+L66*0.75+O66*0.05+R66*0.05+U66*0.05 -> 79.163 | W66: 62 | X66: 66 | Y66: 否 | Z66: 93
A67: 化学化工学院 | B67: 化学（师范） | C67: 2025 | D67: 化师252 | E67: 2508110397 | F67: 陈睿阳 | G67: 86.04 | H67: 2 | I67: =SUM(G67+H67) -> 88.04 | J67: 84.54 | K67: 0 | L67: 84.54 | M67: 70.35 | N67: 0 | O67: 70.35 | P67: 22.8 | Q67: 0 | R67: 22.8 | S67: 45 | T67: 0 | U67: 45 | V67: =I67*0.1+L67*0.75+O67*0.05+R67*0.05+U67*0.05 -> 79.1165 | W67: 63 | X67: 41 | Y67: 否 | Z67: 93
A68: 化学化工学院 | B68: 化学（师范） | C68: 2025 | D68: 化师251 | E68: 2508110358 | F68: 毛雨轩 | G68: 86.72 | H68: 2 | I68: 86.72 | J68: 82.26 | K68: 1 | L68: 83.26 | M68: 77.3 | N68: 0 | O68: 77.3 | P68: 34.2 | Q68: 0 | R68: 34.2 | S68: 45 | T68: 0 | U68: 45 | V68: 78.94 | W68: 64 | X68: 54 | Y68: 否 | Z68: 93
A69: 化学化工学院 | B69: 化学（师范） | C69: 2025 | D69: 化师251 | E69: 2409110236 | F69: 唐绍航 | G69: 88.74 | H69: 0 | I69: =G69+H69 -> 88.74 | J69: 78.92 | K69: 1 | L69: 79.92 | M69: 83.8 | N69: 0 | O69: =M69+N69 -> 83.8 | P69: 45.6 | Q69: 0 | R69: =P69+Q69 -> 45.6 | S69: 70 | T69: 0 | U69: =S69+T69 -> 70 | V69: =I69*0.1+L69*0.75+O69*0.05+R69*0.05+U69*0.05 -> 78.784 | W69: 65 | X69: 70 | Y69: 否 | Z69: 93
A70: 化学化工学院 | B70: 化学（师范） | C70: 2025 | D70: 化师252 | E70: 2508110382 | F70: 陆卉雯 | G70: 86.06 | H70: 2.5 | I70: =SUM(G70+H70) -> 88.56 | J70: 77.97 | K70: 1 | L70: 78.97 | M70: 75.4 | N70: 0 | O70: 75.4 | P70: 60 | Q70: 0 | R70: 60 | S70: 60 | T70: 10 | U70: 70 | V70: =I70*0.1+L70*0.75+O70*0.05+R70*0.05+U70*0.05 -> 78.3535 | W70: 66 | X70: 72 | Y70: 是 | Z70: 93 | AA70: 课程考核不合格
A71: 化学化工学院 | B71: 化学（师范） | C71: 2025 | D71: 化师251 | E71: 2508110349 | F71: 孙诗瑶 | G71: 90.46 | H71: 0 | I71: =G71+H71 -> 90.46 | J71: 80.38 | K71: 1 | L71: =J71+K71 -> 81.38 | M71: 69.5 | N71: 0 | O71: =M71+N71 -> 69.5 | P71: 34.2 | Q71: 0 | R71: =P71+Q71 -> 34.2 | S71: 60 | T71: 0 | U71: =S71+T71 -> 60 | V71: =I71*0.1+L71*0.75+O71*0.05+R71*0.05+U71*0.05 -> 78.266 | W71: 67 | X71: 64 | Y71: 是 | Z71: 93 | AA71: 体测成绩不合格
A72: 化学化工学院 | B72: 化学（师范） | C72: 2025 | D72: 化师253 | E72: 2508110422 | F72: 戈瑞 | G72: 85.67 | H72: 2.25 | I72: =G72+H72 -> 87.92 | J72: =VLOOKUP(F72,[1]工作表1!A:W,23,0) -> 81.76 | K72: 1 | L72: =J72+K72 -> 82.76 | M72: 78.9 | N72: 1 | O72: =M72+N72 -> 79.9 | P72: 11.4 | Q72: 0 | R72: =SUM(P72:Q72) -> 11.4 | S72: 45 | T72: 0 | U72: =SUM(S72:T72) -> 45 | V72: =I72*0.1+L72*0.75+O72*0.05+R72*0.05+U72*0.05 -> 77.677 | W72: 68 | X72: 57 | Y72: 否 | Z72: 93
A73: 化学化工学院 | B73: 化学（师范） | C73: 2025 | D73: 化师251 | E73: 2508110342 | F73: 钟如玉 | G73: 90.3 | H73: 0 | I73: =G73+H73 -> 90.3 | J73: 79.11 | K73: 0 | L73: =J73+K73 -> 79.11 | M73: 75.75 | N73: 0 | O73: =M73+N73 -> 75.75 | P73: 45.6 | Q73: 0 | R73: =P73+Q73 -> 45.6 | S73: 61.5 | T73: 0 | U73: =S73+T73 -> 61.5 | V73: =I73*0.1+L73*0.75+O73*0.05+R73*0.05+U73*0.05 -> 77.505 | W73: 69 | X73: 68 | Y73: 否 | Z73: 93
A74: 化学化工学院 | B74: 化学（师范） | C74: 2025 | D74: 化师252 | E74: 2415110158 | F74: 单江涛 | G74: 85.21 | H74: 2 | I74: =SUM(G74+H74) -> 87.21 | J74: 79.11 | K74: 0 | L74: 79.11 | M74: 70.95 | N74: 0 | O74: 70.95 | P74: 57 | Q74: 0 | R74: 57 | S74: 60 | T74: 0 | U74: 60 | V74: =I74*0.1+L74*0.75+O74*0.05+R74*0.05+U74*0.05 -> 77.451 | W74: 70 | X74: 69 | Y74: 是 | Z74: 93 | AA74: 体测成绩不合格
A75: 化学化工学院 | B75: 化学（师范） | C75: 2025 | D75: 化师252 | E75: 2508110388 | F75: 申璇 | G75: 84.79 | H75: 2.75 | I75: =SUM(G75+H75) -> 87.54 | J75: 78.45 | K75: 0 | L75: 78.45 | M75: 74.95 | N75: 0 | O75: 74.95 | P75: 57 | Q75: 0 | R75: 57 | S75: 60 | T75: 5 | U75: 65 | V75: =I75*0.1+L75*0.75+O75*0.05+R75*0.05+U75*0.05 -> 77.439 | W75: 71 | X75: 71 | Y75: 否 | Z75: 93
A76: 化学化工学院 | B76: 化学（师范） | C76: 2025 | D76: 化师253 | E76: 2508110430 | F76: 盖尊泽 | G76: 85.05 | H76: 6.25 | I76: =G76+H76 -> 91.3 | J76: =VLOOKUP(F76,[1]工作表1!A:W,23,0) -> 76.38 | K76: 1 | L76: =J76+K76 -> 77.38 | M76: 74.1 | N76: 0 | O76: =M76+N76 -> 74.1 | P76: 57.6 | Q76: 0 | R76: =SUM(P76:Q76) -> 57.6 | S76: 60 | T76: 10 | U76: =SUM(S76:T76) -> 70 | V76: =I76*0.1+L76*0.75+O76*0.05+R76*0.05+U76*0.05 -> 77.25 | W76: 72 | X76: 77 | Y76: 否 | Z76: 93
A77: 化学化工学院 | B77: 化学（师范） | C77: 2025 | D77: 化师252 | E77: 2508110375 | F77: 王明月 | G77: 86.41 | H77: 2.75 | I77: =SUM(G77+H77) -> 89.16 | J77: 81.44 | K77: 1 | L77: 82.44 | M77: 68.9 | N77: 0 | O77: 68.9 | P77: 11.4 | Q77: 0 | R77: 11.4 | S77: 45 | T77: 0 | U77: 45 | V77: =I77*0.1+L77*0.75+O77*0.05+R77*0.05+U77*0.05 -> 77.011 | W77: 73 | X77: 58 | Y77: 是 | Z77: 93 | AA77: 课程考核不合格
A78: 化学化工学院 | B78: 化学（师范） | C78: 2025 | D78: 化师251 | E78: 2508110370 | F78: 黄科铭 | G78: 84.25 | H78: 2 | I78: 86.25 | J78: 77.21 | K78: 0 | L78: 77.21 | M78: 73.55 | N78: 0 | O78: 73.55 | P78: 57.2 | Q78: 0.5 | R78: 57.7 | S78: 60 | T78: 7.5 | U78: 67.5 | V78: 76.47 | W78: 74 | X78: 75 | Y78: 否 | Z78: 93
A79: 化学化工学院 | B79: 化学（师范） | C79: 2025 | D79: 化师252 | E79: 2508110396 | F79: 张航瑞 | G79: 86.27 | H79: 2 | I79: =SUM(G79+H79) -> 88.27 | J79: 80.17 | K79: 1 | L79: 81.17 | M79: 76.35 | N79: 0 | O79: 76.35 | P79: 11.4 | Q79: 0 | R79: 11.4 | S79: 45 | T79: 0 | U79: 45 | V79: =I79*0.1+L79*0.75+O79*0.05+R79*0.05+U79*0.05 -> 76.342 | W79: 75 | X79: 65 | Y79: 否 | Z79: 93
A80: 化学化工学院 | B80: 化学（师范） | C80: 2025 | D80: 化师251 | E80: 2508110367 | F80: 洪智楷 | G80: 85.43 | H80: 2.5 | I80: 87.93 | J80: 76.36 | K80: 0 | L80: 76.36 | M80: 78.05 | N80: 0 | O80: 78.05 | P80: 57.2 | Q80: 0 | R80: 57.2 | S80: 60 | T80: 3.5 | U80: 63.5 | V80: 76 | W80: 76 | X80: 78 | Y80: 是 | Z80: 93 | AA80: 课程考核不合格
A81: 化学化工学院 | B81: 化学（师范） | C81: 2025 | D81: 化师251 | E81: 2508110354 | F81: 薄妍 | G81: 86.52 | H81: 3.75 | I81: 90.27 | J81: 76.89 | K81: 1 | L81: 77.89 | M81: 79.95 | N81: 0 | O81: 79.95 | P81: 45.6 | Q81: 0 | R81: 45.6 | S81: 45 | T81: 0 | U81: 45 | V81: 75.97 | W81: 77 | X81: 76 | Y81: 是 | Z81: 93 | AA81: 课程考核不合格
A82: 化学化工学院 | B82: 化学（师范） | C82: 2025 | D82: 化师252 | E82: 2509110292 | F82: 王妍 | G82: 85.88 | H82: 2 | I82: =SUM(G82+H82) -> 87.88 | J82: 75.76 | K82: 0 | L82: 75.76 | M82: 75.65 | N82: 0 | O82: 75.65 | P82: 57.6 | Q82: 3.11 | R82: 60.71 | S82: 60 | T82: 9.1 | U82: 69.1 | V82: =I82*0.1+L82*0.75+O82*0.05+R82*0.05+U82*0.05 -> 75.881 | W82: 78 | X82: 80 | Y82: 是 | Z82: 93 | AA82: 课程考核不合格
A83: 化学化工学院 | B83: 化学（师范） | C83: 2025 | D83: 化师252 | E83: 2508110372 | F83: 顾芳菲 | G83: 85.78 | H83: 2.5 | I83: =SUM(G83+H83) -> 88.28 | J83: 76 | K83: 0 | L83: 76 | M83: 76.8 | N83: 0 | O83: 76.8 | P83: 57 | Q83: 0.2 | R83: 57.2 | S83: 45 | T83: 0 | U83: 45 | V83: =I83*0.1+L83*0.75+O83*0.05+R83*0.05+U83*0.05 -> 74.778 | W83: 79 | X83: 79 | Y83: 是 | Z83: 93 | AA83: 课程考核不合格
A84: 化学化工学院 | B84: 化学（师范） | C84: 2025 | D84: 化师253 | E84: 2508110429 | F84: 王远文 | G84: 87 | H84: 2.25 | I84: =G84+H84 -> 89.25 | J84: =VLOOKUP(F84,[1]工作表1!A:W,23,0) -> 77.76 | K84: 1 | L84: =J84+K84 -> 78.76 | M84: 73.65 | N84: 0 | O84: =M84+N84 -> 73.65 | P84: 11.4 | Q84: 0 | R84: =SUM(P84:Q84) -> 11.4 | S84: 45 | T84: 0 | U84: =SUM(S84:T84) -> 45 | V84: =I84*0.1+L84*0.75+O84*0.05+R84*0.05+U84*0.05 -> 74.4975 | W84: 80 | X84: 74 | Y84: 是 | Z84: 93 | AA84: 课程考核不合格
A85: 化学化工学院 | B85: 化学（师范） | C85: 2025 | D85: 化师252 | E85: 2508110395 | F85: 袁一凡 | G85: 84.39 | H85: 2.5 | I85: =SUM(G85+H85) -> 86.89 | J85: 75.48 | K85: 1 | L85: 76.48 | M85: 67.7 | N85: 0 | O85: 67.7 | P85: 34.2 | Q85: 0 | R85: 34.2 | S85: 60 | T85: 0 | U85: 60 | V85: =I85*0.1+L85*0.75+O85*0.05+R85*0.05+U85*0.05 -> 74.144 | W85: 81 | X85: 81 | Y85: 是 | Z85: 93 | AA85: 课程考核不合格
A86: 化学化工学院 | B86: 化学（师范） | C86: 2025 | D86: 化师251 | E86: 2508110343 | F86: 夏海洋 | G86: 90.38 | H86: 0 | I86: =G86+H86 -> 90.38 | J86: 70.01 | K86: 1 | L86: =J86+K86 -> 71.01 | M86: 85.05 | N86: 0 | O86: =M86+N86 -> 85.05 | P86: 57.2 | Q86: 0 | R86: =P86+Q86 -> 57.2 | S86: 65.96 | T86: 0 | U86: =S86+T86 -> 65.96 | V86: =I86*0.1+L86*0.75+O86*0.05+R86*0.05+U86*0.05 -> 72.706 | W86: 82 | X86: 88 | Y86: 是 | Z86: 93 | AA86: 课程考核不合格
A87: 化学化工学院 | B87: 化学（师范） | C87: 2025 | D87: 化师252 | E87: 2508110398 | F87: 程嘉毅 | G87: 85.16 | H87: 2 | I87: =SUM(G87+H87) -> 87.16 | J87: 72.68 | K87: 0 | L87: 72.68 | M87: 69.35 | N87: 0 | O87: 69.35 | P87: 45.6 | Q87: 0 | R87: 45.6 | S87: 60 | T87: 10 | U87: 70 | V87: =I87*0.1+L87*0.75+O87*0.05+R87*0.05+U87*0.05 -> 72.4735 | W87: 83 | X87: 82 | Y87: 是 | Z87: 93 | AA87: 课程考核不合格
A88: 化学化工学院 | B88: 化学（师范） | C88: 2025 | D88: 化师253 | E88: 2508110424 | F88: 韩子秋 | G88: 85.9 | H88: 3.75 | I88: =G88+H88 -> 89.65 | J88: =VLOOKUP(F88,[1]工作表1!A:W,23,0) -> 70.26 | K88: 1 | L88: =J88+K88 -> 71.26 | M88: 69.05 | N88: 0 | O88: =M88+N88 -> 69.05 | P88: 45.6 | Q88: 0 | R88: =SUM(P88:Q88) -> 45.6 | S88: 60 | T88: 2 | U88: =SUM(S88:T88) -> 62 | V88: =I88*0.1+L88*0.75+O88*0.05+R88*0.05+U88*0.05 -> 71.2425 | W88: 84 | X88: 87 | Y88: 是 | Z88: 93 | AA88: 课程考核不合格
A89: 化学化工学院 | B89: 化学（师范） | C89: 2025 | D89: 化师252 | E89: 2508110399 | F89: 刘奕可 | G89: 85.16 | H89: 2 | I89: =SUM(G89+H89) -> 87.16 | J89: 72.33 | K89: 1 | L89: 73.33 | M89: 57.65 | N89: 0 | O89: 57.65 | P89: 22.8 | Q89: 0 | R89: 22.8 | S89: 45 | T89: 0 | U89: 45 | V89: =I89*0.1+L89*0.75+O89*0.05+R89*0.05+U89*0.05 -> 69.986 | W89: 85 | X89: 84 | Y89: 是 | Z89: 93 | AA89: 课程考核不合格
A90: 化学化工学院 | B90: 化学（师范） | C90: 2025 | D90: 化师251 | E90: 2508110366 | F90: 袁宇晨 | G90: 85.55 | H90: 2 | I90: 87.55 | J90: 69.34 | K90: 0 | L90: 69.34 | M90: 74.9 | N90: 0 | O90: 74.9 | P90: 57 | Q90: 0 | R90: 57 | S90: 45 | T90: 0 | U90: 45 | V90: 69.61 | W90: 86 | X90: 90 | Y90: 是 | Z90: 93 | AA90: 课程考核不合格
A91: 化学化工学院 | B91: 化学（师范） | C91: 2025 | D91: 化师252 | E91: 2508110376 | F91: 王馨钰 | G91: 86.86 | H91: 2.5 | I91: =SUM(G91+H91) -> 89.36 | J91: 70.47 | K91: 0 | L91: 70.47 | M91: 63.95 | N91: 0 | O91: 63.95 | P91: 11.4 | Q91: 0 | R91: 11.4 | S91: 60 | T91: 10 | U91: 70 | V91: =I91*0.1+L91*0.75+O91*0.05+R91*0.05+U91*0.05 -> 69.056 | W91: 87 | X91: 86 | Y91: 是 | Z91: 93 | AA91: 课程考核不合格
A92: 化学化工学院 | B92: 化学（师范） | C92: 2025 | D92: 化师251 | E92: 2508110368 | F92: 程子涵 | G92: 83.42 | H92: 2 | I92: 85.42 | J92: 72.63 | K92: 0 | L92: 72.63 | M92: 61.5 | N92: 0 | O92: 61.5 | P92: 11.4 | Q92: 0 | R92: 11.4 | S92: 45 | T92: 0 | U92: 45 | V92: 68.91 | W92: 88 | X92: 83 | Y92: 是 | Z92: 93 | AA92: 课程考核不合格
A93: 化学化工学院 | B93: 化学（师范） | C93: 2025 | D93: 化师253 | E93: 2508110421 | F93: 宋明轩 | G93: 85.14 | H93: 2.25 | I93: =G93+H93 -> 87.39 | J93: =VLOOKUP(F93,[1]工作表1!A:W,23,0) -> 71.39 | K93: 0 | L93: =J93+K93 -> 71.39 | M93: 66.7 | N93: 0 | O93: =M93+N93 -> 66.7 | P93: 0 | Q93: 0 | R93: =SUM(P93:Q93) -> 0 | S93: 60 | T93: 1.045 | U93: =SUM(S93:T93) -> 61.045 | V93: =I93*0.1+L93*0.75+O93*0.05+R93*0.05+U93*0.05 -> 68.66875 | W93: 89 | X93: 85 | Y93: 是 | Z93: 93 | AA93: 课程考核不合格
A94: 化学化工学院 | B94: 化学（师范） | C94: 2025 | D94: 化师252 | E94: 2508110400 | F94: 孟维然 | G94: 83.2 | H94: 2 | I94: =SUM(G94+H94) -> 85.2 | J94: 69.02 | K94: 0 | L94: 69.02 | M94: 69.25 | N94: 0 | O94: 69.25 | P94: 22.8 | Q94: 0 | R94: 22.8 | S94: 45 | T94: 0 | U94: 45 | V94: =I94*0.1+L94*0.75+O94*0.05+R94*0.05+U94*0.05 -> 67.1375 | W94: 90 | X94: 91 | Y94: 是 | Z94: 93 | AA94: 课程考核不合格
A95: 化学化工学院 | B95: 化学（师范） | C95: 2025 | D95: 化师251 | E95: 2508110369 | F95: 刘世宇 | G95: 86.16 | H95: 2 | I95: 88.16 | J95: 69.39 | K95: 0 | L95: 69.39 | M95: 64.8 | N95: 0 | O95: 64.8 | P95: 11.4 | Q95: 0 | R95: 11.4 | S95: 45 | T95: 0 | U95: 45 | V95: 66.92 | W95: 91 | X95: 89 | Y95: 是 | Z95: 93 | AA95: 课程考核不合格
A96: 化学化工学院 | B96: 化学（师范） | C96: 2025 | D96: 化师251 | E96: 2508110351 | F96: 张歆奕 | G96: 86.09 | H96: 2 | I96: 88.09 | J96: 64.75 | K96: 0 | L96: 64.75 | M96: 70.95 | N96: 0 | O96: 70.95 | P96: 57 | Q96: 0 | R96: 57 | S96: 60 | T96: 1.5 | U96: 61.5 | V96: 66.84 | W96: 92 | X96: 92 | Y96: 是 | Z96: 93 | AA96: 课程考核不合格
A97: 化学化工学院 | B97: 化学（师范） | C97: 2025 | D97: 化师252 | E97: 2508110378 | F97: 刘芯羽 | G97: 88.52 | H97: 2 | I97: =SUM(G97+H97) -> 90.52 | J97: 62.06 | K97: 0 | L97: 62.06 | M97: 74.85 | N97: 0 | O97: 74.85 | P97: 45.6 | Q97: 0 | R97: 45.6 | S97: 60 | T97: 10 | U97: 70 | V97: =I97*0.1+L97*0.75+O97*0.05+R97*0.05+U97*0.05 -> 65.1195 | W97: 93 | X97: 93 | Y97: 是 | Z97: 93 | AA97: 课程考核不合格
A99: 填表说明： | B99: 1.请勿变动表格格式。
B100: 2.专业、年级、班级、学号、姓名请采用教务信息系统中导出的个人基本信息，勿手工输入，避免产生错误。
B101: 3.德育成绩、智育成绩、体育成绩为百分制。
...

Sheet 新能源25
A1: 附件5：
A2: 化学化工学院新能源材料与器件专业2025年级综合测评排名表
A3: 学院: | C3: （盖章） | X3: 学院分管学生工作领导签名：
A4: 学院 | B4: 专业 | C4: 年级 | D4: 班级 | E4: 学号 | F4: 姓名 | G4: 德育 考评分 | H4: 德育 加减分 | I4: 德育 成绩 | J4: 智育 考试分 | K4: 智育 加减分 | L4: 智育 成绩 | M4: 体育 测评分 | N4: 体育 加减分 | O4: 体育 成绩 | P4: 美育 基础分 | Q4: 美育 奖惩分 | R4: 美育 成绩 | S4: 劳育 基础分 | T4: 劳育 奖惩分 | U4: 劳育 成绩 | V4: 综合 测评分 | W4: 综合测评排名 | X4: 学习成绩排名 | Y4: 是否有不及格课程 | Z4: 专业年级 总人数 | AA4: 奖学金 等级 | AB4: 单项 奖学金 | AC4: 荣誉称号 | AD4: 学生签名
A5: 化学化工学院 | B5: 新能源材料与器件 | C5: 2025 | D5: 新能源254 | E5: 2508110312 | F5: 程静璋 | G5: 86.616 | H5: 14.55 | I5: 100 | J5: 90.13 | K5: 6 | L5: 96.13 | M5: 86.15 | N5: 0 | O5: 86.15 | P5: 60 | Q5: 20 | R5: 80 | S5: 60 | T5: 18.5 | U5: 78.5 | V5: =I5*0.1+L5*0.75+O5*0.05+R5*0.05+U5*0.05 -> 94.33 | W5: 1 | X5: 7 | Y5: 否 | Z5: 122 | AA5: 一等奖学金 | AB5: 文体活动奖 | AC5: 优秀学生干部
A6: 化学化工学院 | B6: 新能源材料与器件 | C6: 2025 | D6: 新能源253 | E6: 2508110283 | F6: 汪佳怡 | G6: 86.05 | H6: 10.15 | I6: 96.1 | J6: 90.33 | K6: 6 | L6: 96.33 | M6: 90.9 | N6: 0 | O6: 90.9 | P6: 60 | Q6: 0 | R6: 60 | S6: 60 | T6: 11 | U6: 71 | V6: =I6*0.1+L6*0.75+O6*0.05+R6*0.05+U6*0.05 -> 92.9525 | W6: 2 | X6: 6 | Y6: 否 | Z6: 122 | AA6: 一等奖学金 | AC6: 优秀学生干部
A7: 化学化工学院 | B7: 新能源材料与器件 | C7: 2025 | D7: 新能源251 | E7: 2508110228 | F7: 钱叙宇 | G7: 84.35 | H7: 3.75 | I7: 88.1 | J7: 92.53 | K7: 3 | L7: 95.53 | M7: 84.45 | N7: 0 | O7: 84.45 | P7: 58.8 | Q7: 0.3 | R7: 59.1 | S7: 60 | T7: 11 | U7: 71 | V7: =I7*0.1+L7*0.75+O7*0.05+R7*0.05+U7*0.05 -> 91.185 | W7: 3 | X7: 2 | Y7: 否 | Z7: 122 | AA7: 一等奖学金 | AC7: 三好学生标兵
A8: 化学化工学院 | B8: 新能源材料与器件 | C8: 2025 | D8: 新能源251 | E8: 2508110227 | F8: 张瑞 | G8: 84.5 | H8: 5.475 | I8: 89.975 | J8: 90.53 | K8: 4 | L8: 94.53 | M8: 88.15 | N8: 0 | O8: 88.15 | P8: 58.6 | Q8: 1 | R8: 59.6 | S8: 60 | T8: 10.5 | U8: 70.5 | V8: =I8*0.1+L8*0.75+O8*0.05+R8*0.05+U8*0.05 -> 90.8075 | W8: 4 | X8: 5 | Y8: 否 | Z8: 122 | AA8: 一等奖学金 | AC8: 三好学生
A9: 化学化工学院 | B9: 新能源材料与器件 | C9: 2025 | D9: 新能源253 | E9: 2508110281 | F9: 夏春芳 | G9: 86.975 | H9: 7.85 | I9: 94.825 | J9: 87.93 | K9: 5.5 | L9: 93.43 | M9: 86.2 | N9: 0 | O9: 86.2 | P9: 59 | Q9: 0 | R9: 59 | S9: 60 | T9: 10 | U9: 70 | V9: =I9*0.1+L9*0.75+O9*0.05+R9*0.05+U9*0.05 -> 90.315 | W9: 5 | X9: 16 | Y9: 否 | Z9: 122 | AA9: 一等奖学金
A10: 化学化工学院 | B10: 新能源材料与器件 | C10: 2025 | D10: 新能源251 | E10: 2508110230 | F10: 王泽群 | G10: 83.8 | H10: 4.5 | I10: 88.3 | J10: 93.24 | K10: 1 | L10: 94.24 | M10: 79.5 | N10: 0 | O10: 79.5 | P10: 57.6 | Q10: 0 | R10: 57.6 | S10: 60 | T10: 11 | U10: 71 | V10: =I10*0.1+L10*0.75+O10*0.05+R10*0.05+U10*0.05 -> 89.915 | W10: 6 | X10: 1 | Y10: 否 | Z10: 122 | AA10: 一等奖学金 | AC10: 三好学生标兵
A11: 化学化工学院 | B11: 新能源材料与器件 | C11: 2025 | D11: 新能源253 | E11: 2508110285 | F11: 桑一帆 | G11: 86.4 | H11: 10.35 | I11: 96.75 | J11: 88.42 | K11: 3 | L11: 91.42 | M11: 94.5 | N11: 1.75 | O11: 96.25 | P11: 59.2 | Q11: 0 | R11: 59.2 | S11: 60 | T11: 10.5 | U11: 70.5 | V11: =I11*0.1+L11*0.75+O11*0.05+R11*0.05+U11*0.05 -> 89.5375 | W11: 7 | X11: 14 | Y11: 否 | Z11: 122 | AA11: 二等奖学金 | AB11: 文体活动奖
A12: 化学化工学院 | B12: 新能源材料与器件 | C12: 2025 | D12: 新能源254 | E12: 2508110315 | F12: 密丝语 | G12: 86.696 | H12: 9.25 | I12: 95.946 | J12: 90.13 | K12: 1 | L12: 91.13 | M12: 87.9 | N12: 0 | O12: 87.9 | P12: 57.4 | Q12: 2 | R12: 59.4 | S12: 60 | T12: 11 | U12: 71 | V12: =I12*0.1+L12*0.75+O12*0.05+R12*0.05+U12*0.05 -> 88.8571 | W12: 8 | X12: 7 | Y12: 否 | Z12: 122 | AA12: 二等奖学金 | AC12: 三好学生
A13: 化学化工学院 | B13: 新能源材料与器件 | C13: 2025 | D13: 新能源251 | E13: 2508110240 | F13: 蔡兴亮 | G13: 85.45 | H13: 3 | I13: 88.45 | J13: 90.8 | K13: 1 | L13: 91.8 | M13: 74.4 | N13: 0 | O13: 74.4 | P13: 57 | Q13: 1.8 | R13: 58.8 | S13: 60 | T13: 10.5 | U13: 70.5 | V13: =I13*0.1+L13*0.75+O13*0.05+R13*0.05+U13*0.05 -> 87.88 | W13: 9 | X13: 4 | Y13: 否 | Z13: 122 | AA13: 二等奖学金 | AC13: 三好学生
A14: 化学化工学院 | B14: 新能源材料与器件 | C14: 2025 | D14: 新能源253 | E14: 2508110309 | F14: 刘世坤 | G14: 86.28 | H14: 3.5 | I14: 89.78 | J14: 90.91 | K14: 1 | L14: 91.91 | M14: 80.6 | N14: 0 | O14: 80.6 | P14: 57.2 | Q14: 0 | R14: 57.2 | S14: 60 | T14: 0.5 | U14: 60.5 | V14: =I14*0.1+L14*0.75+O14*0.05+R14*0.05+U14*0.05 -> 87.8255 | W14: 10 | X14: 3 | Y14: 否 | Z14: 122 | AA14: 二等奖学金 | AC14: 三好学生
A15: 化学化工学院 | B15: 新能源材料与器件 | C15: 2025 | D15: 新能源252 | E15: 2508110251 | F15: 高雨涵 | G15: 86.55 | H15: 3.5 | I15: 90.05 | J15: 89.29 | K15: 1.5 | L15: 90.79 | M15: 82 | N15: 0 | O15: 82 | P15: 57.2 | Q15: 0 | R15: 57.2 | S15: 60 | T15: 5 | U15: 65 | V15: =I15*0.1+L15*0.75+O15*0.05+R15*0.05+U15*0.05 -> 87.3075 | W15: 11 | X15: 11 | Y15: 否 | Z15: 122 | AA15: 二等奖学金 | AC15: 三好学生
A16: 化学化工学院 | B16: 新能源材料与器件 | C16: 2025 | D16: 新能源252 | E16: 2421110150 | F16: 赵园杰 | G16: 86.88 | H16: 3 | I16: 89.88 | J16: 86 | K16: 4 | L16: 90 | M16: 81.25 | N16: 0 | O16: 81.25 | P16: 58.6 | Q16: 0 | R16: 58.6 | S16: 60 | T16: 11 | U16: 71 | V16: =I16*0.1+L16*0.75+O16*0.05+R16*0.05+U16*0.05 -> 87.0305 | W16: 12 | X16: 28 | Y16: 否 | Z16: 122 | AA16: 二等奖学金
A17: 化学化工学院 | B17: 新能源材料与器件 | C17: 2025 | D17: 新能源251 | E17: 2508110222 | F17: 吕后彤 | G17: 85.98 | H17: 4.07 | I17: 90.05 | J17: 88.51 | K17: 1.5 | L17: 90.01 | M17: 81.45 | N17: 0 | O17: 81.45 | P17: 57.4 | Q17: 0 | R17: 57.4 | S17: 60 | T17: 7.25 | U17: 67.25 | V17: =I17*0.1+L17*0.75+O17*0.05+R17*0.05+U17*0.05 -> 86.8175 | W17: 13 | X17: 12 | Y17: 否 | Z17: 122 | AA17: 二等奖学金 | AC17: 三好学生
A18: 化学化工学院 | B18: 新能源材料与器件 | C18: 2025 | D18: 新能源254 | E18: 2508110313 | F18: 李怡 | G18: 86.8 | H18: 6.45 | I18: 93.25 | J18: 87.51 | K18: 1 | L18: 88.51 | M18: 85.575 | N18: 0 | O18: 85.575 | P18: 60 | Q18: 2 | R18: 62 | S18: 60 | T18: 12.5 | U18: 72.5 | V18: =I18*0.1+L18*0.75+O18*0.05+R18*0.05+U18*0.05 -> 86.71125 | W18: 14 | X18: 17 | Y18: 否 | Z18: 122 | AA18: 二等奖学金
A19: 化学化工学院 | B19: 新能源材料与器件 | C19: 2025 | D19: 新能源252 | E19: 2508110254 | F19: 顾莉莎 | G19: 85.96 | H19: 4.75 | I19: 90.71 | J19: 88.49 | K19: 1 | L19: 89.49 | M19: 74.75 | N19: 0 | O19: 74.75 | P19: 60 | Q19: 0 | R19: 60 | S19: 60 | T19: 11.9 | U19: 71.9 | V19: =I19*0.1+L19*0.75+O19*0.05+R19*0.05+U19*0.05 -> 86.521 | W19: 15 | X19: 13 | Y19: 否 | Z19: 122 | AA19: 二等奖学金
A20: 化学化工学院 | B20: 新能源材料与器件 | C20: 2025 | D20: 新能源252 | E20: 2508110274 | F20: 廖裕彬 | G20: 86.58 | H20: 4.65 | I20: 91.23 | J20: 88.33 | K20: 1 | L20: 89.33 | M20: 75.7 | N20: 0 | O20: 75.7 | P20: 57.2 | Q20: 2 | R20: 59.2 | S20: 60 | T20: 10 | U20: 70 | V20: =I20*0.1+L20*0.75+O20*0.05+R20*0.05+U20*0.05 -> 86.3655 | W20: 16 | X20: 15 | Y20: 否 | Z20: 122 | AA20: 二等奖学金
A21: 化学化工学院 | B21: 新能源材料与器件 | C21: 2025 | D21: 新能源254 | E21: 2508110316 | F21: 张美华 | G21: 86.856 | H21: 6.75 | I21: 93.606 | J21: 86.29 | K21: 1 | L21: 87.29 | M21: 83.3 | N21: 0 | O21: 83.3 | P21: 57.6 | Q21: 3 | R21: 60.6 | S21: 60 | T21: 16 | U21: 76 | V21: =I21*0.1+L21*0.75+O21*0.05+R21*0.05+U21*0.05 -> 85.8231 | W21: 17 | X21: 25 | Y21: 否 | Z21: 122 | AA21: 二等奖学金
A22: 化学化工学院 | B22: 新能源材料与器件 | C22: 2025 | D22: 新能源253 | E22: 2508110306 | F22: 魏小峰 | G22: 84.03 | H22: 9 | I22: 93.03 | J22: 87.36 | K22: 1 | L22: 88.36 | M22: 75.05 | N22: 0 | O22: 75.05 | P22: 59.2 | Q22: 0 | R22: 59.2 | S22: 60 | T22: 10 | U22: 70 | V22: =I22*0.1+L22*0.75+O22*0.05+R22*0.05+U22*0.05 -> 85.7855 | W22: 18 | X22: 18 | Y22: 否 | Z22: 122 | AA22: 二等奖学金
A23: 化学化工学院 | B23: 新能源材料与器件 | C23: 2025 | D23: 新能源251 | E23: 2508110174 | F23: 吴旭旺 | G23: 84.67 | H23: 6.1 | I23: 90.77 | J23: 86.12 | K23: 1 | L23: 87.12 | M23: 97.15 | N23: 1 | O23: 98.15 | P23: 57.6 | Q23: 0.6 | R23: 58.2 | S23: 60 | T23: 7.5 | U23: 67.5 | V23: =I23*0.1+L23*0.75+O23*0.05+R23*0.05+U23*0.05 -> 85.6095 | W23: 19 | X23: 27 | Y23: 否 | Z23: 122 | AA23: 三等奖学金
A24: 化学化工学院 | B24: 新能源材料与器件 | C24: 2025 | D24: 新能源251 | E24: 2508110224 | F24: 秦思怡 | G24: 86.45 | H24: 2 | I24: 88.45 | J24: 85.22 | K24: 3 | L24: 88.22 | M24: 82.25 | N24: 0 | O24: 82.25 | P24: 58.2 | Q24: 0 | R24: 58.2 | S24: 60 | T24: 11 | U24: 71 | V24: =I24*0.1+L24*0.75+O24*0.05+R24*0.05+U24*0.05 -> 85.5825 | W24: 20 | X24: 31 | Y24: 是 | Z24: 122 | AA24: 课程考核不合格
A25: 化学化工学院 | B25: 新能源材料与器件 | C25: 2025 | D25: 新能源251 | E25: 2508110223 | F25: 王舒雅 | G25: 86.05 | H25: 4.03 | I25: 90.08 | J25: 85.11 | K25: 3 | L25: 88.11 | M25: 77.05 | N25: 0 | O25: 77.05 | P25: 57 | Q25: 0 | R25: 57 | S25: 60 | T25: 10 | U25: 70 | V25: =I25*0.1+L25*0.75+O25*0.05+R25*0.05+U25*0.05 -> 85.293 | W25: 21 | X25: 32 | Y25: 是 | Z25: 122 | AA25: 课程考核不合格
A26: 化学化工学院 | B26: 新能源材料与器件 | C26: 2025 | D26: 新能源254 | E26: 2508110314 | F26: 姚相如 | G26: 86.488 | H26: 8.25 | I26: 94.738 | J26: 85.04 | K26: 1 | L26: 86.04 | M26: 84.75 | N26: 0 | O26: 84.75 | P26: 58.4 | Q26: 2 | R26: 60.4 | S26: 60 | T26: 11 | U26: 71 | V26: =I26*0.1+L26*0.75+O26*0.05+R26*0.05+U26*0.05 -> 84.8113 | W26: 22 | X26: 33 | Y26: 是 | Z26: 122 | AA26: 课程考核不合格
A27: 化学化工学院 | B27: 新能源材料与器件 | C27: 2025 | D27: 新能源252 | E27: 2515110302 | F27: 崔裕顺 | G27: 86.96 | H27: 11 | I27: 97.96 | J27: 84.55 | K27: 1 | L27: 85.55 | M27: 84.625 | N27: 0 | O27: 84.625 | P27: 58.6 | Q27: 0 | R27: 58.6 | S27: 60 | T27: 10 | U27: 70 | V27: =I27*0.1+L27*0.75+O27*0.05+R27*0.05+U27*0.05 -> 84.61975 | W27: 23 | X27: 35 | Y27: 否 | Z27: 122 | AA27: 三等奖学金
A28: 化学化工学院 | B28: 新能源材料与器件 | C28: 2025 | D28: 新能源253 | E28: 2508110300 | F28: 曹欣宜 | G28: 85.68 | H28: 3.65 | I28: 89.33 | J28: 85.4 | K28: 1 | L28: 86.4 | M28: 78.9 | N28: 0 | O28: 78.9 | P28: 59.4 | Q28: 0 | R28: 59.4 | S28: 60 | T28: 13 | U28: 73 | V28: =I28*0.1+L28*0.75+O28*0.05+R28*0.05+U28*0.05 -> 84.298 | W28: 24 | X28: 30 | Y28: 否 | Z28: 122 | AA28: 三等奖学金
A29: 化学化工学院 | B29: 新能源材料与器件 | C29: 2025 | D29: 新能源253 | E29: 2508110284 | F29: 项欣缘 | G29: 86.25 | H29: 4 | I29: 90.25 | J29: 86.36 | K29: 0 | L29: 86.36 | M29: 75.8 | N29: 0 | O29: 75.8 | P29: 60 | Q29: 0 | R29: 60 | S29: 60 | T29: 13 | U29: 73 | V29: =I29*0.1+L29*0.75+O29*0.05+R29*0.05+U29*0.05 -> 84.235 | W29: 25 | X29: 24 | Y29: 否 | Z29: 122 | AA29: 三等奖学金
... A59: 化学化工学院 | B59: 新能源材料与器件 | C59: 2025 | D59: 新能源253 | E59: 2421110210 | F59: 赵垣清 | G59: 86.87 | H59: 2 | I59: 88.87 | J59: 80.91 | K59: 0 | L59: 80.91 | M59: 69.35 | N59: 0 | O59: 69.35 | P59: 60 | Q59: 0 | R59: 60 | S59: 60 | T59: 6.5 | U59: 66.5 | V59: =I59*0.1+L59*0.75+O59*0.05+R59*0.05+U59*0.05 -> 79.362 | W59: 55 | X59: 72 | Y59: 是 | Z59: 122 | AA59: 课程考核不合格
A60: 化学化工学院 | B60: 新能源材料与器件 | C60: 2025 | D60: 新能源251 | E60: 2508110236 | F60: 尉曹雨轩 | G60: 85.45 | H60: 3.75 | I60: 89.2 | J60: 79.76 | K60: 1 | L60: 80.76 | M60: 65.45 | N60: 0 | O60: 65.45 | P60: 57 | Q60: 0.6 | R60: 57.6 | S60: 60 | T60: 11 | U60: 71 | V60: =I60*0.1+L60*0.75+O60*0.05+R60*0.05+U60*0.05 -> 79.1925 | W60: 56 | X60: 68 | Y60: 否 | Z60: 122
A61: 化学化工学院 | B61: 新能源材料与器件 | C61: 2025 | D61: 新能源252 | E61: 2508110257 | F61: 梁兴智 | G61: 86.01 | H61: 2 | I61: 88.01 | J61: 82.04 | K61: 0 | L61: 82.04 | M61: 74.65 | N61: 0 | O61: 74.65 | P61: 57.2 | Q61: 0 | R61: 57.2 | S61: 45 | T61: 0 | U61: 45 | V61: =I61*0.1+L61*0.75+O61*0.05+R61*0.05+U61*0.05 -> 79.1735 | W61: 57 | X61: 54 | Y61: 否 | Z61: 122
A62: 化学化工学院 | B62: 新能源材料与器件 | C62: 2025 | D62: 新能源252 | E62: 2508110261 | F62: 徐远航 | G62: 86.25 | H62: 2 | I62: 88.25 | J62: 82.98 | K62: 1 | L62: 83.98 | M62: 74.3 | N62: 0 | O62: 74.3 | P62: 22.8 | Q62: 0 | R62: 22.8 | S62: 45 | T62: 0.5 | U62: 45.5 | V62: =I62*0.1+L62*0.75+O62*0.05+R62*0.05+U62*0.05 -> 78.94 | W62: 58 | X62: 51 | Y62: 否 | Z62: 122
A63: 化学化工学院 | B63: 新能源材料与器件 | C63: 2025 | D63: 新能源251 | E63: 2508110221 | F63: 洪熙顺 | G63: 85.8 | H63: 4.07 | I63: 89.87 | J63: 78.31 | K63: 1 | L63: 79.31 | M63: 74.5 | N63: 0 | O63: 74.5 | P63: 58 | Q63: 0 | R63: 58 | S63: 60 | T63: 10 | U63: 70 | V63: =I63*0.1+L63*0.75+O63*0.05+R63*0.05+U63*0.05 -> 78.5945 | W63: 59 | X63: 79 | Y63: 是 | Z63: 122 | AA63: 课程考核不合格
A64: 化学化工学院 | B64: 新能源材料与器件 | C64: 2025 | D64: 新能源252 | E64: 2508110272 | F64: 王禹凡 | G64: 86.26 | H64: 2 | I64: 88.26 | J64: 80.52 | K64: 1 | L64: 81.52 | M64: 75.05 | N64: 0 | O64: 75.05 | P64: 34.2 | Q64: 0 | R64: 34.2 | S64: 60 | T64: 1.5 | U64: 61.5 | V64: =I64*0.1+L64*0.75+O64*0.05+R64*0.05+U64*0.05 -> 78.5035 | W64: 60 | X64: 67 | Y64: 否 | Z64: 122
A65: 化学化工学院 | B65: 新能源材料与器件 | C65: 2025 | D65: 新能源253 | E65: 2508110295 | F65: 吴一凡 | G65: 84.65 | H65: 2 | I65: 86.65 | J65: 81.29 | K65: 0 | L65: 81.29 | M65: 70.75 | N65: 0 | O65: 70.75 | P65: 57 | Q65: 0 | R65: 57 | S65: 45 | T65: 0 | U65: 45 | V65: =I65*0.1+L65*0.75+O65*0.05+R65*0.05+U65*0.05 -> 78.27 | W65: 61 | X65: 57 | Y65: 否 | Z65: 122
A66: 化学化工学院 | B66: 新能源材料与器件 | C66: 222 | D66: 新能源253 | E66: 2508110286 | F66: 龙金凤 | G66: 86.38 | H66: 2.75 | I66: 89.13 | J66: 78.09 | K66: 1 | L66: 79.09 | M66: 78.05 | N66: 0 | O66: 78.05 | P66: 57.8 | Q66: 0 | R66: 57.8 | S66: 60 | T66: 1.5 | U66: 61.5 | V66: =I66*0.1+L66*0.75+O66*0.05+R66*0.05+U66*0.05 -> 78.098 | W66: 62 | X66: 81 | Y66: 是 | Z66: 122 | AA66: 课程考核不合格
A67: 化学化工学院 | B67: 新能源材料与器件 | C67: 2025 | D67: 新能源252 | E67: 2508110258 | F67: 丁强 | G67: 86.03 | H67: 2 | I67: 88.03 | J67: 78.29 | K67: 1 | L67: 79.29 | M67: 94.5 | N67: 0 | O67: 94.5 | P67: 57 | Q67: 0 | R67: 57 | S67: 45 | T67: 0 | U67: 45 | V67: =I67*0.1+L67*0.75+O67*0.05+R67*0.05+U67*0.05 -> 78.0955 | W67: 63 | X67: 80 | Y67: 是 | Z67: 122 | AA67: 课程考核不合格
A68: 化学化工学院 | B68: 新能源材料与器件 | C68: 2025 | D68: 新能源254 | E68: 2508110331 | F68: 戴璐阳 | G68: 83.07 | H68: 3 | I68: 86.07 | J68: 78.04 | K68: 1 | L68: 79.04 | M68: 69 | N68: 0 | O68: 69 | P68: 57.2 | Q68: 0 | R68: 57.2 | S68: 60 | T68: 11.5 | U68: 71.5 | V68: =I68*0.1+L68*0.75+O68*0.05+R68*0.05+U68*0.05 -> 77.772 | W68: 64 | X68: 83 | Y68: 是 | Z68: 122 | AA68: 课程考核不合格
A69: 化学化工学院 | B69: 新能源材料与器件 | C69: 2025 | D69: 新能源254 | E69: 2521110190 | F69: 郭章彤 | G69: 83.68 | H69: 2.75 | I69: 86.43 | J69: 80.16 | K69: 1 | L69: 81.16 | M69: 65 | N69: 0 | O69: 65 | P69: 34.2 | Q69: 0 | R69: 34.2 | S69: 60 | T69: 0.5 | U69: 60.5 | V69: =I69*0.1+L69*0.75+O69*0.05+R69*0.05+U69*0.05 -> 77.498 | W69: 65 | X69: 70 | Y69: 是 | Z69: 122 | AA69: 课程考核不合格
A70: 化学化工学院 | B70: 新能源材料与器件 | C70: 2025 | D70: 新能源254 | E70: 2508110321 | F70: 李宗羲 | G70: 85.67 | H70: 3.15 | I70: 88.82 | J70: 77.02 | K70: 1 | L70: 78.02 | M70: 73.75 | N70: 0 | O70: 73.75 | P70: 57.4 | Q70: 0.8 | R70: 58.2 | S70: 60 | T70: 9 | U70: 69 | V70: =I70*0.1+L70*0.75+O70*0.05+R70*0.05+U70*0.05 -> 77.4445 | W70: 66 | X70: 90 | Y70: 否 | Z70: 122
A71: 化学化工学院 | B71: 新能源材料与器件 | C71: 2025 | D71: 新能源253 | E71: 2508110297 | F71: 杨淦阳 | G71: 86.35 | H71: 2 | I71: 88.35 | J71: 77.16 | K71: 1 | L71: 78.16 | M71: 77.4 | N71: 0 | O71: 77.4 | P71: 57.4 | Q71: 0 | R71: 57.4 | S71: 60 | T71: 4.5 | U71: 64.5 | V71: =I71*0.1+L71*0.75+O71*0.05+R71*0.05+U71*0.05 -> 77.42 | W71: 67 | X71: 89 | Y71: 是 | Z71: 122 | AA71: 课程考核不合格
A72: 化学化工学院 | B72: 新能源材料与器件 | C72: 2025 | D72: 新能源251 | E72: 2508110247 | F72: 王文博 | G72: 85.14 | H72: 2 | I72: 87.14 | J72: 78 | K72: 0 | L72: 78 | M72: 78.05 | N72: 0 | O72: 78.05 | P72: 58.8 | Q72: 0 | R72: 58.8 | S72: 60 | T72: 1.5 | U72: 61.5 | V72: =I72*0.1+L72*0.75+O72*0.05+R72*0.05+U72*0.05 -> 77.1315 | W72: 68 | X72: 76 | Y72: 否 | Z72: 122
A73: 化学化工学院 | B73: 新能源材料与器件 | C73: 2025 | D73: 新能源254 | E73: 2508110322 | F73: 王佳清 | G73: 86.14 | H73: 3 | I73: 89.14 | J73: 76.51 | K73: 1 | L73: 77.51 | M73: 83.95 | N73: 0 | O73: 83.95 | P73: 45.6 | Q73: 0 | R73: 45.6 | S73: 60 | T73: 10 | U73: 70 | V73: =I73*0.1+L73*0.75+O73*0.05+R73*0.05+U73*0.05 -> 77.024 | W73: 69 | X73: 92 | Y73: 否 | Z73: 122
A74: 化学化工学院 | B74: 新能源材料与器件 | C74: 2025 | D74: 新能源253 | E74: 2508110310 | F74: 况卓昀 | G74: 86.38 | H74: 2 | I74: 88.38 | J74: 79.73 | K74: 1 | L74: 80.73 | M74: 60.4 | N74: 0 | O74: 60.4 | P74: 45.6 | Q74: 0 | R74: 45.6 | S74: 45 | T74: 0 | U74: 45 | V74: =I74*0.1+L74*0.75+O74*0.05+R74*0.05+U74*0.05 -> 76.9355 | W74: 70 | X74: 69 | Y74: 是 | Z74: 122 | AA74: 课程考核不合格
A75: 化学化工学院 | B75: 新能源材料与器件 | C75: 2025 | D75: 新能源251 | E75: 2508110237 | F75: 周航 | G75: 85.71 | H75: 2.75 | I75: 88.46 | J75: 78.67 | K75: 0 | L75: 78.67 | M75: 58.6 | N75: 0 | O75: 58.6 | P75: 57.2 | Q75: 0 | R75: 57.2 | S75: 60 | T75: 3 | U75: 63 | V75: =I75*0.1+L75*0.75+O75*0.05+R75*0.05+U75*0.05 -> 76.7885 | W75: 71 | X75: 75 | Y75: 是 | Z75: 122 | AA75: 课程考核不合格
A76: 化学化工学院 | B76: 新能源材料与器件 | C76: 2025 | D76: 新能源252 | E76: 2508110263 | F76: 陈旺杰 | G76: 85.9 | H76: 2 | I76: 87.9 | J76: 80.84 | K76: 0 | L76: 80.84 | M76: 70.95 | N76: 0 | O76: 70.95 | P76: 22.8 | Q76: 0 | R76: 22.8 | S76: 45 | T76: 0 | U76: 45 | V76: =I76*0.1+L76*0.75+O76*0.05+R76*0.05+U76*0.05 -> 76.3575 | W76: 72 | X76: 59 | Y76: 否 | Z76: 122
A77: 化学化工学院 | B77: 新能源材料与器件 | C77: 2025 | D77: 新能源252 | E77: 2508110271 | F77: 高晨 | G77: 86.41 | H77: 2 | I77: 88.41 | J77: 80.71 | K77: 0 | L77: 80.71 | M77: 60 | N77: 0 | O77: 60 | P77: 34.2 | Q77: 0 | R77: 34.2 | S77: 45 | T77: 0 | U77: 45 | V77: =I77*0.1+L77*0.75+O77*0.05+R77*0.05+U77*0.05 -> 76.3335 | W77: 73 | X77: 61 | Y77: 否 | Z77: 122
A78: 化学化工学院 | B78: 新能源材料与器件 | C78: 2025 | D78: 新能源253 | E78: 2508110203 | F78: 王奕凯 | G78: 84.25 | H78: 2 | I78: 86.25 | J78: 78.72 | K78: 1 | L78: 79.72 | M78: 65 | N78: 0 | O78: 65 | P78: 45.6 | Q78: 0 | R78: 45.6 | S78: 45 | T78: 0 | U78: 45 | V78: =I78*0.1+L78*0.75+O78*0.05+R78*0.05+U78*0.05 -> 76.195 | W78: 74 | X78: 85 | Y78: 是 | Z78: 122 | AA78: 课程考核不合格
A79: 化学化工学院 | B79: 新能源材料与器件 | C79: 2025 | D79: 新能源252 | E79: 2508110273 | F79: 蒋林烜 | G79: 83.77 | H79: 2.075 | I79: 85.845 | J79: 77.69 | K79: 1 | L79: 78.69 | M79: 83.6 | N79: 0 | O79: 83.6 | P79: 22.8 | Q79: 0 | R79: 22.8 | S79: 60 | T79: 4.5 | U79: 64.5 | V79: =I79*0.1+L79*0.75+O79*0.05+R79*0.05+U79*0.05 -> 76.147 | W79: 75 | X79: 86 | Y79: 否 | Z79: 122
A80: 化学化工学院 | B80: 新能源材料与器件 | C80: 2025 | D80: 新能源251 | E80: 2508110241 | F80: 邓文韬 | G80: 68 | H80: 2 | I80: 70 | J80: 83.89 | K80: 0 | L80: 83.89 | M80: 92.15 | N80: 0 | O80: 92.15 | P80: 0 | Q80: 0 | R80: 0 | S80: 30 | T80: 0 | U80: 30 | V80: =I80*0.1+L80*0.75+O80*0.05+R80*0.05+U80*0.05 -> 76.025 | W80: 76 | X80: 40 | Y80: 否 | Z80: 122
A81: 化学化工学院 | B81: 新能源材料与器件 | C81: 2025 | D81: 新能源252 | E81: 2508110275 | F81: 花凌寒 | G81: 86.24 | H81: 2 | I81: 88.24 | J81: 77.29 | K81: 1 | L81: 78.29 | M81: 62.25 | N81: 0 | O81: 62.25 | P81: 57.4 | Q81: 0 | R81: 57.4 | S81: 45 | T81: 0 | U81: 45 | V81: =I81*0.1+L81*0.75+O81*0.05+R81*0.05+U81*0.05 -> 75.774 | W81: 77 | X81: 87 | Y81: 是 | Z81: 122 | AA81: 课程考核不合格
A82: 化学化工学院 | B82: 新能源材料与器件 | C82: 2025 | D82: 新能源251 | E82: 2508110248 | F82: 朱连硕 | G82: 85.7 | H82: 0 | I82: 68 | J82: 80.54 | K82: 0 | L82: 80.54 | M82: 68 | N82: 0 | O82: 68 | P82: 57.2 | Q82: 0 | R82: 57.2 | S82: 45 | T82: 0 | U82: 45 | V82: =I82*0.1+L82*0.75+O82*0.05+R82*0.05+U82*0.05 -> 75.715 | W82: 78 | X82: 65 | Y82: 是 | Z82: 122 | AA82: 课程考核不合格
A83: 化学化工学院 | B83: 新能源材料与器件 | C83: 2025 | D83: 新能源254 | E83: 2508110319 | F83: 汤文豪 | G83: 86.25 | H83: 2 | I83: 88.25 | J83: 78.09 | K83: 1 | L83: 79.09 | M83: 59 | N83: 0 | O83: 59 | P83: 45.6 | Q83: 0 | R83: 45.6 | S83: 45 | T83: 0 | U83: 45 | V83: =I83*0.1+L83*0.75+O83*0.05+R83*0.05+U83*0.05 -> 75.6225 | W83: 79 | X83: 81 | Y83: 否 | Z83: 122
A84: 化学化工学院 | B84: 新能源材料与器件 | C84: 2025 | D84: 新能源251 | E84: 2508110245 | F84: 童修齐 | G84: 68 | H84: 2 | I84: 70 | J84: 80.56 | K84: 1 | L84: 81.56 | M84: 71.85 | N84: 0 | O84: 71.85 | P84: 45.6 | Q84: 0 | R84: 45.6 | S84: 30 | T84: 0 | U84: 30 | V84: =I84*0.1+L84*0.75+O84*0.05+R84*0.05+U84*0.05 -> 75.5425 | W84: 80 | X84: 62 | Y84: 否 | Z84: 122
A85: 化学化工学院 | B85: 新能源材料与器件 | C85: 2025 | D85: 新能源254 | E85: 2509110020 | F85: 马翰涛 | G85: 83.65 | H85: 2 | I85: 85.65 | J85: 79.02 | K85: 1 | L85: 80.02 | M85: 68.7 | N85: 0 | O85: 68.7 | P85: 0 | Q85: 0 | R85: 0 | S85: 60 | T85: 10 | U85: 70 | V85: =I85*0.1+L85*0.75+O85*0.05+R85*0.05+U85*0.05 -> 75.515 | W85: 81 | X85: 73 | Y85: 否 | Z85: 122
A86: 化学化工学院 | B86: 新能源材料与器件 | C86: 2025 | D86: 新能源252 | E86: 2508110269 | F86: 季雷 | G86: 85.1 | H86: 2 | I86: 87.1 | J86: 75.85 | K86: 0 | L86: 75.85 | M86: 69.525 | N86: 0 | O86: 69.525 | P86: 57.2 | Q86: 0 | R86: 57.2 | S86: 60 | T86: 5.52 | U86: 65.52 | V86: =I86*0.1+L86*0.75+O86*0.05+R86*0.05+U86*0.05 -> 75.20975 | W86: 82 | X86: 101 | Y86: 是 | Z86: 122 | AA86: 课程考核不合格
A87: 化学化工学院 | B87: 新能源材料与器件 | C87: 2025 | D87: 新能源254 | E87: 2508110327 | F87: 郭耀南 | G87: 84.42 | H87: 2 | I87: 86.42 | J87: 75.56 | K87: 0 | L87: 75.56 | M87: 75.45 | N87: 0 | O87: 75.45 | P87: 57 | Q87: 0 | R87: 57 | S87: 60 | T87: 3.835 | U87: 63.835 | V87: =I87*0.1+L87*0.75+O87*0.05+R87*0.05+U87*0.05 -> 75.12625 | W87: 83 | X87: 100 | Y87: 是 | Z87: 122 | AA87: 课程考核不合格
A88: 化学化工学院 | B88: 新能源材料与器件 | C88: 2025 | D88: 新能源252 | E88: 2508110267 | F88: 卢亦宸 | G88: 85.91 | H88: 2 | I88: 87.91 | J88: 77.24 | K88: 1 | L88: 78.24 | M88: 59.35 | N88: 0 | O88: 59.35 | P88: 45.6 | Q88: 0 | R88: 45.6 | S88: 45 | T88: 0 | U88: 45 | V88: =I88*0.1+L88*0.75+O88*0.05+R88*0.05+U88*0.05 -> 74.9685 | W88: 84 | X88: 88 | Y88: 是 | Z88: 122 | AA88: 课程考核不合格
A89: 化学化工学院 | B89: 新能源材料与器件 | C89: 2025 | D89: 新能源253 | E89: 2508110308 | F89: 王多好 | G89: 85 | H89: 2 | I89: 87 | J89: 78.42 | K89: 1 | L89: 79.42 | M89: 87.9 | N89: 0 | O89: 87.9 | P89: 0 | Q89: 0 | R89: 0 | S89: 45 | T89: 0 | U89: 45 | V89: =I89*0.1+L89*0.75+O89*0.05+R89*0.05+U89*0.05 -> 74.91 | W89: 85 | X89: 77 | Y89: 否 | Z89: 122
A90: 化学化工学院 | B90: 新能源材料与器件 | C90: 2025 | D90: 新能源253 | E90: 2508110303 | F90: 周海涛 | G90: 86.075 | H90: 2 | I90: 88.075 | J90: 79.58 | K90: 1 | L90: 80.58 | M90: 65.85 | N90: 0 | O90: 65.85 | P90: 0 | Q90: 0 | R90: 0 | S90: 45 | T90: 0 | U90: 45 | V90: =I90*0.1+L90*0.75+O90*0.05+R90*0.05+U90*0.05 -> 74.785 | W90: 86 | X90: 71 | Y90: 是 | Z90: 122 | AA90: 课程考核不合格
A91: 化学化工学院 | B91: 新能源材料与器件 | C91: 2025 | D91: 新能源253 | E91: 2508110305 | F91: 朱恒 | G91: 85.78 | H91: 2 | I91: 87.78 | J91: 80.4 | K91: 0 | L91: 80.4 | M91: 66.95 | N91: 0 | O91: 66.95 | P91: 0 | Q91: 0 | R91: 0 | S91: 45 | T91: 0 | U91: 45 | V91: =I91*0.1+L91*0.75+O91*0.05+R91*0.05+U91*0.05 -> 74.6755 | W91: 87 | X91: 64 | Y91: 否 | Z91: 122
A92: 化学化工学院 | B92: 新能源材料与器件 | C92: 2025 | D92: 新能源253 | E92: 2508110290 | F92: 孙宇翔 | G92: 85.75 | H92: 2 | I92: 87.75 | J92: 76.4 | K92: 0 | L92: 76.4 | M92: 68.25 | N92: 0 | O92: 68.25 | P92: 57 | Q92: 0 | R92: 57 | S92: 45 | T92: 0 | U92: 45 | V92: =I92*0.1+L92*0.75+O92*0.05+R92*0.05+U92*0.05 -> 74.5875 | W92: 88 | X92: 94 | Y92: 是 | Z92: 122 | AA92: 课程考核不合格
A93: 化学化工学院 | B93: 新能源材料与器件 | C93: 2025 | D93: 新能源251 | E93: 2521110272 | F93: 吴舒阳 | G93: 68 | H93: 0 | I93: 68 | J93: 83.13 | K93: 0 | L93: 83.13 | M93: 75.3 | N93: 0 | O93: 75.3 | P93: 0 | Q93: 0 | R93: 0 | S93: 30 | T93: 0 | U93: 30 | V93: =I93*0.1+L93*0.75+O93*0.05+R93*0.05+U93*0.05 -> 74.4125 | W93: 89 | X93: 52 | Y93: 否 | Z93: 122
A94: 化学化工学院 | B94: 新能源材料与器件 | C94: 2025 | D94: 新能源252 | E94: 2508110268 | F94: 张津瑜 | G94: 85.1 | H94: 2 | I94: 87.1 | J94: 76.4 | K94: 0 | L94: 76.4 | M94: 76.6 | N94: 0 | O94: 76.6 | P94: 45.6 | Q94: 0 | R94: 45.6 | S94: 45 | T94: 0 | U94: 45 | V94: =I94*0.1+L94*0.75+O94*0.05+R94*0.05+U94*0.05 -> 74.37 | W94: 90 | X94: 94 | Y94: 是 | Z94: 122 | AA94: 课程考核不合格
A95: 化学化工学院 | B95: 新能源材料与器件 | C95: 2025 | D95: 新能源254 | E95: 2508110320 | F95: 聂志远 | G95: 86.38 | H95: 2 | I95: 88.38 | J95: 78.98 | K95: 1 | L95: 79.98 | M95: 61.6 | N95: 0 | O95: 61.6 | P95: 0 | Q95: 0 | R95: 0 | S95: 45 | T95: 0 | U95: 45 | V95: =I95*0.1+L95*0.75+O95*0.05+R95*0.05+U95*0.05 -> 74.153 | W95: 91 | X95: 74 | Y95: 否 | Z95: 122
A96: 化学化工学院 | B96: 新能源材料与器件 | C96: 2025 | D96: 新能源252 | E96: 2508110262 | F96: 陈泽宇 | G96: 86.06 | H96: 2 | I96: 88.06 | J96: 75.6 | K96: 1 | L96: 76.6 | M96: 81.35 | N96: 0 | O96: 81.35 | P96: 22.8 | Q96: 0 | R96: 22.8 | S96: 45 | T96: 0 | U96: 45 | V96: =I96*0.1+L96*0.75+O96*0.05+R96*0.05+U96*0.05 -> 73.7135 | W96: 92 | X96: 99 | Y96: 是 | Z96: 122 | AA96: 课程考核不合格
A97: 化学化工学院 | B97: 新能源材料与器件 | C97: 2025 | D97: 新能源252 | E97: 2508110260 | F97: 姚昊 | G97: 85.7 | H97: 2 | I97: 87.7 | J97: 72.93 | K97: 1 | L97: 73.93 | M97: 74.35 | N97: 0 | O97: 74.35 | P97: 45.6 | Q97: 0 | R97: 45.6 | S97: 60 | T97: 6 | U97: 66 | V97: =I97*0.1+L97*0.75+O97*0.05+R97*0.05+U97*0.05 -> 73.515 | W97: 93 | X97: 112 | Y97: 是 | Z97: 122 | AA97: 课程考核不合格
A98: 化学化工学院 | B98: 新能源材料与器件 | C98: 2025 | D98: 新能源252 | E98: 2508110259 | F98: 刘欣宇 | G98: 86.08 | H98: 2 | I98: 88.08 | J98: 74.09 | K98: 1 | L98: 75.09 | M98: 66.2 | N98: 0 | O98: 66.2 | P98: 22.8 | Q98: 0 | R98: 22.8 | S98: 60 | T98: 10 | U98: 70 | V98: =I98*0.1+L98*0.75+O98*0.05+R98*0.05+U98*0.05 -> 73.0755 | W98: 94 | X98: 105 | Y98: 是 | Z98: 122 | AA98: 课程考核不合格
A99: 化学化工学院 | B99: 新能源材料与器件 | C99: 2025 | D99: 新能源254 | E99: 2508110323 | F99: 吴航 | G99: 85.65 | H99: 2 | I99: 87.65 | J99: 76.29 | K99: 0 | L99: 76.29 | M99: 67.8 | N99: 0 | O99: 67.8 | P99: 22.8 | Q99: 0 | R99: 22.8 | S99: 45 | T99: 0 | U99: 45 | V99: =I99*0.1+L99*0.75+O99*0.05+R99*0.05+U99*0.05 -> 72.7625 | W99: 95 | X99: 96 | Y99: 否 | Z99: 122
A100: 化学化工学院 | B100: 新能源材料与器件 | C100: 2025 | D100: 新能源251 | E100: 2508110233 | F100: 沈永康 | G100: 68 | H100: 2 | I100: 70 | J100: 80.02 | K100: 0 | L100: 80.02 | M100: 84.55 | N100: 0 | O100: 84.55 | P100: 0 | Q100: 0 | R100: 0 | S100: 30 | T100: 0 | U100: 30 | V100: =I100*0.1+L100*0.75+O100*0.05+R100*0.05+U100*0.05 -> 72.7425 | W100: 96 | X100: 66 | Y100: 是 | Z100: 122 | AA100: 课程考核不合格
A101: 化学化工学院 | B101: 新能源材料与器件 | C101: 2025 | D101: 新能源254 | E101: 2508110339 | F101: 陈旭东 | G101: 82.45 | H101: 2 | I101: 84.45 | J101: 75.67 | K101: 1 | L101: 76.67 | M101: 72.075 | N101: 0 | O101: 72.075 | P101: 22.8 | Q101: 0 | R101: 22.8 | S101: 30 | T101: 0 | U101: 30 | V101: =I101*0.1+L101*0.75+O101*0.05+R101*0.05+U101*0.05 -> 72.19125 | W101: 97 | X101: 98 | Y101: 是 | Z101: 122 | AA101: 课程考核不合格
A102: 化学化工学院 | B102: 新能源材料与器件 | C102: 2025 | D102: 新能源252 | E102: 2508110199 | F102: 何洋 | G102: 84.18 | H102: 2 | I102: 86.18 | J102: 73.39 | K102: 1 | L102: 74.39 | M102: 76.075 | N102: 0 | O102: 76.075 | P102: 11.4 | Q102: 0 | R102: 11.4 | S102: 60 | T102: 5 | U102: 65 | V102: =I102*0.1+L102*0.75+O102*0.05+R102*0.05+U102*0.05 -> 72.03425 | W102: 98 | X102: 104 | Y102: 是 | Z102: 122 | AA102: 课程考核不合格
A103: 化学化工学院 | B103: 新能源材料与器件 | C103: 2025 | D103: 新能源251 | E103: 2508110226 | F103: 柴少杰 | G103: 84.83 | H103: 2 | I103: 86.83 | J103: 74.35 | K103: 1 | L103: 75.35 | M103: 79.475 | N103: 0 | O103: 79.475 | P103: 22.8 | Q103: 0 | R103: 22.8 | S103: 30 | T103: 0 | U103: 30 | V103: =I103*0.1+L103*0.75+O103*0.05+R103*0.05+U103*0.05 -> 71.80925 | W103: 99 | X103: 106 | Y103: 是 | Z103: 122 | AA103: 课程考核不合格
A104: 化学化工学院 | B104: 新能源材料与器件 | C104: 2025 | D104: 新能源252 | E104: 2508110270 | F104: 周子恒 | G104: 85.91 | H104: 2 | I104: 87.91 | J104: 73.17 | K104: 1 | L104: 74.17 | M104: 73.25 | N104: 0 | O104: 73.25 | P104: 22.8 | Q104: 0 | R104: 22.8 | S104: 45 | T104: 0 | U104: 45 | V104: =I104*0.1+L104*0.75+O104*0.05+R104*0.05+U104*0.05 -> 71.471 | W104: 100 | X104: 110 | Y104: 是 | Z104: 122 | AA104: 课程考核不合格
A105: 化学化工学院 | B105: 新能源材料与器件 | C105: 2025 | D105: 新能源254 | E105: 2508110325 | F105: 张磊 | G105: 68 | H105: 2 | I105: 70 | J105: 78.04 | K105: 0 | L105: 78.04 | M105: 75.15 | N105: 0 | O105: 75.15 | P105: 0 | Q105: 0 | R105: 0 | S105: 30 | T105: 0 | U105: 30 | V105: =I105*0.1+L105*0.75+O105*0.05+R105*0.05+U105*0.05 -> 70.7875 | W105: 101 | X105: 83 | Y105: 是 | Z105: 122 | AA105: 课程考核不合格
A106: 化学化工学院 | B106: 新能源材料与器件 | C106: 2025 | D106: 新能源254 | E106: 2508110340 | F106: 秦爽 | G106: 82.62 | H106: 2 | I106: 84.62 | J106: 73.71 | K106: 1 | L106: 74.71 | M106: 68.85 | N106: 0 | O106: 68.85 | P106: 22.8 | Q106: 0 | R106: 22.8 | S106: 30 | T106: 0 | U106: 30 | V106: =I106*0.1+L106*0.75+O106*0.05+R106*0.05+U106*0.05 -> 70.577 | W106: 102 | X106: 107 | Y106: 是 | Z106: 122 | AA106: 课程考核不合格
A107: 化学化工学院 | B107: 新能源材料与器件 | C107: 2025 | D107: 新能源253 | E107: 2508110301 | F107: 李宇彬 | G107: 86.28 | H107: 2 | I107: 88.28 | J107: 72 | K107: 0 | L107: 72 | M107: 78.3 | N107: 0 | O107: 78.3 | P107: 22.8 | Q107: 0 | R107: 22.8 | S107: 45 | T107: 0 | U107: 45 | V107: =I107*0.1+L107*0.75+O107*0.05+R107*0.05+U107*0.05 -> 70.133 | W107: 103 | X107: 115 | Y107: 是 | Z107: 122 | AA107: 课程考核不合格
A108: 化学化工学院 | B108: 新能源材料与器件 | C108: 2025 | D108: 新能源254 | E108: 2508110338 | F108: 薄纬辰 | G108: 82.72 | H108: 2 | I108: 84.72 | J108: 74.73 | K108: 0 | L108: 74.73 | M108: 80.65 | N108: 0 | O108: 80.65 | P108: 0 | Q108: 0 | R108: 0 | S108: 30 | T108: 0 | U108: 30 | V108: =I108*0.1+L108*0.75+O108*0.05+R108*0.05+U108*0.05 -> 70.052 | W108: 104 | X108: 103 | Y108: 是 | Z108: 122 | AA108: 课程考核不合格
A109: 化学化工学院 | B109: 新能源材料与器件 | C109: 2025 | D109: 新能源252 | E109: 2508110277 | F109: 彭泽瑜 | G109: 86.3 | H109: 2 | I109: 88.3 | J109: 66.58 | K109: 1 | L109: 67.58 | M109: 86.6 | N109: 0 | O109: 86.6 | P109: 57.2 | Q109: 0 | R109: 57.2 | S109: 60 | T109: 4.98 | U109: 64.98 | V109: =I109*0.1+L109*0.75+O109*0.05+R109*0.05+U109*0.05 -> 69.954 | W109: 105 | X109: 120 | Y109: 是 | Z109: 122 | AA109: 课程考核不合格
A110: 化学化工学院 | B110: 新能源材料与器件 | C110: 2025 | D110: 新能源254 | E110: 2508110337 | F110: 于银龙 | G110: 82.55 | H110: 2 | I110: 84.55 | J110: 71.56 | K110: 1 | L110: 72.56 | M110: 76.15 | N110: 0 | O110: 76.15 | P110: 34.2 | Q110: 0 | R110: 34.2 | S110: 30 | T110: 0 | U110: 30 | V110: =I110*0.1+L110*0.75+O110*0.05+R110*0.05+U110*0.05 -> 69.8925 | W110: 106 | X110: 114 | Y110: 是 | Z110: 122 | AA110: 课程考核不合格
A111: 化学化工学院 | B111: 新能源材料与器件 | C111: 2025 | D111: 新能源254 | E111: 2508110328 | F111: 陈志豪 | G111: 84.34 | H111: 2 | I111: 86.34 | J111: 72.07 | K111: 0 | L111: 72.07 | M111: 81.275 | N111: 0 | O111: 81.275 | P111: 0 | Q111: 0 | R111: 0 | S111: 60 | T111: 0.4 | U111: 60.4 | V111: =I111*0.1+L111*0.75+O111*0.05+R111*0.05+U111*0.05 -> 69.77025 | W111: 107 | X111: 113 | Y111: 是 | Z111: 122 | AA111: 课程考核不合格
A112: 化学化工学院 | B112: 新能源材料与器件 | C112: 2025 | D112: 新能源251 | E112: 2508110234 | F112: 宋晨宇 | G112: 68 | H112: 2 | I112: 70 | J112: 76.44 | K112: 0 | L112: 76.44 | M112: 74.08 | N112: 0 | O112: 74.08 | P112: 0 | Q112: 0 | R112: 0 | S112: 30 | T112: 0 | U112: 30 | V112: =I112*0.1+L112*0.75+O112*0.05+R112*0.05+U112*0.05 -> 69.534 | W112: 108 | X112: 93 | Y112: 否 | Z112: 122
A113: 化学化工学院 | B113: 新能源材料与器件 | C113: 2025 | D113: 新能源251 | E113: 2508110232 | F113: 杨竣凯 | G113: 68 | H113: 2 | I113: 70 | J113: 76.51 | K113: 0 | L113: 76.51 | M113: 72.9 | N113: 0 | O113: 72.9 | P113: 0 | Q113: 0 | R113: 0 | S113: 30 | T113: 0 | U113: 30 | V113: =I113*0.1+L113*0.75+O113*0.05+R113*0.05+U113*0.05 -> 69.5275 | W113: 109 | X113: 91 | Y113: 是 | Z113: 122 | AA113: 课程考核不合格
A114: 化学化工学院 | B114: 新能源材料与器件 | C114: 2025 | D114: 新能源251 | E114: 2515110149 | F114: 金明翰 | G114: 68 | H114: 0 | I114: 68 | J114: 75.85 | K114: 0 | L114: 75.85 | M114: 86.3 | N114: 0 | O114: 86.3 | P114: 0 | Q114: 0 | R114: 0 | S114: 30 | T114: 0 | U114: 30 | V114: =I114*0.1+L114*0.75+O114*0.05+R114*0.05+U114*0.05 -> 69.5025 | W114: 110 | X114: 97 | Y114: 是 | Z114: 122 | AA114: 课程考核不合格
A115: 化学化工学院 | B115: 新能源材料与器件 | C115: 2025 | D115: 新能源253 | E115: 2508110299 | F115: 王邦维 | G115: 85.718 | H115: 2 | I115: 87.718 | J115: 73 | K115: 0 | L115: 73 | M115: 68.35 | N115: 0 | O115: 68.35 | P115: 0 | Q115: 0 | R115: 0 | S115: 45 | T115: 0 | U115: 45 | V115: =I115*0.1+L115*0.75+O115*0.05+R115*0.05+U115*0.05 -> 69.1893 | W115: 111 | X115: 111 | Y115: 是 | Z115: 122 | AA115: 课程考核不合格
A116: 化学化工学院 | B116: 新能源材料与器件 | C116: 2025 | D116: 新能源253 | E116: 2508110289 | F116: 水宇翔 | G116: 85.05 | H116: 2 | I116: 87.05 | J116: 68.87 | K116: 0 | L116: 68.87 | M116: 64.65 | N116: 0 | O116: 64.65 | P116: 57 | Q116: 0 | R116: 57 | S116: 45 | T116: 0 | U116: 45 | V116: =I116*0.1+L116*0.75+O116*0.05+R116*0.05+U116*0.05 -> 68.69 | W116: 112 | X116: 118 | Y116: 是 | Z116: 122 | AA116: 课程考核不合格
A117: 化学化工学院 | B117: 新能源材料与器件 | C117: 2025 | D117: 新能源251 | E117: 2508110250 | F117: 刘恒熙 | G117: 68 | H117: 0 | I117: 68 | J117: 74.82 | K117: 0 | L117: 74.82 | M117: 73.75 | N117: 0 | O117: 73.75 | P117: 0 | Q117: 0 | R117: 0 | S117: 30 | T117: 7.5 | U117: 37.5 | V117: =I117*0.1+L117*0.75+O117*0.05+R117*0.05+U117*0.05 -> 68.4775 | W117: 113 | X117: 102 | Y117: 是 | Z117: 122 | AA117: 课程考核不合格
A118: 化学化工学院 | B118: 新能源材料与器件 | C118: 2025 | D118: 新能源251 | E118: 2508110229 | F118: 詹磊 | G118: 68 | H118: 3.5 | I118: 71.5 | J118: 73.64 | K118: 1 | L118: 74.64 | M118: 61.5 | N118: 0 | O118: 61.5 | P118: 0 | Q118: 0 | R118: 0 | S118: 30 | T118: 0 | U118: 30 | V118: =I118*0.1+L118*0.75+O118*0.05+R118*0.05+U118*0.05 -> 67.705 | W118: 114 | X118: 108 | Y118: 是 | Z118: 122 | AA118: 课程考核不合格
A119: 化学化工学院 | B119: 新能源材料与器件 | C119: 2025 | D119: 新能源253 | E119: 2508110288 | F119: 黄天泽 | G119: 85.98 | H119: 2 | I119: 87.98 | J119: 67.11 | K119: 0 | L119: 67.11 | M119: 65.6 | N119: 0 | O119: 65.6 | P119: 45.6 | Q119: 0 | R119: 45.6 | S119: 45 | T119: 0 | U119: 45 | V119: =I119*0.1+L119*0.75+O119*0.05+R119*0.05+U119*0.05 -> 66.9405 | W119: 115 | X119: 119 | Y119: 是 | Z119: 122 | AA119: 课程考核不合格
A120: 化学化工学院 | B120: 新能源材料与器件 | C120: 2025 | D120: 新能源252 | E120: 2508110279 | F120: 周鸣宇 | G120: 85.2 | H120: 2 | I120: 87.2 | J120: 66.84 | K120: 1 | L120: 67.84 | M120: 66.8 | N120: 0 | O120: 66.8 | P120: 34.2 | Q120: 0 | R120: 34.2 | S120: 45 | T120: 0 | U120: 45 | V120: =I120*0.1+L120*0.75+O120*0.05+R120*0.05+U120*0.05 -> 66.9 | W120: 116 | X120: 120 | Y120: 是 | Z120: 122 | AA120: 课程考核不合格
A121: 化学化工学院 | B121: 新能源材料与器件 | C121: 2025 | D121: 新能源252 | E121: 2508110280 | F121: 王国豪 | G121: 84.75 | H121: 2 | I121: 86.75 | J121: 66.83 | K121: 0 | L121: 66.83 | M121: 68.7 | N121: 0 | O121: 68.7 | P121: 34.2 | Q121: 0 | R121: 34.2 | S121: 45 | T121: 0 | U121: 45 | V121: =I121*0.1+L121*0.75+O121*0.05+R121*0.05+U121*0.05 -> 66.1925 | W121: 117 | X121: 121 | Y121: 是 | Z121: 122 | AA121: 课程考核不合格
A122: 化学化工学院 | B122: 新能源材料与器件 | C122: 2025 | D122: 新能源251 | E122: 2508110243 | F122: 朱栩颉 | G122: 68 | H122: 2 | I122: 70 | J122: 69.16 | K122: 0 | L122: 69.16 | M122: 72 | N122: 0 | O122: 72 | P122: 34.2 | Q122: 0 | R122: 34.2 | S122: 30 | T122: 0 | U122: 30 | V122: =I122*0.1+L122*0.75+O122*0.05+R122*0.05+U122*0.05 -> 65.68 | W122: 118 | X122: 117 | Y122: 是 | Z122: 122 | AA122: 课程考核不合格
A123: 化学化工学院 | B123: 新能源材料与器件 | C123: 2025 | D123: 新能源251 | E123: 2508110249 | F123: 陈硕 | G123: 68 | H123: 0 | I123: 68 | J123: 78.4 | K123: 0 | L123: 78.4 | M123: 0 | N123: 0 | O123: 0 | P123: 0 | Q123: 0 | R123: 0 | S123: 0 | T123: 0 | U123: 0 | V123: =I123*0.1+L123*0.75+O123*0.05+R123*0.05+U123*0.05 -> 65.6 | W123: 119 | X123: 78 | Y123: 是 | Z123: 122 | AA123: 课程考核不合格
A124: 化学化工学院 | B124: 新能源材料与器件 | C124: 2025 | D124: 新能源251 | E124: 2508110244 | F124: 居逸嘉 | G124: 68 | H124: 2 | I124: 70 | J124: 69.33 | K124: 0 | L124: 69.33 | M124: 64 | N124: 0 | O124: 64 | P124: 34.2 | Q124: 0 | R124: 34.2 | S124: 30 | T124: 0 | U124: 30 | V124: =I124*0.1+L124*0.75+O124*0.05+R124*0.05+U124*0.05 -> 65.4075 | W124: 120 | X124: 116 | Y124: 是 | Z124: 122 | AA124: 课程考核不合格
... A126: 化学化工学院 | B126: 新能源材料与器件 | C126: 2025 | D126: 新能源251 | E126: 2508110246 | F126: 潘艺伟 | G126: 68 | H126: 0 | I126: 68 | J126: 65.62 | K126: 0 | L126: 65.62 | M126: 0 | N126: 0 | O126: 0 | P126: 0 | Q126: 0 | R126: 0 | S126: 0 | T126: 0 | U126: 0 | V126: =I126*0.1+L126*0.75+O126*0.05+R126*0.05+U126*0.05 -> 56.015 | W126: 122 | X126: 119 | Y126: 是 | Z126: 122 | AA126: 课程考核不合格
A128: 填表说明： | B128: 1.请勿变动表格格式。
B129: 2.专业、年级、班级、学号、姓名请采用教务信息系统中导出的个人基本信息，勿手工输入，避免产生错误。
B130: 3.德育成绩、智育成绩、体育成绩为百分制。
B131: 4.综合测评排名符合优秀学生奖学金评比条件，但因“德育分未达标”、“课程考核不合格”或者“体育成绩不合格”等不符合者请在“奖学金等级”一栏进行标注。
...

Sheet 应化25
A1: 附件5：
A2: 化学化工学院应用化学专业2025年级综合测评排名表
A3: 学院: | C3: （盖章） | X3: 学院分管学生工作领导签名：
A4: 学院 | B4: 专业 | C4: 年级 | D4: 班级 | E4: 学号 | F4: 姓名 | G4: 德育 考评分 | H4: 德育 加减分 | I4: 德育 成绩 | J4: 智育 考试分 | K4: 智育 加减分 | L4: 智育 成绩 | M4: 体育 测评分 | N4: 体育 加减分 | O4: 体育 成绩 | P4: 美育 基础分 | Q4: 美育 奖惩分 | R4: 美育 成绩 | S4: 劳育 基础分 | T4: 劳育 奖惩分 | U4: 劳育 成绩 | V4: 综合 测评分 | W4: 综合测评排名 | X4: 学习成绩排名 | Y4: 是否有不及格课程 | Z4: 专业年级 总人数 | AA4: 奖学金 等级 | AB4: 单项 奖学金 | AC4: 荣誉称号 | AD4: 学生签名
A5: 化学化工学院 | B5: 应用化学 | C5: 2025 | D5: 应化252 | E5: 2508110184 | F5: 陈姝彤 | G5: 86.94 | H5: 11.25 | I5: =G5+H5 -> 98.19 | J5: 93.68 | K5: 5.25 | L5: =J5+K5 -> 98.93 | M5: 86.1 | N5: 0 | O5: 86.1 | P5: 60 | Q5: 0.6 | R5: 60.6 | S5: 60 | T5: 11 | U5: 71 | V5: =I5*0.1+L5*0.75+O5*0.05+R5*0.05+U5*0.05 -> 94.9015 | W5: 1 | X5: =RANK(J5,$J$5:$J$69) -> 2 | Y5: 否 | Z5: 72 | AA5: 一等奖学金 | AB5: 社会工作奖 | AC5: 优秀学生干部
A6: 化学化工学院 | B6: 应用化学 | C6: 2025 | D6: 应化251 | E6: 2508110143 | F6: 集湉茹 | G6: 86.5 | H6: 14.25 | I6: 100 | J6: 94.12 | K6: 4.25 | L6: 98.37 | M6: 82.5 | N6: 0 | O6: 82.5 | P6: 60 | Q6: 0 | R6: 60 | S6: 60 | T6: 11 | U6: 71 | V6: =I6*0.1+L6*0.75+O6*0.05+R6*0.05+U6*0.05 -> 94.4525 | W6: 2 | X6: =RANK(J6,$J$5:$J$69) -> 1 | Y6: 否 | Z6: 72 | AA6: 一等奖学金 | AB6: 文体活动奖 | AC6: 三好学生标兵
A7: 化学化工学院 | B7: 应用化学 | C7: 2025 | D7: 应化251 | E7: 2508110147 | F7: 胡斯瑜 | G7: 86.87 | H7: 7.85 | I7: 94.72 | J7: 91.7 | K7: 0.5 | L7: 92.2 | M7: 87.7 | N7: 0 | O7: 87.7 | P7: 58.6 | Q7: 0 | R7: 58.6 | S7: 60 | T7: 11 | U7: 71 | V7: =I7*0.1+L7*0.75+O7*0.05+R7*0.05+U7*0.05 -> 89.487 | W7: 3 | X7: =RANK(J7,$J$5:$J$69) -> 3 | Y7: 否 | Z7: 72 | AA7: 一等奖学金 | AC7: 优秀学生干部
A8: 化学化工学院 | B8: 应用化学 | C8: 2025 | D8: 应化251 | E8: 2508110163 | F8: 孙艺豪 | G8: 85.34 | H8: 11.25 | I8: 96.59 | J8: 89.37 | K8: 0 | L8: 89.37 | M8: 90.75 | N8: 0 | O8: 90.75 | P8: 59.6 | Q8: 0 | R8: 59.6 | S8: 60 | T8: 11 | U8: 71 | V8: =I8*0.1+L8*0.75+O8*0.05+R8*0.05+U8*0.05 -> 87.754 | W8: 4 | X8: =RANK(J8,$J$5:$J$69) -> 4 | Y8: 否 | Z8: 72 | AA8: 二等奖学金 | AC8: 优秀学生干部 | CO8: 一等 | CP8: 三标 | CQ8: 研究与创新奖
A9: 化学化工学院 | B9: 应用化学 | C9: 2025 | D9: 应化251 | E9: 2508110142 | F9: 胡心宇 | G9: 86.58 | H9: 3.75 | I9: 90.33 | J9: 89.24 | K9: 1.5 | L9: 90.74 | M9: 78.25 | N9: 0 | O9: 78.25 | P9: 58.4 | Q9: 0 | R9: 58.4 | S9: 60 | T9: 10 | U9: 70 | V9: =I9*0.1+L9*0.75+O9*0.05+R9*0.05+U9*0.05 -> 87.4205 | W9: 5 | X9: =RANK(J9,$J$5:$J$69) -> 5 | Y9: 否 | Z9: 72 | AA9: 二等奖学金 | AC9: 三好学生
A10: 化学化工学院 | B10: 应用化学 | C10: 2025 | D10: 应化252 | E10: 2508110201 | F10: 苏睿晰 | G10: 85.36 | H10: 5.5 | I10: =G10+H10 -> 90.86 | J10: 87.46 | K10: 3 | L10: 90.46 | M10: 72.15 | N10: 0.25 | O10: 72.4 | P10: 57.4 | Q10: 0 | R10: 57.4 | S10: 60 | T10: 11 | U10: 71 | V10: =I10*0.1+L10*0.75+O10*0.05+R10*0.05+U10*0.05 -> 86.971 | W10: 6 | X10: =RANK(J10,$J$5:$J$69) -> 6 | Y10: 否 | Z10: 72 | AA10: 二等奖学金 | AC10: 三好学生 | CO10: 三等 | CP10: 优干 | CQ10: 文体活动奖
A11: 化学化工学院 | B11: 应用化学 | C11: 2025 | D11: 应化252 | E11: 2508110186 | F11: 田晓晴 | G11: 86.68 | H11: 14.25 | I11: 100 | J11: 87.07 | K11: 1 | L11: 88.07 | M11: 80.65 | N11: 0 | O11: 80.65 | P11: 59.4 | Q11: 0 | R11: 59.4 | S11: 60 | T11: 10 | U11: 70 | V11: =I11*0.1+L11*0.75+O11*0.05+R11*0.05+U11*0.05 -> 86.555 | W11: 7 | X11: =RANK(J11,$J$5:$J$69) -> 8 | Y11: 否 | Z11: 72 | AA11: 二等奖学金 | CO11: 课程考核不合格 | CQ11: 社会工作奖
A12: 化学化工学院 | B12: 应用化学 | C12: 2025 | D12: 应化251 | E12: 2508110145 | F12: 周婷 | G12: 86.55 | H12: 5.45 | I12: 92 | J12: 87.1 | K12: 1 | L12: 88.1 | M12: 82.9 | N12: 0 | O12: 82.9 | P12: 58.6 | Q12: 0 | R12: 58.6 | S12: 60 | T12: 10.5 | U12: 70.5 | V12: =I12*0.1+L12*0.75+O12*0.05+R12*0.05+U12*0.05 -> 85.875 | W12: 8 | X12: =RANK(J12,$J$5:$J$69) -> 7 | Y12: 否 | Z12: 72 | AA12: 二等奖学金 | AC12: 优秀学生干部
A13: 化学化工学院 | B13: 应用化学 | C13: 2025 | D13: 应化251 | E13: 2508110159 | F13: 黄翔 | G13: 87.6 | H13: 12.4 | I13: 100 | J13: 85.9 | K13: 1 | L13: 86.9 | M13: 79.4 | N13: 0 | O13: 79.4 | P13: 58 | Q13: 0 | R13: 58 | S13: 60 | T13: 10 | U13: 70 | V13: =I13*0.1+L13*0.75+O13*0.05+R13*0.05+U13*0.05 -> 85.545 | W13: 9 | X13: =RANK(J13,$J$5:$J$69) -> 10 | Y13: 否 | Z13: 72 | AA13: 二等奖学金
A14: 化学化工学院 | B14: 应用化学 | C14: 2025 | D14: 应化252 | E14: 2508110189 | F14: 薛芳芳 | G14: 86.86 | H14: 11.75 | I14: =G14+H14 -> 98.61 | J14: 85.42 | K14: 0 | L14: 85.42 | M14: 81.95 | N14: 0 | O14: 81.95 | P14: 60 | Q14: 0 | R14: 60 | S14: 60 | T14: 11 | U14: 71 | V14: =I14*0.1+L14*0.75+O14*0.05+R14*0.05+U14*0.05 -> 84.5735 | W14: 10 | X14: =RANK(J14,$J$5:$J$69) -> 13 | Y14: 否 | Z14: 72 | AA14: 二等奖学金
A15: 化学化工学院 | B15: 应用化学 | C15: 2025 | D15: 应化252 | E15: 2508110187 | F15: 黄新航 | G15: 86.91 | H15: 10.25 | I15: =G15+H15 -> 97.16 | J15: 84.41 | K15: 1 | L15: 85.41 | M15: 84.6 | N15: 0 | O15: 84.6 | P15: 59.4 | Q15: 0 | R15: 59.4 | S15: 60 | T15: 11 | U15: 71 | V15: =I15*0.1+L15*0.75+O15*0.05+R15*0.05+U15*0.05 -> 84.5235 | W15: 11 | X15: =RANK(J15,$J$5:$J$69) -> 19 | Y15: 否 | Z15: 72 | AA15: 三等奖学金
A16: 化学化工学院 | B16: 应用化学 | C16: 2025 | D16: 应化251 | E16: 2508110156 | F16: 时训涛 | G16: 84.66 | H16: 3 | I16: 87.66 | J16: 85.84 | K16: 1 | L16: 86.84 | M16: 84 | N16: 0 | O16: 84 | P16: 58.8 | Q16: 0 | R16: 58.8 | S16: 60 | T16: 5.41 | U16: 65.41 | V16: =I16*0.1+L16*0.75+O16*0.05+R16*0.05+U16*0.05 -> 84.3065 | W16: 12 | X16: =RANK(J16,$J$5:$J$69) -> 11 | Y16: 否 | Z16: 72 | AA16: 三等奖学金 | CO16: 一等 | CP16: 三标 | CQ16: 研究与创新奖
A17: 化学化工学院 | B17: 应用化学 | C17: 2025 | D17: 应化252 | E17: 2508110185 | F17: 黄晓耘 | G17: 86.47 | H17: 13.45 | I17: =G17+H17 -> 99.92 | J17: 84.87 | K17: 0 | L17: 84.87 | M17: 80.2 | N17: 0 | O17: 80.2 | P17: 60 | Q17: 0.1 | R17: 60.1 | S17: 60 | T17: 10 | U17: 70 | V17: =I17*0.1+L17*0.75+O17*0.05+R17*0.05+U17*0.05 -> 84.1595 | W17: 13 | X17: =RANK(J17,$J$5:$J$69) -> 17 | Y17: 否 | Z17: 72 | AA17: 三等奖学金
A18: 化学化工学院 | B18: 应用化学 | C18: 2025 | D18: 应化252 | E18: 2523110179 | F18: 步吟风 | G18: 86.05 | H18: 4.25 | I18: =G18+H18 -> 90.3 | J18: 84.89 | K18: 1 | L18: 85.89 | M18: 83.65 | N18: 0 | O18: 83.65 | P18: 57 | Q18: 0.01 | R18: 57.01 | S18: 60 | T18: 10 | U18: 70 | V18: =I18*0.1+L18*0.75+O18*0.05+R18*0.05+U18*0.05 -> 83.9805 | W18: 14 | X18: =RANK(J18,$J$5:$J$69) -> 16 | Y18: 否 | Z18: 72 | AA18: 三等奖学金
A19: 化学化工学院 | B19: 应用化学 | C19: 2025 | D19: 应化251 | E19: 2508110168 | F19: 吴旭照 | G19: 85.28 | H19: 4.75 | I19: 90.03 | J19: 85.29 | K19: 1 | L19: 86.29 | M19: 71.65 | N19: 0 | O19: 71.65 | P19: 58.4 | Q19: 0 | R19: 58.4 | S19: 60 | T19: 10 | U19: 70 | V19: =I19*0.1+L19*0.75+O19*0.05+R19*0.05+U19*0.05 -> 83.723 | W19: 15 | X19: =RANK(J19,$J$5:$J$69) -> 14 | Y19: 否 | Z19: 72 | AA19: 三等奖学金
A20: 化学化工学院 | B20: 应用化学 | C20: 2025 | D20: 应化251 | E20: 2508110149 | F20: 陈鑫鑫 | G20: 86.69 | H20: 8.75 | I20: 95.44 | J20: 84.91 | K20: 0 | L20: 84.91 | M20: 77.9 | N20: 0 | O20: 77.9 | P20: 58.6 | Q20: 0 | R20: 58.6 | S20: 60 | T20: 11 | U20: 71 | V20: =I20*0.1+L20*0.75+O20*0.05+R20*0.05+U20*0.05 -> 83.6015 | W20: 16 | X20: =RANK(J20,$J$5:$J$69) -> 15 | Y20: 否 | Z20: 72 | AA20: 三等奖学金
A21: 化学化工学院 | B21: 应用化学 | C21: 2025 | D21: 应化251 | E21: 2508110164 | F21: 刘子博 | G21: 85.04 | H21: 5.75 | I21: 90.79 | J21: 85.46 | K21: 0 | L21: 85.46 | M21: 74.15 | N21: 0 | O21: 74.15 | P21: 57.6 | Q21: 0 | R21: 57.6 | S21: 60 | T21: 10 | U21: 70 | V21: =I21*0.1+L21*0.75+O21*0.05+R21*0.05+U21*0.05 -> 83.2615 | W21: 17 | X21: =RANK(J21,$J$5:$J$69) -> 12 | Y21: 是 | Z21: 72 | AA21: 课程考核不合格
A22: 化学化工学院 | B22: 应用化学 | C22: 2025 | D22: 应化251 | E22: 2508110171 | F22: 任展宏 | G22: 85.29 | H22: 3.5 | I22: 88.79 | J22: 86.58 | K22: 1 | L22: 87.58 | M22: 73.6 | N22: 0 | O22: 73.6 | P22: 34.2 | Q22: 0 | R22: 34.2 | S22: 61 | T22: 0 | U22: 61 | V22: =I22*0.1+L22*0.75+O22*0.05+R22*0.05+U22*0.05 -> 83.004 | W22: 18 | X22: =RANK(J22,$J$5:$J$69) -> 9 | Y22: 否 | Z22: 72 | AA22: 三等奖学金
A23: 化学化工学院 | B23: 应用化学 | C23: 2025 | D23: 应化251 | E23: 2508110148 | F23: 刘芮君 | G23: 86.54 | H23: 6.75 | I23: 93.29 | J23: 83.62 | K23: 0 | L23: 83.62 | M23: 78.8 | N23: 0 | O23: 78.8 | P23: 58.8 | Q23: 0 | R23: 58.8 | S23: 60 | T23: 11 | U23: 71 | V23: =I23*0.1+L23*0.75+O23*0.05+R23*0.05+U23*0.05 -> 82.474 | W23: 19 | X23: =RANK(J23,$J$5:$J$69) -> 22 | Y23: 否 | Z23: 72 | AA23: 三等奖学金
A24: 化学化工学院 | B24: 应用化学 | C24: 2025 | D24: 应化252 | E24: 2508110193 | F24: 丁达文 | G24: 84.66 | H24: 4.45 | I24: =G24+H24 -> 89.11 | J24: 84.71 | K24: 0 | L24: 84.71 | M24: 71.05 | N24: 0 | O24: 71.05 | P24: 57.6 | Q24: 0 | R24: 57.6 | S24: 60 | T24: 5.1 | U24: 65.1 | V24: =I24*0.1+L24*0.75+O24*0.05+R24*0.05+U24*0.05 -> 82.131 | W24: 20 | X24: =RANK(J24,$J$5:$J$69) -> 18 | Y24: 否 | Z24: 72 | AA24: 三等奖学金
A25: 化学化工学院 | B25: 应用化学 | C25: 2025 | D25: 应化252 | E25: 2508110217 | F25: 陈粤豪 | G25: 85.98 | H25: 3.5 | I25: 89.48 | J25: 84.32 | K25: 0 | L25: 84.32 | M25: 72.4 | N25: 0 | O25: 72.4 | P25: 58 | Q25: 0 | R25: 58 | S25: 60 | T25: 5.35 | U25: 65.35 | V25: =I25*0.1+L25*0.75+O25*0.05+R25*0.05+U25*0.05 -> 81.9755 | W25: 21 | X25: =RANK(J25,$J$5:$J$69) -> 20 | Y25: 否 | Z25: 72 | AA25: 三等奖学金
A26: 化学化工学院 | B26: 应用化学 | C26: 2025 | D26: 应化251 | E26: 2508110153 | F26: 戴震鑫 | G26: 85.31 | H26: 9 | I26: 94.31 | J26: 81.48 | K26: 0 | L26: 81.48 | M26: 84.6 | N26: 0 | O26: 84.6 | P26: 59.4 | Q26: 0 | R26: 59.4 | S26: 60 | T26: 10 | U26: 70 | V26: =I26*0.1+L26*0.75+O26*0.05+R26*0.05+U26*0.05 -> 81.241 | W26: 22 | X26: =RANK(J26,$J$5:$J$69) -> 27 | Y26: 否 | Z26: 72 | AA26: 三等奖学金
A27: 化学化工学院 | B27: 应用化学 | C27: 2025 | D27: 应化252 | E27: 2508110206 | F27: 宋金泽 | G27: 85.53 | H27: 4 | I27: 89.53 | J27: 81.86 | K27: 1 | L27: 82.86 | M27: 81.5 | N27: 0 | O27: 81.5 | P27: 58.4 | Q27: 0 | R27: 58.4 | S27: 60 | T27: 1 | U27: 61 | V27: =I27*0.1+L27*0.75+O27*0.05+R27*0.05+U27*0.05 -> 81.143 | W27: 23 | X27: =RANK(J27,$J$5:$J$69) -> 25 | Y27: 否 | Z27: 72 | AA27: 三等奖学金
A28: 化学化工学院 | B28: 应用化学 | C28: 2025 | D28: 应化251 | E28: 2508110178 | F28: 姜俊达 | G28: 84.7 | H28: 6.1 | I28: 90.8 | J28: 82.47 | K28: 0 | L28: 82.47 | M28: 73.75 | N28: 0 | O28: 73.75 | P28: 59 | Q28: 0 | R28: 59 | S28: 60 | T28: 11 | U28: 71 | V28: =I28*0.1+L28*0.75+O28*0.05+R28*0.05+U28*0.05 -> 81.12 | W28: 24 | X28: =RANK(J28,$J$5:$J$69) -> 24 | Y28: 否 | Z28: 72 | AA28: 三等奖学金 | CO28: 一等 | CP28: 三标 | CQ28: 研究与创新奖
A29: 化学化工学院 | B29: 应用化学 | C29: 2025 | D29: 应化252 | E29: 2508110209 | F29: 司嘉文 | G29: 84.06 | H29: 2.5 | I29: 86.56 | J29: 83.66 | K29: 1 | L29: 84.66 | M29: 76.9 | N29: 0 | O29: 76.9 | P29: 57 | Q29: 0 | R29: 57 | S29: 45 | T29: 0 | U29: 45 | V29: =I29*0.1+L29*0.75+O29*0.05+R29*0.05+U29*0.05 -> 81.096 | W29: 25 | X29: =RANK(J29,$J$5:$J$69) -> 21 | Y29: 否 | Z29: 72 | AA29: 三等奖学金
A30: 化学化工学院 | B30: 应用化学 | C30: 2025 | D30: 应化252 | E30: 2508110182 | F30: 张思语 | G30: 86.44 | H30: 4 | I30: 90.44 | J30: 81.66 | K30: 1 | L30: 82.66 | M30: 80.45 | N30: 0 | O30: 80.45 | P30: 57.4 | Q30: 0 | R30: 57.4 | S30: 60 | T30: 2.99 | U30: 62.99 | V30: =I30*0.1+L30*0.75+O30*0.05+R30*0.05+U30*0.05 -> 81.081 | W30: 26 | X30: =RANK(J30,$J$5:$J$69) -> 26 | Y30: 否 | Z30: 72 | AA30: 三等奖学金
A31: 化学化工学院 | B31: 应用化学 | C31: 2025 | D31: 应化251 | E31: 2508110167 | F31: 郭振华 | G31: 84.64 | H31: 4.2 | I31: 88.84 | J31: 80.4 | K31: 1 | L31: 81.4 | M31: 85.45 | N31: 0 | O31: 85.45 | P31: 57.8 | Q31: 0 | R31: 57.8 | S31: 60 | T31: 7.15 | U31: 67.15 | V31: =I31*0.1+L31*0.75+O31*0.05+R31*0.05+U31*0.05 -> 80.454 | W31: 27 | X31: =RANK(J31,$J$5:$J$69) -> 32 | Y31: 否 | Z31: 72 | AA31: 三等奖学金
A32: 化学化工学院 | B32: 应用化学 | C32: 2025 | D32: 应化251 | E32: 2508110144 | F32: 施欣怡 | G32: 86.27 | H32: 3.25 | I32: 89.52 | J32: 80.3 | K32: 1 | L32: 81.3 | M32: 76.85 | N32: 0 | O32: 76.85 | P32: 58 | Q32: 0 | R32: 58 | S32: 60 | T32: 9.25 | U32: 69.25 | V32: =I32*0.1+L32*0.75+O32*0.05+R32*0.05+U32*0.05 -> 80.132 | W32: 28 | X32: =RANK(J32,$J$5:$J$69) -> 33 | Y32: 是 | Z32: 72 | AA32: 课程考核不合格 | CO32: 一等 | CP32: 三标 | CQ32: 研究与创新奖
A33: 化学化工学院 | B33: 应用化学 | C33: 2025 | D33: 应化252 | E33: 2508110198 | F33: 谢付骏 | G33: 84.61 | H33: 4.65 | I33: =G33+H33 -> 89.26 | J33: 79.73 | K33: 1 | L33: 80.73 | M33: 81.4 | N33: 0 | O33: 81.4 | P33: 58.4 | Q33: 0 | R33: 58.4 | S33: 60 | T33: 11 | U33: 71 | V33: =I33*0.1+L33*0.75+O33*0.05+R33*0.05+U33*0.05 -> 80.0135 | W33: 29 | X33: =RANK(J33,$J$5:$J$69) -> 35 | Y33: 否 | Z33: 72 | AA33: 三等奖学金
A34: 化学化工学院 | B34: 应用化学 | C34: 2025 | D34: 应化252 | E34: 2508110195 | F34: 王豫 | G34: 85.63 | H34: 4.25 | I34: =G34+H34 -> 89.88 | J34: 80.98 | K34: 1 | L34: 81.98 | M34: 75.5 | N34: 0 | O34: 75.5 | P34: 57 | Q34: 0 | R34: 57 | S34: 45 | T34: 1.5 | U34: 46.5 | V34: =I34*0.1+L34*0.75+O34*0.05+R34*0.05+U34*0.05 -> 79.423 | W34: 30 | X34: =RANK(J34,$J$5:$J$69) -> 31 | Y34: 否 | Z34: 72 | AA34: 三等奖学金
A35: 化学化工学院 | B35: 应用化学 | C35: 2025 | D35: 应化251 | E35: 2508110170 | F35: 陈叙睿 | G35: 85.25 | H35: 3.75 | I35: 89 | J35: 79.04 | K35: 1 | L35: 80.04 | M35: 76.6 | N35: 0 | O35: 76.6 | P35: 57 | Q35: 0 | R35: 57 | S35: 60 | T35: 5.55 | U35: 65.55 | V35: =I35*0.1+L35*0.75+O35*0.05+R35*0.05+U35*0.05 -> 78.8875 | W35: 31 | X35: =RANK(J35,$J$5:$J$69) -> 37 | Y35: 否 | Z35: 72 | CO35: 一等 | CP35: 三标 | CQ35: 研究与创新奖
A36: 化学化工学院 | B36: 应用化学 | C36: 2025 | D36: 应化251 | E36: 2508110175 | F36: 嵇华军 | G36: 85.31 | H36: 4.5 | I36: 89.81 | J36: 80.16 | K36: 0 | L36: 80.16 | M36: 73.45 | N36: 0 | O36: 73.45 | P36: 57.4 | Q36: 0 | R36: 57.4 | S36: 60 | T36: 3.28 | U36: 63.28 | V36: =I36*0.1+L36*0.75+O36*0.05+R36*0.05+U36*0.05 -> 78.8075 | W36: 32 | X36: =RANK(J36,$J$5:$J$69) -> 34 | Y36: 否 | Z36: 72
A37: 化学化工学院 | B37: 应用化学 | C37: 2025 | D37: 应化252 | E37: 2508110181 | F37: 朱冰 | G37: 86.51 | H37: 4 | I37: 90.51 | J37: 78.74 | K37: 1 | L37: 79.74 | M37: 76.15 | N37: 0 | O37: 76.15 | P37: 57 | Q37: 0 | R37: 57 | S37: 60 | T37: 0.99 | U37: 60.99 | V37: =I37*0.1+L37*0.75+O37*0.05+R37*0.05+U37*0.05 -> 78.563 | W37: 33 | X37: =RANK(J37,$J$5:$J$69) -> 40 | Y37: 否 | Z37: 72
A38: 化学化工学院 | B38: 应用化学 | C38: 2025 | D38: 应化251 | E38: 2508110146 | F38: 王子恩 | G38: 85.75 | H38: 2.75 | I38: 88.5 | J38: 77.9 | K38: 1 | L38: 78.9 | M38: 82.3 | N38: 0 | O38: 82.3 | P38: 57 | Q38: 0 | R38: 57 | S38: 60 | T38: 8.25 | U38: 68.25 | V38: =I38*0.1+L38*0.75+O38*0.05+R38*0.05+U38*0.05 -> 78.4025 | W38: 34 | X38: =RANK(J38,$J$5:$J$69) -> 45 | Y38: 是 | Z38: 72 | AA38: 课程考核不合格
A39: 化学化工学院 | B39: 应用化学 | C39: 2025 | D39: 应化252 | E39: 2508110214 | F39: 李长峻 | G39: 85.21 | H39: 2 | I39: 87.21 | J39: 83.15 | K39: 1 | L39: 84.15 | M39: 70.25 | N39: 0 | O39: 70.25 | P39: 11.4 | Q39: 0 | R39: 11.4 | S39: 45 | T39: 0 | U39: 45 | V39: =I39*0.1+L39*0.75+O39*0.05+R39*0.05+U39*0.05 -> 78.166 | W39: 35 | X39: =RANK(J39,$J$5:$J$69) -> 23 | Y39: 否 | Z39: 72
A40: 化学化工学院 | B40: 应用化学 | C40: 2025 | D40: 应化252 | E40: 2508110210 | F40: 丁浩楠 | G40: 84.77 | H40: 2 | I40: 86.77 | J40: 81.18 | K40: 1 | L40: 82.18 | M40: 80.75 | N40: 0 | O40: 80.75 | P40: 11.4 | Q40: 0 | R40: 11.4 | S40: 60 | T40: 0 | U40: 60 | V40: =I40*0.1+L40*0.75+O40*0.05+R40*0.05+U40*0.05 -> 77.9195 | W40: 36 | X40: =RANK(J40,$J$5:$J$69) -> 29 | Y40: 否 | Z40: 72
A41: 化学化工学院 | B41: 应用化学 | C41: 2025 | D41: 应化252 | E41: 2508110192 | F41: 张昊 | G41: 84.26 | H41: 2.75 | I41: 86.26 | J41: 78.85 | K41: 0 | L41: 78.85 | M41: 76.2 | N41: 0 | O41: 76.2 | P41: 57.4 | Q41: 0 | R41: 57.4 | S41: 60 | T41: 5 | U41: 65 | V41: =I41*0.1+L41*0.75+O41*0.05+R41*0.05+U41*0.05 -> 77.6935 | W41: 37 | X41: =RANK(J41,$J$5:$J$69) -> 39 | Y41: 是 | Z41: 72 | AA41: 课程考核不合格
A42: 化学化工学院 | B42: 应用化学 | C42: 2025 | D42: 应化252 | E42: 2508110215 | F42: 刘成 | G42: 84.68 | H42: 2 | I42: 86.68 | J42: 81.11 | K42: 1 | L42: 82.11 | M42: 63.6 | N42: 0 | O42: 63.6 | P42: 34.2 | Q42: 0 | R42: 34.2 | S42: 45 | T42: 1 | U42: 46 | V42: =I42*0.1+L42*0.75+O42*0.05+R42*0.05+U42*0.05 -> 77.4405 | W42: 38 | X42: =RANK(J42,$J$5:$J$69) -> 30 | Y42: 否 | Z42: 72
A43: 化学化工学院 | B43: 应用化学 | C43: 2025 | D43: 应化252 | E43: 2508110204 | F43: 吕泗萱 | G43: 83.5 | H43: 2 | I43: 85.5 | J43: 77.33 | K43: 1 | L43: 78.33 | M43: 75.4 | N43: 0 | O43: 75.4 | P43: 57.6 | Q43: 0 | R43: 57.6 | S43: 60 | T43: 1 | U43: 61 | V43: =I43*0.1+L43*0.75+O43*0.05+R43*0.05+U43*0.05 -> 76.9975 | W43: 39 | X43: =RANK(J43,$J$5:$J$69) -> 46 | Y43: 是 | Z43: 72 | AA43: 课程考核不合格
A44: 化学化工学院 | B44: 应用化学 | C44: 2025 | D44: 应化252 | E44: 2508110216 | F44: 王旭 | G44: 84.53 | H44: 2 | I44: 86.53 | J44: 81.44 | K44: 0 | L44: 81.44 | M44: 76.7 | N44: 0 | O44: 76.7 | P44: 22.8 | Q44: 0 | R44: 22.8 | S44: 45 | T44: 0 | U44: 45 | V44: =I44*0.1+L44*0.75+O44*0.05+R44*0.05+U44*0.05 -> 76.958 | W44: 40 | X44: =RANK(J44,$J$5:$J$69) -> 28 | Y44: 否 | Z44: 72
A45: 化学化工学院 | B45: 应用化学 | C45: 2025 | D45: 应化252 | E45: 2508110200 | F45: 滕浩博 | G45: 83.7 | H45: 1.5 | I45: 85.2 | J45: 78.91 | K45: 0 | L45: 78.91 | M45: 65.5 | N45: 0 | O45: 65.5 | P45: 57 | Q45: 0 | R45: 57 | S45: 60 | T45: 1.5 | U45: 61.5 | V45: =I45*0.1+L45*0.75+O45*0.05+R45*0.05+U45*0.05 -> 76.9025 | W45: 41 | X45: =RANK(J45,$J$5:$J$69) -> 38 | Y45: 是 | Z45: 72 | AA45: 课程考核不合格
A46: 化学化工学院 | B46: 应用化学 | C46: 2025 | D46: 应化251 | E46: 2508110172 | F46: 何轶峰 | G46: 83.718 | H46: 4.25 | I46: 87.97 | J46: 77 | K46: 0 | L46: 77 | M46: 73.75 | N46: 0 | O46: 73.75 | P46: 57 | Q46: 0 | R46: 57 | S46: 68.5 | T46: 0 | U46: 68.5 | V46: =I46*0.1+L46*0.75+O46*0.05+R46*0.05+U46*0.05 -> 76.5095 | W46: 42 | X46: =RANK(J46,$J$5:$J$69) -> 47 | Y46: 否 | Z46: 72
A47: 化学化工学院 | B47: 应用化学 | C47: 2025 | D47: 应化251 | E47: 2508110173 | F47: 吴泽宣 | G47: 84.4 | H47: 2.75 | I47: 87.15 | J47: 78.32 | K47: 1 | L47: 79.32 | M47: 68.65 | N47: 0 | O47: 68.65 | P47: 45.6 | Q47: 0 | R47: 45.6 | S47: 45 | T47: 0 | U47: 45 | V47: =I47*0.1+L47*0.75+O47*0.05+R47*0.05+U47*0.05 -> 76.1675 | W47: 43 | X47: =RANK(J47,$J$5:$J$69) -> 41 | Y47: 否 | Z47: 72
A48: 化学化工学院 | B48: 应用化学 | C48: 2025 | D48: 应化251 | E48: 2409110080 | F48: 林子锋 | G48: 86.18 | H48: 2 | I48: 88.18 | J48: 78.04 | K48: 0 | L48: 78.04 | M48: 60.3 | N48: 0 | O48: 60.3 | P48: 58.4 | Q48: 0 | R48: 58.4 | S48: 45 | T48: 0 | U48: 45 | V48: =I48*0.1+L48*0.75+O48*0.05+R48*0.05+U48*0.05 -> 75.533 | W48: 44 | X48: =RANK(J48,$J$5:$J$69) -> 43 | Y48: 否 | Z48: 72
A49: 化学化工学院 | B49: 应用化学 | C49: 2025 | D49: 应化251 | E49: 2508110166 | F49: 宋琛 | G49: 85.12 | H49: 2.75 | I49: 87.87 | J49: 76.8 | K49: 0 | L49: 76.8 | M49: 70.1 | N49: 0 | O49: 70.1 | P49: 45.6 | Q49: 0 | R49: 45.6 | S49: 60 | T49: 6.5 | U49: 66.5 | V49: =I49*0.1+L49*0.75+O49*0.05+R49*0.05+U49*0.05 -> 75.497 | W49: 45 | X49: =RANK(J49,$J$5:$J$69) -> 48 | Y49: 是 | Z49: 72 | AA49: 课程考核不合格
A50: 化学化工学院 | B50: 应用化学 | C50: 2025 | D50: 应化251 | E50: 2508110180 | F50: 李浩闻 | G50: 85.64 | H50: 4 | I50: 89.64 | J50: 75.64 | K50: 0 | L50: 75.64 | M50: 63.85 | N50: 4.5 | O50: 68.35 | P50: 57.8 | Q50: 0 | R50: 57.8 | S50: 60 | T50: 5.17 | U50: 65.17 | V50: =I50*0.1+L50*0.75+O50*0.05+R50*0.05+U50*0.05 -> 75.26 | W50: 46 | X50: =RANK(J50,$J$5:$J$69) -> 56 | Y50: 是 | Z50: 72 | AA50: 课程考核不合格
A51: 化学化工学院 | B51: 应用化学 | C51: 2025 | D51: 应化251 | E51: 2508110152 | F51: 王浩 | G51: 83.51 | H51: 3 | I51: 86.51 | J51: 75.31 | K51: 0 | L51: 75.31 | M51: 76.8 | N51: 0 | O51: 76.8 | P51: 57 | Q51: 0 | R51: 57 | S51: 60 | T51: 6.05 | U51: 66.05 | V51: =I51*0.1+L51*0.75+O51*0.05+R51*0.05+U51*0.05 -> 75.126 | W51: 47 | X51: =RANK(J51,$J$5:$J$69) -> 57 | Y51: 是 | Z51: 72 | AA51: 课程考核不合格
A52: 化学化工学院 | B52: 应用化学 | C52: 2025 | D52: 应化251 | E52: 2508110150 | F52: 王佳佳 | G52: 86.25 | H52: 4.2 | I52: 90.45 | J52: 72.63 | K52: 1 | L52: 73.63 | M52: 80 | N52: 0 | O52: 80 | P52: 59 | Q52: 0 | R52: 59 | S52: 60 | T52: 10 | U52: 70 | V52: =I52*0.1+L52*0.75+O52*0.05+R52*0.05+U52*0.05 -> 74.7175 | W52: 48 | X52: =RANK(J52,$J$5:$J$69) -> 64 | Y52: 是 | Z52: 72 | AA52: 课程考核不合格
A53: 化学化工学院 | B53: 应用化学 | C53: 2025 | D53: 应化252 | E53: 2508110205 | F53: 周正毅 | G53: 85.13 | H53: 2 | I53: 87.13 | J53: 76.6 | K53: 1 | L53: 77.6 | M53: 72.65 | N53: 0 | O53: 72.65 | P53: 22.8 | Q53: 0 | R53: 22.8 | S53: 60 | T53: 0.65 | U53: 60.65 | V53: =I53*0.1+L53*0.75+O53*0.05+R53*0.05+U53*0.05 -> 74.718 | W53: 49 | X53: =RANK(J53,$J$5:$J$69) -> 51 | Y53: 是 | Z53: 72 | AA53: 课程考核不合格
A54: 化学化工学院 | B54: 应用化学 | C54: 2025 | D54: 应化252 | E54: 2508110191 | F54: 徐钰洋 | G54: 84.1 | H54: 3.5 | I54: 86.1 | J54: 76.78 | K54: 0 | L54: 76.78 | M54: 77.5 | N54: 0 | O54: 77.5 | P54: 45.6 | Q54: 0 | R54: 45.6 | S54: 45 | T54: 1 | U54: 46.5 | V54: =I54*0.1+L54*0.75+O54*0.05+R54*0.05+U54*0.05 -> 74.675 | W54: 50 | X54: =RANK(J54,$J$5:$J$69) -> 49 | Y54: 是 | Z54: 72 | AA54: 课程考核不合格
A55: 化学化工学院 | B55: 应用化学 | C55: 2025 | D55: 应化251 | E55: 2509110186 | F55: 周前程 | G55: 85.8 | H55: 2 | I55: 87.8 | J55: 76 | K55: 0 | L55: 76 | M55: 74.45 | N55: 0 | O55: 74.45 | P55: 57.6 | Q55: 0 | R55: 57.6 | S55: 45 | T55: 0 | U55: 45 | V55: =I55*0.1+L55*0.75+O55*0.05+R55*0.05+U55*0.05 -> 74.6325 | W55: 51 | X55: =RANK(J55,$J$5:$J$69) -> 53 | Y55: 否 | Z55: 72
A56: 化学化工学院 | B56: 应用化学 | C56: 2025 | D56: 应化251 | E56: 2508110165 | F56: 沈陆辕 | G56: 84.32 | H56: 2.75 | I56: 87.07 | J56: 79.15 | K56: 1 | L56: 80.15 | M56: 67 | N56: 0 | O56: 67 | P56: 0 | Q56: 0 | R56: 0 | S56: 45 | T56: 0 | U56: 45 | V56: =I56*0.1+L56*0.75+O56*0.05+R56*0.05+U56*0.05 -> 74.4195 | W56: 52 | X56: =RANK(J56,$J$5:$J$69) -> 36 | Y56: 是 | Z56: 72 | AA56: 课程考核不合格
A57: 化学化工学院 | B57: 应用化学 | C57: 2025 | D57: 应化252 | E57: 2508110220 | F57: 柴家旺 | G57: 85.74 | H57: 2 | I57: 87.74 | J57: 76.76 | K57: 0 | L57: 76.76 | M57: 58.2 | N57: 0 | O57: 58.2 | P57: 57 | Q57: 0 | R57: 57 | S57: 45 | T57: 0 | U57: 45 | V57: =I57*0.1+L57*0.75+O57*0.05+R57*0.05+U57*0.05 -> 74.354 | W57: 53 | X57: =RANK(J57,$J$5:$J$69) -> 50 | Y57: 是 | Z57: 72 | AA57: 体测成绩不合格
A58: 化学化工学院 | B58: 应用化学 | C58: 2025 | D58: 应化252 | E58: 2521110171 | F58: 陆天丞 | G58: 86.08 | H58: 1.5 | I58: 87.58 | J58: 75.73 | K58: 0 | L58: 75.73 | M58: 66.25 | N58: 0 | O58: 66.25 | P58: 57 | Q58: 0 | R58: 57 | S58: 45 | T58: 0 | U58: 45 | V58: =I58*0.1+L58*0.75+O58*0.05+R58*0.05+U58*0.05 -> 73.968 | W58: 54 | X58: =RANK(J58,$J$5:$J$69) -> 55 | Y58: 是 | Z58: 72 | AA58: 课程考核不合格
A59: 化学化工学院 | B59: 应用化学 | C59: 2025 | D59: 应化252 | E59: 2508110197 | F59: 胡俊杰 | G59: 84.04 | H59: 2 | I59: 86.04 | J59: 78.27 | K59: 0 | L59: 78.27 | M59: 64.05 | N59: 0 | O59: 64.05 | P59: 22.8 | Q59: 0 | R59: 22.8 | S59: 45 | T59: 0 | U59: 45 | V59: =I59*0.1+L59*0.75+O59*0.05+R59*0.05+U59*0.05 -> 73.899 | W59: 55 | X59: =RANK(J59,$J$5:$J$69) -> 42 | Y59: 是 | Z59: 72 | AA59: 课程考核不合格
A60: 化学化工学院 | B60: 应用化学 | C60: 2025 | D60: 应化251 | E60: 2508110151 | F60: 张康硕 | G60: 84.35 | H60: 1 | I60: 85.35 | J60: 78.03 | K60: 0 | L60: 78.03 | M60: 72.75 | N60: 0 | O60: 72.75 | P60: 11.4 | Q60: 0 | R60: 11.4 | S60: 45 | T60: 0 | U60: 45 | V60: =I60*0.1+L60*0.75+O60*0.05+R60*0.05+U60*0.05 -> 73.515 | W60: 56 | X60: =RANK(J60,$J$5:$J$69) -> 44 | Y60: 否 | Z60: 72
A61: 化学化工学院 | B61: 应用化学 | C61: 2025 | D61: 应化251 | E61: 2508110160 | F61: 凌锦 | G61: 83.4 | H61: 3 | I61: 86.4 | J61: 73.4 | K61: 0 | L61: 73.4 | M61: 73.5 | N61: 0 | O61: 73.5 | P61: 57.8 | Q61: 0.5 | R61: 58.3 | S61: 60 | T61: 4 | U61: 64 | V61: =I61*0.1+L61*0.75+O61*0.05+R61*0.05+U61*0.05 -> 73.48 | W61: 57 | X61: =RANK(J61,$J$5:$J$69) -> 61 | Y61: 是 | Z61: 72 | AA61: 课程考核不合格
A62: 化学化工学院 | B62: 应用化学 | C62: 2025 | D62: 应化251 | E62: 2508110162 | F62: 宋泓睿 | G62: 84.65 | H62: 3 | I62: 87.65 | J62: 74.83 | K62: 0 | L62: 74.83 | M62: 69.55 | N62: 0 | O62: 69.55 | P62: 57 | Q62: 0 | R62: 57 | S62: 45 | T62: 0 | U62: 45 | V62: =I62*0.1+L62*0.75+O62*0.05+R62*0.05+U62*0.05 -> 73.465 | W62: 58 | X62: =RANK(J62,$J$5:$J$69) -> 58 | Y62: 是 | Z62: 72 | AA62: 课程考核不合格
A63: 化学化工学院 | B63: 应用化学 | C63: 2025 | D63: 应化252 | E63: 2508110190 | F63: 刘俊 | G63: 84.14 | H63: 2.75 | I63: 86.14 | J63: 76.05 | K63: 0 | L63: 76.05 | M63: 76.45 | N63: 0 | O63: 76.45 | P63: 34.2 | Q63: 0 | R63: 34.2 | S63: 45 | T63: 0 | U63: 45 | V63: =I63*0.1+L63*0.75+O63*0.05+R63*0.05+U63*0.05 -> 73.434 | W63: 59 | X63: =RANK(J63,$J$5:$J$69) -> 52 | Y63: 是 | Z63: 72 | AA63: 课程考核不合格
A64: 化学化工学院 | B64: 应用化学 | C64: 2025 | D64: 应化251 | E64: 2508110158 | F64: 吕良 | G64: 83.8 | H64: 3 | I64: 86.8 | J64: 75.75 | K64: 0 | L64: 75.75 | M64: 69.65 | N64: 0 | O64: 69.65 | P64: 34.2 | Q64: 0 | R64: 34.2 | S64: 45 | T64: 0 | U64: 45 | V64: =I64*0.1+L64*0.75+O64*0.05+R64*0.05+U64*0.05 -> 72.935 | W64: 60 | X64: =RANK(J64,$J$5:$J$69) -> 54 | Y64: 是 | Z64: 72 | AA64: 课程考核不合格
A65: 化学化工学院 | B65: 应用化学 | C65: 2025 | D65: 应化252 | E65: 2508110212 | F65: 曹诚烨 | G65: 85.09 | H65: 2 | I65: 87.9 | J65: 73.26 | K65: 1 | L65: 74.26 | M65: 78.2 | N65: 0 | O65: 78.2 | P65: 11.4 | Q65: 0 | R65: 11.4 | S65: 60 | T65: 4.5 | U65: 64.5 | V65: =I65*0.1+L65*0.75+O65*0.05+R65*0.05+U65*0.05 -> 72.19 | W65: 61 | X65: =RANK(J65,$J$5:$J$69) -> 62 | Y65: 是 | Z65: 72 | AA65: 课程考核不合格
A66: 化学化工学院 | B66: 应用化学 | C66: 2025 | D66: 应化252 | E66: 2508110211 | F66: 李家志 | G66: 84.9 | H66: 2 | I66: 86.9 | J66: 73.79 | K66: 0 | L66: 73.79 | M66: 72.9 | N66: 0 | O66: 72.9 | P66: 22.8 | Q66: 0 | R66: 22.8 | S66: 60 | T66: 4.5 | U66: 64.5 | V66: =I66*0.1+L66*0.75+O66*0.05+R66*0.05+U66*0.05 -> 72.0425 | W66: 62 | X66: =RANK(J66,$J$5:$J$69) -> 60 | Y66: 是 | Z66: 72 | AA66: 课程考核不合格
A67: 化学化工学院 | B67: 应用化学 | C67: 2025 | D67: 应化252 | E67: 2508110208 | F67: 唐禹哲 | G67: 84.06 | H67: 2.5 | I67: 86.56 | J67: 74.05 | K67: 0 | L67: 74.05 | M67: 72.9 | N67: 0 | O67: 72.9 | P67: 34.2 | Q67: 0 | R67: 34.2 | S67: 45 | T67: 0 | U67: 45 | V67: =I67*0.1+L67*0.75+O67*0.05+R67*0.05+U67*0.05 -> 71.7985 | W67: 63 | X67: =RANK(J67,$J$5:$J$69) -> 59 | Y67: 是 | Z67: 72 | AA67: 课程考核不合格
A68: 化学化工学院 | B68: 应用化学 | C68: 2025 | D68: 应化251 | E68: 2508110157 | F68: 邱硕 | G68: 84.42 | H68: 3.5 | I68: 87.92 | J68: 72.86 | K68: 0 | L68: 72.86 | M68: 77.8 | N68: 0 | O68: 77.8 | P68: 22.8 | Q68: 0 | R68: 22.8 | S68: 60 | T68: 2.5 | U68: 62.5 | V68: =I68*0.1+L68*0.75+O68*0.05+R68*0.05+U68*0.05 -> 71.592 | W68: 64 | X68: =RANK(J68,$J$5:$J$69) -> 63 | Y68: 是 | Z68: 72 | AA68: 课程考核不合格
A69: 化学化工学院 | B69: 应用化学 | C69: 2025 | D69: 应化252 | E69: 2508110219 | F69: 任立强 | G69: 85.96 | H69: 2 | I69: 87.96 | J69: 72.32 | K69: 0 | L69: 72.32 | M69: 66.65 | N69: 0 | O69: 66.65 | P69: 57 | Q69: 0 | R69: 57 | S69: 45 | T69: 0 | U69: 45 | V69: =I69*0.1+L69*0.75+O69*0.05+R69*0.05+U69*0.05 -> 71.4685 | W69: 65 | X69: 67 | Y69: 否 | Z69: 72
A70: 化学化工学院 | B70: 应用化学 | C70: 2025 | D70: 应化251 | E70: 2508110161 | F70: 周跃 | G70: 83.8 | H70: 3 | I70: 86.8 | J70: 72.3 | K70: 1 | L70: 73.3 | M70: 75.95 | N70: 0 | O70: 75.95 | P70: 34.2 | Q70: 0 | R70: 34.2 | S70: 45 | T70: 0 | U70: 45 | V70: =I70*0.1+L70*0.75+O70*0.05+R70*0.05+U70*0.05 -> 71.4125 | W70: 66 | X70: 68 | Y70: 是 | Z70: 72 | AA70: 课程考核不合格
A71: 化学化工学院 | B71: 应用化学 | C71: 2025 | D71: 应化251 | E71: 2508110176 | F71: 徐汪宇凡 | G71: 83.74 | H71: 2 | I71: 85.74 | J71: 71.37 | K71: 0 | L71: 71.37 | M71: 57.5 | N71: 0 | O71: 57.5 | P71: 58.2 | Q71: 0 | R71: 58.2 | S71: 60 | T71: 7 | U71: 67 | V71: =I71*0.1+L71*0.75+O71*0.05+R71*0.05+U71*0.05 -> 71.2365 | W71: 67 | X71: 69 | Y71: 是 | Z71: 72 | AA71: 课程考核不合格
A72: 化学化工学院 | B72: 应用化学 | C72: 2025 | D72: 应化252 | E72: 2508110188 | F72: 余丽 | G72: 85.1 | H72: 2 | I72: 87.1 | J72: 75.31 | K72: 0 | L72: 75.31 | M72: 60 | N72: 0 | O72: 60 | P72: 11.4 | Q72: 0 | R72: 11.4 | S72: 45 | T72: 0 | U72: 45 | V72: =I72*0.1+L72*0.75+O72*0.05+R72*0.05+U72*0.05 -> 71.0125 | W72: 68 | X72: 57 | Y72: 是 | Z72: 72 | AA72: 课程考核不合格
A73: 化学化工学院 | B73: 应用化学 | C73: 2025 | D73: 应化252 | E73: 2508110218 | F73: 易博桥 | G73: 85.21 | H73: 2 | I73: 87.21 | J73: 69.07 | K73: 1 | L73: 70.07 | M73: 78.2 | N73: 0.5 | O73: 78.7 | P73: 45.6 | Q73: 0 | R73: 45.6 | S73: 45 | T73: 0 | U73: 45 | V73: =I73*0.1+L73*0.75+O73*0.05+R73*0.05+U73*0.05 -> 69.7385 | W73: 69 | X73: 71 | Y73: 是 | Z73: 72 | AA73: 课程考核不合格
A74: 化学化工学院 | B74: 应用化学 | C74: 2025 | D74: 应化252 | E74: 2508110202 | F74: 王迪卡 | G74: 84.11 | H74: 1.5 | I74: 85.61 | J74: 72.36 | K74: 0 | L74: 72.36 | M74: 64 | N74: 0 | O74: 64 | P74: 22.8 | Q74: 0 | R74: 22.8 | S74: 45 | T74: 0 | U74: 45 | V74: =I74*0.1+L74*0.75+O74*0.05+R74*0.05+U74*0.05 -> 69.421 | W74: 70 | X74: 66 | Y74: 是 | Z74: 72 | AA74: 课程考核不合格
A75: 化学化工学院 | B75: 应用化学 | C75: 2025 | D75: 应化251 | E75: 2508110169 | F75: 沈翔 | G75: 85.99 | H75: 2.25 | I75: 88.24 | J75: 70.08 | K75: 1 | L75: 71.08 | M75: 69.6 | N75: 0 | O75: 69.6 | P75: 22.8 | Q75: 0 | R75: 22.8 | S75: 45 | T75: 0 | U75: 45 | V75: =I75*0.1+L75*0.75+O75*0.05+R75*0.05+U75*0.05 -> 69.004 | W75: 71 | X75: 70 | Y75: 是 | Z75: 72 | AA75: 课程考核不合格
A76: 化学化工学院 | B76: 应用化学 | C76: 2025 | D76: 应化251 | E76: 2508110179 | F76: 许子浩 | G76: 83.95 | H76: 3 | I76: 86.95 | J76: 68.76 | K76: 0 | L76: 68.76 | M76: 67.25 | N76: 0 | O76: 67.25 | P76: 11.4 | Q76: 0 | R76: 11.4 | S76: 60 | T76: 8.45 | U76: 68.45 | V76: =I76*0.1+L76*0.75+O76*0.05+R76*0.05+U76*0.05 -> 67.62 | W76: 72 | X76: 72 | Y76: 是 | Z76: 72 | AA76: 课程考核不合格
A78: 填表说明： | B78: 1.请勿变动表格格式。
B79: 2.专业、年级、班级、学号、姓名请采用教务信息系统中导出的个人基本信息，勿手工输入，避免产生错误。
B80: 3.德育成绩、智育成绩、体育成绩为百分制。
B81: 4.综合测评排名符合优秀学生奖学金评比条件，但因“德育分未达标”、“课程考核不合格”或者“体育成绩不合格”等不符合者请在“奖学金等级”一栏进行标注。
B82: 5.是否有不及格课程，指的是成绩单中列入综测范围的科目是否有不及格，请填写是或者否。
