Workbook

Sheet 高分子25
A1: 附件5：
A2: 化学化工学院高分子材料与工程专业2025年级综合测评排名表
A3: 学院: | C3: （盖章） | X3: 学院分管学生工作领导签名：
A4: 学院 | B4: 专业 | C4: 年级 | D4: 班级 | E4: 学号 | F4: 姓名 | G4: 德育 考评分 | H4: 德育 加减分 | I4: 德育 成绩 | J4: 智育 考试分 | K4: 智育 加减分 | L4: 智育 成绩 | M4: 体育 测评分 | N4: 体育 加减分 | O4: 体育 成绩 | P4: 美育 基础分 | Q4: 美育 奖惩分 | R4: 美育 成绩 | S4: 劳育 基础分 | T4: 劳育 奖惩分 | U4: 劳育 成绩 | V4: 综合 测评分 | W4: 综合测评排名 | X4: 学习成绩排名 | Y4: 是否有不及格课程 | Z4: 专业年级 总人数 | AA4: 奖学金 等级 | AB4: 单项 奖学金 | AC4: 荣誉称号 | AD4: 学生签名
A5: 化学化工学院 | B5: 高分子材料与工程 | C5: 2025 | D5: 高253 | E5: 2508110076 | F5: 杨硕 | G5: 85.856 | H5: 2 | I5: 87.86 | J5: 93.62 | K5: 2.8 | L5: 96.42 | M5: 86.05 | N5: 0 | O5: 86.05 | P5: 57.4 | Q5: 0 | R5: 57.4 | S5: 60 | T5: 12 | U5: 72 | V5: =I5*0.1+L5*0.75+O5*0.05+R5*0.05+U5*0.05 -> 91.8735 | W5: 1 | X5: 1 | Y5: 否 | Z5: 125 | AA5: 一等奖学金 | AC5: 三好学生标兵
A6: 化学化工学院 | B6: 高分子材料与工程 | C6: 2025 | D6: 高251 | E6: 2508110005 | F6: 孟苏媛 | G6: 86.44 | H6: 6.475 | I6: 92.92 | J6: 90.806452 | K6: 4.01 | L6: 94.82 | M6: 83.15 | N6: 0 | O6: 83.15 | P6: 59 | Q6: 0 | R6: 59 | S6: 60 | T6: 11 | U6: =S6+T6 -> 71 | V6: 91.08 | W6: 2 | X6: 5 | Y6: 否 | Z6: 125 | AA6: 一等奖学金 | AB6: 文体活动奖 | AC6: 优秀学生干部
A7: 化学化工学院 | B7: 高分子材料与工程 | C7: 2025 | D7: 高251 | E7: 2508110002 | F7: 项佳月 | G7: 86.504 | H7: 5.15 | I7: =G7+H7 -> 91.654 | J7: 91.258065 | K7: 3.5 | L7: 94.75 | M7: 84.75 | N7: 0 | O7: 84.75 | P7: 59.2 | Q7: 0 | R7: 59.2 | S7: 60 | T7: 11 | U7: =S7+T7 -> 71 | V7: =I7*0.1+L7*0.75+O7*0.05+R7*0.05+U7*0.05 -> 90.9754 | W7: 3 | X7: 4 | Y7: 否 | Z7: 125 | AA7: 一等奖学金 | AC7: 优秀学生干部
A8: 化学化工学院 | B8: 高分子材料与工程 | C8: 2025 | D8: 高251 | E8: 2508110001 | F8: 李心甜 | G8: 86.264 | H8: 6.45 | I8: 92.71 | J8: 90.763441 | K8: 3 | L8: 93.76 | M8: 80 | N8: 0 | O8: 80 | P8: 58 | Q8: 0 | R8: 58 | S8: 60 | T8: 10.37 | U8: =S8+T8 -> 70.37 | V8: =I8*0.1+L8*0.75+O8*0.05+R8*0.05+U8*0.05 -> 90.0095 | W8: 4 | X8: 6 | Y8: 否 | Z8: 125 | AA8: 一等奖学金 | AB8: 文体活动奖 | AC8: 优秀学生干部 | CO8: 一等 | CP8: 三标 | CQ8: 研究与创新奖
A9: 化学化工学院 | B9: 高分子材料与工程 | C9: 2025 | D9: 高253 | E9: 2508110093 | F9: 施丞骏 | G9: 85.21 | H9: 4.75 | I9: 89.96 | J9: 90.35 | K9: 4 | L9: 94.35 | M9: 75.9 | N9: 0 | O9: 75.9 | P9: 57 | Q9: 0.6 | R9: 57.6 | S9: 60 | T9: 10.65 | U9: 70.65 | V9: =I9*0.1+L9*0.75+O9*0.05+R9*0.05+U9*0.05 -> 89.966 | W9: 5 | X9: 7 | Y9: 否 | Z9: 125 | AA9: 一等奖学金 | AC9: 三好学生 | CO9: 二等 | CP9: 三好 | CQ9: 道德风尚奖
A10: 化学化工学院 | B10: 高分子材料与工程 | C10: 2025 | D10: 高251 | E10: 2508110023 | F10: 丁方栋 | G10: 85 | H10: 5.25 | I10: 90.25 | J10: 92.075269 | K10: 1.53 | L10: 93.61 | M10: 76.4 | N10: 0 | O10: 76.4 | P10: 58.4 | Q10: 0 | R10: 58.2 | S10: 60 | T10: 10 | U10: 70 | V10: =I10*0.1+L10*0.75+O10*0.05+R10*0.05+U10*0.05 -> 89.4625 | W10: 6 | X10: 3 | Y10: 否 | Z10: 125 | AA10: 一等奖学金 | AC10: 优秀学生干部 | CO10: 三等 | CP10: 优干 | CQ10: 文体活动奖
A11: 化学化工学院 | B11: 高分子材料与工程 | C11: 2025 | D11: 高254 | E11: 2508110106 | F11: 夏怡 | G11: 85.39 | H11: 3 | I11: 88.39 | J11: 92.23 | K11: 1.5 | L11: 93.73 | M11: 81.65 | N11: 0 | O11: 81.65 | P11: 34.2 | Q11: 0 | R11: 34.2 | S11: 60 | T11: 10 | U11: 70 | V11: =I11*0.1+L11*0.75+O11*0.05+R11*0.05+U11*0.05 -> 88.429 | W11: 7 | X11: 2 | Y11: 否 | Z11: 125 | AA11: 二等奖学金 | AC11: 优秀学生干部 | CO11: 课程考核不合格 | CQ11: 社会工作奖
A12: 化学化工学院 | B12: 高分子材料与工程 | C12: 2025 | D12: 高252 | E12: 2508110037 | F12: 周萌 | G12: 86.7 | H12: 1.5 | I12: =G12+H12 -> 88.2 | J12: 89.88 | K12: 1.5 | L12: 91.38 | M12: 84.1 | N12: 0 | O12: =M12+N12 -> 84.1 | P12: 58 | Q12: 0.12 | R12: =P12+Q12 -> 58.12 | S12: 60 | T12: 5.9 | U12: =S12+T12 -> 65.9 | V12: =I12*0.1+L12*0.75+O12*0.05+R12*0.05+U12*0.05 -> 87.761 | W12: 8 | X12: 8 | Y12: 否 | Z12: 125 | AA12: 二等奖学金 | AC12: 优秀学生干部
A13: 化学化工学院 | B13: 高分子材料与工程 | C13: 2025 | D13: 高254 | E13: 2508110132 | F13: 荀祎阳 | G13: 85.79 | H13: 2.5 | I13: =G13+H13 -> 88.29 | J13: 89.3 | K13: 1.5 | L13: =J13+K13 -> 90.8 | M13: 83 | N13: 0 | O13: =M13+N13 -> 83 | P13: 57.6 | Q13: 0.2 | R13: =P13+Q13 -> 57.8 | S13: 60 | T13: 10 | U13: =S13+T13 -> 70 | V13: =I13*0.1+L13*0.75+O13*0.05+R13*0.05+U13*0.05 -> 87.469 | W13: 9 | X13: 10 | Y13: 否 | Z13: 125 | AA13: 二等奖学金 | AC13: 优秀学生干部
A14: 化学化工学院 | B14: 高分子材料与工程 | C14: 2025 | D14: 高252 | E14: 2508110040 | F14: 居夕涵 | G14: 85.06 | H14: 1.5 | I14: =G14+H14 -> 86.56 | J14: 89.26 | K14: 1 | L14: =J14+K14 -> 90.26 | M14: 87.05 | N14: 0 | O14: =M14+N14 -> 87.05 | P14: 57.8 | Q14: 0.12 | R14: =P14+Q14 -> 57.92 | S14: 60 | T14: 10.5 | U14: =S14+T14 -> 70.5 | V14: =I14*0.1+L14*0.75+O14*0.05+R14*0.05+U14*0.05 -> 87.1245 | W14: 10 | X14: 11 | Y14: 否 | Z14: 125 | AA14: 二等奖学金 | AC14: 优秀学生干部 | CO14: 德育分未达标
A15: 化学化工学院 | B15: 高分子材料与工程 | C15: 2025 | D15: 高251 | E15: 2508110008 | F15: 张宇豪 | G15: 84.914 | H15: 1 | I15: 85.914 | J15: 89.322581 | K15: 1 | L15: 90.32 | M15: 85.25 | N15: 0 | O15: 85.25 | P15: 57.8 | Q15: 0 | R15: 57.8 | S15: 60 | T15: 11 | U15: =S15+T15 -> 71 | V15: =I15*0.1+L15*0.75+O15*0.05+R15*0.05+U15*0.05 -> 87.0339 | W15: 11 | X15: 9 | Y15: 否 | Z15: 125 | AA15: 二等奖学金 | AC15: 优秀学生干部 | CO15: 体育成绩不合格
A16: 化学化工学院 | B16: 高分子材料与工程 | C16: 2025 | D16: 高254 | E16: 2508110133 | F16: 邱喆 | G16: 85.57 | H16: 3 | I16: =G16+H16 -> 88.57 | J16: 89.19 | K16: 1 | L16: =J16+K16 -> 90.19 | M16: 74.8 | N16: 0 | O16: =M16+N16 -> 74.8 | P16: 57.2 | Q16: 0 | R16: =P16+Q16 -> 57.2 | S16: 60 | T16: 11 | U16: =S16+T16 -> 71 | V16: =I16*0.1+L16*0.75+O16*0.05+R16*0.05+U16*0.05 -> 86.6495 | W16: 12 | X16: 12 | Y16: 否 | Z16: 125 | AA16: 二等奖学金 | AC16: 优秀学生干部
A17: 化学化工学院 | B17: 高分子材料与工程 | C17: 2025 | D17: 高252 | E17: 2508110057 | F17: 蒋锭一 | G17: 85.33 | H17: 2.75 | I17: =G17+H17 -> 88.08 | J17: 87.15 | K17: 1.5 | L17: =J17+K17 -> 88.65 | M17: 81.55 | N17: 0 | O17: =M17+N17 -> 81.55 | P17: 58 | Q17: 0.25 | R17: =P17+Q17 -> 58.25 | S17: 60 | T17: 10 | U17: =S17+T17 -> 70 | V17: =I17*0.1+L17*0.75+O17*0.05+R17*0.05+U17*0.05 -> 85.7855 | W17: 13 | X17: 17 | Y17: 否 | Z17: 125 | AA17: 二等奖学金
A18: 化学化工学院 | B18: 高分子材料与工程 | C18: 2025 | D18: 高253 | E18: 2508110074 | F18: 徐静华 | G18: 85.42 | H18: 3 | I18: 88.42 | J18: 88.66 | K18: 1 | L18: 89.66 | M18: 61.75 | N18: 0 | O18: 61.75 | P18: 45.6 | Q18: 0 | R18: 45.6 | S18: 60 | T18: 12 | U18: 72 | V18: =I18*0.1+L18*0.75+O18*0.05+R18*0.05+U18*0.05 -> 85.0545 | W18: 14 | X18: 14 | Y18: 是 | Z18: 125 | AA18: 体育成绩不合格
A19: 化学化工学院 | B19: 高分子材料与工程 | C19: 2025 | D19: 高254 | E19: 2508110134 | F19: 夏浩铭 | G19: 84.44 | H19: 2.5 | I19: =G19+H19 -> 86.94 | J19: 86.7 | K19: 1 | L19: =J19+K19 -> 87.7 | M19: 85.6 | N19: 0 | O19: =M19+N19 -> 85.6 | P19: 57 | Q19: 0 | R19: =P19+Q19 -> 57 | S19: 60 | T19: 7.99 | U19: =S19+T19 -> 67.99 | V19: =I19*0.1+L19*0.75+O19*0.05+R19*0.05+U19*0.05 -> 84.9985 | W19: 15 | X19: 18 | Y19: 否 | Z19: 125 | AA19: 二等奖学金
A20: 化学化工学院 | B20: 高分子材料与工程 | C20: 2025 | D20: 高254 | E20: 2508110131 | F20: 袁铖 | G20: 84.78 | H20: 2 | I20: =G20+H20 -> 86.78 | J20: 87.82 | K20: 1 | L20: =J20+K20 -> 88.82 | M20: 63.95 | N20: 0 | O20: =M20+N20 -> 63.95 | P20: 57.2 | Q20: 0 | R20: =P20+Q20 -> 57.2 | S20: 60 | T20: 11 | U20: =S20+T20 -> 71 | V20: =I20*0.1+L20*0.75+O20*0.05+R20*0.05+U20*0.05 -> 84.9005 | W20: 16 | X20: 15 | Y20: 是 | Z20: 125 | AA20: 体育成绩不合格
A21: 化学化工学院 | B21: 高分子材料与工程 | C21: 2025 | D21: 高251 | E21: 2508110006 | F21: 靖千卉紫 | G21: 85.61 | H21: 5.58 | I21: =G21+H21 -> 91.19 | J21: 86.010753 | K21: 1 | L21: 87.01 | M21: 83.65 | N21: 0 | O21: 83.65 | P21: 57.4 | Q21: 0 | R21: 57.4 | S21: 60 | T21: 1.75 | U21: =S21+T21 -> 61.75 | V21: =(I21*0.1+L21*0.75+O21*0.05+R21*0.05+U21*0.05) -> 84.5165 | W21: 17 | X21: 21 | Y21: 否 | Z21: 125 | AA21: 二等奖学金
A22: 化学化工学院 | B22: 高分子材料与工程 | C22: 2025 | D22: 高253 | E22: 2508110075 | F22: 叶子 | G22: 85.68 | H22: 3.2 | I22: 88.88 | J22: 86.05 | K22: 1.02 | L22: 87.07 | M22: 72.65 | N22: 0 | O22: 72.65 | P22: 57.8 | Q22: 0 | R22: 57.8 | S22: 60 | T22: 12 | U22: 72 | V22: =(I22*0.1+L22*0.75+O22*0.05+R22*0.05+U22*0.05) -> 84.313 | W22: 18 | X22: 20 | Y22: 否 | Z22: 125 | AA22: 二等奖学金
A23: 化学化工学院 | B23: 高分子材料与工程 | C23: 2025 | D23: 高251 | E23: 2508110004 | F23: 赵伊锦 | G23: 86.18 | H23: 1.53 | I23: 87.71 | J23: 85.860215 | K23: 1 | L23: 86.86 | M23: 85.5 | N23: 0 | O23: 85.5 | P23: 45.6 | Q23: 0 | R23: 45.6 | S23: 60 | T23: 5.54 | U23: =S23+T23 -> 65.54 | V23: =(I23*0.1+L23*0.75+O23*0.05+R23*0.05+U23*0.05) -> 83.748 | W23: 19 | X23: 22 | Y23: 否 | Z23: 125 | AA23: 三等奖学金
A24: 化学化工学院 | B24: 高分子材料与工程 | C24: 2025 | D24: 高252 | E24: 2508110039 | F24: 张雨露 | G24: 86.46 | H24: 1.5 | I24: =G24+H24 -> 87.96 | J24: 87.15 | K24: 0 | L24: =J24+K24 -> 87.15 | M24: 77.4 | N24: 0 | O24: =M24+N24 -> 77.4 | P24: 57.6 | Q24: 0.12 | R24: =P24+Q24 -> 57.72 | S24: 60 | T24: 5.18 | U24: =S24+T24 -> 65.18 | V24: =I24*0.1+L24*0.75+O24*0.05+R24*0.05+U24*0.05 -> 84.1735 | W24: 20 | X24: 16 | Y24: 否 | Z24: 125 | AA24: 三等奖学金
A25: 化学化工学院 | B25: 高分子材料与工程 | C25: 2025 | D25: 高252 | E25: 2508110038 | F25: 姚佳 | G25: 86.75 | H25: 2.5 | I25: =G25+H25 -> 89.25 | J25: 84.72 | K25: 1 | L25: 85.72 | M25: 83.5 | N25: 0 | O25: =M25+N25 -> 83.5 | P25: 57.8 | Q25: 1.23 | R25: =P25+Q25 -> 59.03 | S25: 60 | T25: 11.5 | U25: =S25+T25 -> 71.5 | V25: =I25*0.1+L25*0.75+O25*0.05+R25*0.05+U25*0.05 -> 83.9165 | W25: 21 | X25: 27 | Y25: 否 | Z25: 125 | AA25: 三等奖学金
A26: 化学化工学院 | B26: 高分子材料与工程 | C26: 2025 | D26: 高251 | E26: 2508110016 | F26: 张晨煜 | G26: 84.694 | H26: 1 | I26: 85.69 | J26: 86.053763 | K26: 1 | L26: 87.05 | M26: 82.15 | N26: 0 | O26: 82.15 | P26: 45.6 | Q26: 0 | R26: 45.6 | S26: 60 | T26: 2.5 | U26: 62.5 | V26: =I26*0.1+L26*0.75+O26*0.05+R26*0.05+U26*0.05 -> 83.369 | W26: 22 | X26: 19 | Y26: 否 | Z26: 125 | AA26: 三等奖学金
A27: 化学化工学院 | B27: 高分子材料与工程 | C27: 2025 | D27: 高252 | E27: 2508110055 | F27: 杨嘉豪 | G27: 84.75 | H27: 2.75 | I27: =G27+H27 -> 87.5 | J27: 84.91 | K27: 1 | L27: =J27+K27 -> 85.91 | M27: 75.55 | N27: 0 | O27: =M27+N27 -> 75.55 | P27: 57 | Q27: 1.5 | R27: =P27+Q27 -> 58.5 | S27: 60 | T27: 6 | U27: =S27+T27 -> 66 | V27: =I27*0.1+L27*0.75+O27*0.05+R27*0.05+U27*0.05 -> 83.185 | W27: 23 | X27: 26 | Y27: 否 | Z27: 125 | AA27: 三等奖学金
A28: 化学化工学院 | B28: 高分子材料与工程 | C28: 2025 | D28: 高252 | E28: 2508110061 | F28: 李永成 | G28: 85.35 | H28: 1.15 | I28: =G28+H28 -> 86.5 | J28: 85.41 | K28: 1 | L28: =J28+K28 -> 86.41 | M28: 70.05 | N28: 0 | O28: =M28+N28 -> 70.05 | P28: 57 | Q28: 0 | R28: =P28+Q28 -> 57 | S28: 60 | T28: 4.5 | U28: =S28+T28 -> 64.5 | V28: =I28*0.1+L28*0.75+O28*0.05+R28*0.05+U28*0.05 -> 83.035 | W28: 24 | X28: 23 | Y28: 否 | Z28: 125 | AA28: 三等奖学金
A29: 化学化工学院 | B29: 高分子材料与工程 | C29: 2025 | D29: 高254 | E29: 2508110113 | F29: 肖涵乙 | G29: 85.95 | H29: 4.65 | I29: 90.6 | J29: 83.49 | K29: 1 | L29: 84.49 | M29: 82.2 | N29: 0 | O29: 82.2 | P29: 58.4 | Q29: 0 | R29: 58.4 | S29: 60 | T29: 11 | U29: 71 | V29: =I29*0.1+L29*0.75+O29*0.05+R29*0.05+U29*0.05 -> 83.0075 | W29: 25 | X29: 38 | Y29: 否 | Z29: 125 | AA29: 三等奖学金
A30: 化学化工学院 | B30: 高分子材料与工程 | C30: 2025 | D30: 高251 | E30: 2508110032 | F30: 曹恪胜 | G30: 84.85 | H30: 2 | I30: =G30+H30 -> 86.85 | J30: 84.913978 | K30: 1 | L30: =J30+K30 -> 85.913978 | M30: 72.75 | N30: 0 | O30: =M30+N30 -> 72.75 | P30: 57.8 | Q30: 0 | R30: =P30+Q30 -> 57.8 | S30: 60 | T30: 4 | U30: =S30+T30 -> 64 | V30: 82.9 | W30: 26 | X30: 25 | Y30: 否 | Z30: 125 | AA30: 三等奖学金
A31: 化学化工学院 | B31: 高分子材料与工程 | C31: 2025 | D31: 高251 | E31: 2508110025 | F31: 谈君扬 | G31: 83.91 | H31: 2 | I31: 85.91 | J31: 84.096774 | K31: 1 | L31: 85.1 | M31: 72.85 | N31: 0 | O31: 72.85 | P31: 57.6 | Q31: 0 | R31: 57.6 | S31: 60 | T31: 10 | U31: 70 | V31: =I31*0.1+L31*0.75+O31*0.05+R31*0.05+U31*0.05 -> 82.4385 | W31: 27 | X31: 31 | Y31: 否 | Z31: 125 | AA31: 三等奖学金
A32: 化学化工学院 | B32: 高分子材料与工程 | C32: 2025 | D32: 高252 | E32: 2509110009 | F32: 刘欣悦 | G32: 86.95 | H32: 1.5 | I32: =G32+H32 -> 88.45 | J32: 82.95 | K32: 1.5 | L32: =J32+K32 -> 84.45 | M32: 65.95 | N32: 0 | O32: =M32+N32 -> 65.95 | P32: 59 | Q32: 0 | R32: =P32+Q32 -> 59 | S32: 60 | T32: 11 | U32: =S32+T32 -> 71 | V32: =I32*0.1+L32*0.75+O32*0.05+R32*0.05+U32*0.05 -> 81.98 | W32: 28 | X32: 43 | Y32: 否 | Z32: 125 | AA32: 三等奖学金
A33: 化学化工学院 | B33: 高分子材料与工程 | C33: 2025 | D33: 高254 | E33: 2508110118 | F33: 王景申 | G33: 84.52 | H33: 4.5 | I33: =G33+H33 -> 89.02 | J33: 82.85 | K33: 1 | L33: =J33+K33 -> 83.85 | M33: 73.3 | N33: 0 | O33: =M33+N33 -> 73.3 | P33: 57 | Q33: 0 | R33: =P33+Q33 -> 57 | S33: 60 | T33: 11 | U33: =S33+T33 -> 71 | V33: =I33*0.1+L33*0.75+O33*0.05+R33*0.05+U33*0.05 -> 81.8545 | W33: 29 | X33: 44 | Y33: 否 | Z33: 125 | AA33: 三等奖学金
A34: 化学化工学院 | B34: 高分子材料与工程 | C34: 2025 | D34: 高252 | E34: 2508110049 | F34: 黄世佳 | G34: 84.44 | H34: 0.5 | I34: =G34+H34 -> 84.94 | J34: 84.4 | K34: 1 | L34: =J34+K34 -> 85.4 | M34: 81.5 | N34: 0 | O34: =M34+N34 -> 81.5 | P34: 57.2 | Q34: 0.5 | R34: 57.2 | S34: 45 | T34: 0.5 | U34: =S34+T34 -> 45.5 | V34: =I34*0.1+L34*0.75+O34*0.05+R34*0.05+U34*0.05 -> 81.754 | W34: 30 | X34: 28 | Y34: 否 | Z34: 125 | AA34: 三等奖学金
A35: 化学化工学院 | B35: 高分子材料与工程 | C35: 2025 | D35: 高254 | E35: 2508110137 | F35: 刘睿文 | G35: 83.37 | H35: 3 | I35: =G35+H35 -> 86.37 | J35: 83.74 | K35: 1 | L35: =J35+K35 -> 84.74 | M35: 67.65 | N35: 0 | O35: =M35+N35 -> 67.65 | P35: 57.4 | Q35: 0 | R35: =P35+Q35 -> 57.4 | S35: 60 | T35: 1 | U35: =S35+T35 -> 61 | V35: =I35*0.1+L35*0.75+O35*0.05+R35*0.05+U35*0.05 -> 81.4945 | W35: 31 | X35: 35 | Y35: 是 | Z35: 125 | AA35: 体育成绩不合格
A36: 化学化工学院 | B36: 高分子材料与工程 | C36: 2025 | D36: 高252 | E36: 2508110059 | F36: 姚嘉乐 | G36: 85.5 | H36: 1 | I36: =G36+H36 -> 86.5 | J36: 85.11 | K36: 1 | L36: =J36+K36 -> 86.11 | M36: 83.8 | N36: 0 | O36: =M36+N36 -> 83.8 | P36: 34.2 | Q36: 0 | R36: =P36+Q36 -> 34.2 | S36: 45 | T36: 0 | U36: =S36+T36 -> 45 | V36: =I36*0.1+L36*0.75+O36*0.05+R36*0.05+U36*0.05 -> 81.3825 | W36: 32 | X36: 24 | Y36: 否 | Z36: 125 | AA36: 三等奖学金
A37: 化学化工学院 | B37: 高分子材料与工程 | C37: 2025 | D37: 高254 | E37: 2508110119 | F37: 黄国冰 | G37: 84.94 | H37: 3.2 | I37: =G37+H37 -> 88.14 | J37: 83.65 | K37: 1 | L37: =J37+K37 -> 84.65 | M37: 67.25 | N37: 0 | O37: =M37+N37 -> 67.25 | P37: 45.6 | Q37: 0 | R37: =P37+Q37 -> 45.6 | S37: 60 | T37: 7.5 | U37: =S37+T37 -> 67.5 | V37: =I37*0.1+L37*0.75+O37*0.05+R37*0.05+U37*0.05 -> 81.319 | W37: 33 | X37: 36 | Y37: 是 | Z37: 125 | AA37: 体育成绩不合格
A38: 化学化工学院 | B38: 高分子材料与工程 | C38: 2025 | D38: 高251 | E38: 2508110028 | F38: 曹心宇 | G38: 85 | H38: 2.5 | I38: =G38+H38 -> 87.5 | J38: 84.11828 | K38: 1 | L38: =J38+K38 -> 85.11828 | M38: 67.8 | N38: 0 | O38: =M38+N38 -> 67.8 | P38: 45.6 | Q38: 0 | R38: =P38+Q38 -> 45.6 | S38: 60 | T38: 1 | U38: =S38+T38 -> 61 | V38: 81.31 | W38: 34 | X38: 30 | Y38: 否 | Z38: 125 | AA38: 三等奖学金
A39: 化学化工学院 | B39: 高分子材料与工程 | C39: 2025 | D39: 高251 | E39: 2508110007 | F39: 廖舒乐 | G39: 86.36 | H39: 2.5 | I39: 88.86 | J39: 82.978495 | K39: 1 | L39: 83.98 | M39: 69.95 | N39: 0 | O39: 69.95 | P39: 45.6 | Q39: 0 | R39: 45.6 | S39: 60 | T39: 11 | U39: =S39+T39 -> 71 | V39: =I39*0.1+L39*0.75+O39*0.05+R39*0.05+U39*0.05 -> 81.1985 | W39: 35 | X39: 42 | Y39: 否 | Z39: 125 | AA39: 三等奖学金
A40: 化学化工学院 | B40: 高分子材料与工程 | C40: 2025 | D40: 高251 | E40: 2508110009 | F40: 刘洪志 | G40: 84.71 | H40: 1 | I40: 85.71 | J40: 84.204301 | K40: 0.5 | L40: 84.7 | M40: 78.05 | N40: 0 | O40: 78.05 | P40: 34.2 | Q40: 0 | R40: 34.2 | S40: 60 | T40: 5.555 | U40: 64.56 | V40: 80.97 | W40: 36 | X40: 29 | Y40: 否 | Z40: 125 | AA40: 三等奖学金
...

Sheet 化师25
A1: 附件5：
A2: 化学化工学院化学（师范）专业2025年级综合测评排名表
A3: 学院: | C3: （盖章） | X3: 学院分管学生工作领导签名：
A4: 学院 | B4: 专业 | C4: 年级 | D4: 班级 | E4: 学号 | F4: 姓名 | G4: 德育 考评分 | H4: 德育 加减分 | I4: 德育 成绩 | J4: 智育 考试分 | K4: 智育 加减分 | L4: 智育 成绩 | M4: 体育 测评分 | N4: 体育 加减分 | O4: 体育 成绩 | P4: 美育 基础分 | Q4: 美育 奖惩分 | R4: 美育 成绩 | S4: 劳育 基础分 | T4: 劳育 奖惩分 | U4: 劳育 成绩 | V4: 综合 测评分 | W4: 综合测评排名 | X4: 学习成绩排名 | Y4: 是否有不及格课程 | Z4: 专业年级 总人数 | AA4: 奖学金 等级 | AB4: 单项 奖学金 | AC4: 荣誉称号 | AD4: 学生签名
A5: 化学化工学院 | B5: 化学（师范） | C5: 2025 | D5: 化师253 | E5: 2508110423 | F5: 宋涛 | G5: 86.22 | H5: 13.775 | I5: =G5+H5 -> 99.995 | J5: =VLOOKUP(F5,[1]工作表1!A:W,23,0) -> 95.76 | K5: 5.3 | L5: 100 | M5: 85.4 | N5: 0 | O5: =M5+N5 -> 85.4 | P5: 60 | Q5: 1.5 | R5: =SUM(P5:Q5) -> 61.5 | S5: 60 | T5: 11 | U5: =SUM(S5:T5) -> 71 | V5: =I5*0.1+L5*0.75+O5*0.05+R5*0.05+U5*0.05 -> 95.8945 | W5: 1 | X5: 1 | Y5: 否 | Z5: 93 | AA5: 一等奖学金 | AB5: 研究与创新奖 | AC5: 三好学生标兵
A6: 化学化工学院 | B6: 化学（师范） | C6: 2025 | D6: 化师251 | E6: 2508110362 | F6: 王佳成 | G6: 86.46 | H6: 4 | I6: 90.46 | J6: 91.57 | K6: 7.5 | L6: 99.07 | M6: 73.2 | N6: 0 | O6: 73.2 | P6: 57.4 | Q6: 0 | R6: 57.4 | S6: 60 | T6: 11 | U6: 71 | V6: 93.43 | W6: 2 | X6: 5 | Y6: 否 | Z6: 93 | AA6: 一等奖学金 | AC6: 三好学生
A7: 化学化工学院 | B7: 化学（师范） | C7: 2025 | D7: 化师253 | E7: 2508110410 | F7: 张灵钰 | G7: 86.91 | H7: 7.58 | I7: =G7+H7 -> 94.49 | J7: =VLOOKUP(F7,[1]工作表1!A:W,23,0) -> 93.11 | K7: 3.5 | L7: =J7+K7 -> 96.61 | M7: 88.15 | N7: 0.75 | O7: =M7+N7 -> 88.9 | P7: 60 | Q7: 0 | R7: =SUM(P7:Q7) -> 60 | S7: 60 | T7: 10 | U7: =SUM(S7:T7) -> 70 | V7: =I7*0.1+L7*0.75+O7*0.05+R7*0.05+U7*0.05 -> 92.8515 | W7: 3 | X7: 2 | Y7: 否 | Z7: 93 | AA7: 一等奖学金 | AC7: 三好学生
A8: 化学化工学院 | B8: 化学（师范） | C8: 2025 | D8: 化师253 | E8: 2508110417 | F8: 郑萌萌 | G8: 86.86 | H8: 7 | I8: =G8+H8 -> 93.86 | J8: =VLOOKUP(F8,[1]工作表1!A:W,23,0) -> 91.87 | K8: 3.5 | L8: =J8+K8 -> 95.37 | M8: 92.5 | N8: 2.5 | O8: =M8+N8 -> 95 | P8: 58.8 | Q8: 0 | R8: =SUM(P8:Q8) -> 58.8 | S8: 60 | T8: 10 | U8: =SUM(S8:T8) -> 70 | V8: =I8*0.1+L8*0.75+O8*0.05+R8*0.05+U8*0.05 -> 92.1035 | W8: 4 | X8: 3 | Y8: 否 | Z8: 93 | AA8: 一等奖学金 | AC8: 三好学生 | CO8: 一等 | CP8: 三标 | CQ8: 研究与创新奖
A9: 化学化工学院 | B9: 化学（师范） | C9: 2025 | D9: 化师253 | E9: 2508110426 | F9: 胡双双 | G9: 86.85 | H9: 15.08 | I9: 100 | J9: =VLOOKUP(F9,[1]工作表1!A:W,23,0) -> 90.49 | K9: 3.025 | L9: =J9+K9 -> 93.515 | M9: 92.95 | N9: 1.25 | O9: =M9+N9 -> 94.2 | P9: 60 | Q9: 0.15 | R9: =SUM(P9:Q9) -> 60.15 | S9: 60 | T9: 14 | U9: =SUM(S9:T9) -> 74 | V9: =I9*0.1+L9*0.75+O9*0.05+R9*0.05+U9*0.05 -> 91.55375 | W9: 5 | X9: 9 | Y9: 否 | Z9: 93 | AA9: 二等奖学金 | AB9: 文体活动奖 | AC9: 三好学生 | CO9: 二等 | CP9: 三好 | CQ9: 道德风尚奖
A10: 化学化工学院 | B10: 化学（师范） | C10: 2025 | D10: 化师253 | E10: 2508110418 | F10: 施佳汝 | G10: 86.88 | H10: 13.13 | I10: 100 | J10: =VLOOKUP(F10,[1]工作表1!A:W,23,0) -> 90.68 | K10: 1.8 | L10: =J10+K10 -> 92.48 | M10: 86.2 | N10: 0.75 | O10: =M10+N10 -> 86.95 | P10: 59.4 | Q10: 0.32 | R10: =SUM(P10:Q10) -> 59.72 | S10: 60 | T10: 12 | U10: =SUM(S10:T10) -> 72 | V10: =I10*0.1+L10*0.75+O10*0.05+R10*0.05+U10*0.05 -> 90.2935 | W10: 6 | X10: 7 | Y10: 否 | Z10: 93 | AA10: 二等奖学金 | AC10: 三好学生 | CO10: 三等 | CP10: 优干 | CQ10: 文体活动奖
A11: 化学化工学院 | B11: 化学（师范） | C11: 2025 | D11: 化师252 | E11: 2508110386 | F11: 杨苏鈺 | G11: 86.9 | H11: 11.8 | I11: 98.7 | J11: 89.3 | K11: 1.08 | L11: 90.38 | M11: 93.15 | N11: 0 | O11: 93.15 | P11: 60 | Q11: 5.4 | R11: 65.4 | S11: 60 | T11: 25 | U11: 85 | V11: =I11*0.1+L11*0.75+O11*0.05+R11*0.05+U11*0.05 -> 89.8325 | W11: 7 | X11: 14 | Y11: 否 | Z11: 93 | AA11: 二等奖学金 | AB11: 文体活动奖 | CO11: 课程考核不合格 | CQ11: 社会工作奖
A12: 化学化工学院 | B12: 化学（师范） | C12: 2025 | D12: 化师252 | E12: 2508110387 | F12: 何梦茹 | G12: 85.28 | H12: 4.53 | I12: =SUM(G12+H12) -> 89.81 | J12: 90.15 | K12: 3 | L12: 93.15 | M12: 89.15 | N12: 0.3 | O12: 89.45 | P12: 57 | Q12: 2.6 | R12: 59.6 | S12: 60 | T12: 10 | U12: 70 | V12: =I12*0.1+L12*0.75+O12*0.05+R12*0.05+U12*0.05 -> 89.796 | W12: 8 | X12: 11 | Y12: 否 | Z12: 93 | AA12: 二等奖学金
A13: 化学化工学院 | B13: 化学（师范） | C13: 2025 | D13: 化师252 | E13: 2508110381 | F13: 王颖 | G13: 86.42 | H13: 5.1 | I13: =SUM(G13+H13) -> 91.52 | J13: 91.6 | K13: 1.5 | L13: 93.1 | M13: 79.75 | N13: 0 | O13: 79.75 | P13: 58.8 | Q13: 0 | R13: 58.8 | S13: 60 | T13: 11 | U13: 71 | V13: =I13*0.1+L13*0.75+O13*0.05+R13*0.05+U13*0.05 -> 89.4545 | W13: 9 | X13: 4 | Y13: 否 | Z13: 93 | AA13: 二等奖学金 | AC13: 三好学生
A14: 化学化工学院 | B14: 化学（师范） | C14: 2025 | D14: 化师253 | E14: 2508110403 | F14: 张敏 | G14: 86.63 | H14: 4.83 | I14: =G14+H14 -> 91.46 | J14: =VLOOKUP(F14,[1]工作表1!A:W,23,0) -> 90.79 | K14: 3 | L14: =J14+K14 -> 93.79 | M14: 61.7 | N14: 0 | O14: =M14+N14 -> 61.7 | P14: 58 | Q14: 0 | R14: =SUM(P14:Q14) -> 58 | S14: 60 | T14: 11 | U14: =SUM(S14:T14) -> 71 | V14: =I14*0.1+L14*0.75+O14*0.05+R14*0.05+U14*0.05 -> 89.0235 | W14: 10 | X14: 6 | Y14: 是 | Z14: 93 | AA14: 体测成绩不合格 | CO14: 德育分未达标
A15: 化学化工学院 | B15: 化学（师范） | C15: 2025 | D15: 化师253 | E15: 2508110414 | F15: 刘子轩 | G15: 86.94 | H15: 7.1 | I15: =G15+H15 -> 94.04 | J15: =VLOOKUP(F15,[1]工作表1!A:W,23,0) -> 89.92 | K15: 1.5 | L15: =J15+K15 -> 91.42 | M15: 85.15 | N15: 0.75 | O15: =M15+N15 -> 85.9 | P15: 58.4 | Q15: 0 | R15: =SUM(P15:Q15) -> 58.4 | S15: 60 | T15: 10 | U15: =SUM(S15:T15) -> 70 | V15: =I15*0.1+L15*0.75+O15*0.05+R15*0.05+U15*0.05 -> 88.684 | W15: 11 | X15: 12 | Y15: 否 | Z15: 93 | AA15: 二等奖学金 | CO15: 体育成绩不合格
A16: 化学化工学院 | B16: 化学（师范） | C16: 2025 | D16: 化师252 | E16: 2508110384 | F16: 张秋彦 | G16: 85.99 | H16: 4.35 | I16: =SUM(G16+H16) -> 90.34 | J16: 90.54 | K16: 1.5 | L16: 92.04 | M16: 82.35 | N16: 0 | O16: 82.35 | P16: 58 | Q16: 0.2 | R16: 58.2 | S16: 60 | T16: 11 | U16: 71 | V16: =I16*0.1+L16*0.75+O16*0.05+R16*0.05+U16*0.05 -> 88.6415 | W16: 12 | X16: 8 | Y16: 否 | Z16: 93 | AA16: 二等奖学金 | AC16: 三好学生
A17: 化学化工学院 | B17: 化学（师范） | C17: 2025 | D17: 化师253 | E17: 2508110406 | F17: 王凤梅 | G17: 86.61 | H17: 12.75 | I17: =G17+H17 -> 99.36 | J17: =VLOOKUP(F17,[1]工作表1!A:W,23,0) -> 87.07 | K17: 3.5 | L17: =J17+K17 -> 90.57 | M17: 84.15 | N17: 0 | O17: =M17+N17 -> 84.15 | P17: 59.4 | Q17: 0 | R17: =SUM(P17:Q17) -> 59.4 | S17: 60 | T17: 11 | U17: =SUM(S17:T17) -> 71 | V17: =I17*0.1+L17*0.75+O17*0.05+R17*0.05+U17*0.05 -> 88.591 | W17: 13 | X17: 24 | Y17: 否 | Z17: 93 | AA17: 二等奖学金
A18: 化学化工学院 | B18: 化学（师范） | C18: 2025 | D18: 化师253 | E18: 2508110416 | F18: 茆钏钰 | G18: 86.94 | H18: 7.1 | I18: =G18+H18 -> 94.04 | J18: =VLOOKUP(F18,[1]工作表1!A:W,23,0) -> 89.18 | K18: 1.5 | L18: =J18+K18 -> 90.68 | M18: 85.9 | N18: 0.75 | O18: =M18+N18 -> 86.65 | P18: 58.2 | Q18: 0 | R18: =SUM(P18:Q18) -> 58.2 | S18: 60 | T18: 10 | U18: =SUM(S18:T18) -> 70 | V18: =I18*0.1+L18*0.75+O18*0.05+R18*0.05+U18*0.05 -> 88.1565 | W18: 14 | X18: 15 | Y18: 否 | Z18: 93 | AA18: 三等奖学金
A19: 化学化工学院 | B19: 化学（师范） | C19: 2025 | D19: 化师253 | E19: 2508110419 | F19: 绪峻齐 | G19: 86.94 | H19: 6.35 | I19: =G19+H19 -> 93.29 | J19: =VLOOKUP(F19,[1]工作表1!A:W,23,0) -> 90.2 | K19: 1 | L19: =J19+K19 -> 91.2 | M19: 77.25 | N19: 0.75 | O19: =M19+N19 -> 78 | P19: 58.2 | Q19: 0 | R19: =SUM(P19:Q19) -> 58.2 | S19: 60 | T19: 10 | U19: =SUM(S19:T19) -> 70 | V19: =I19*0.1+L19*0.75+O19*0.05+R19*0.05+U19*0.05 -> 88.039 | W19: 15 | X19: 10 | Y19: 否 | Z19: 93 | AA19: 三等奖学金
A20: 化学化工学院 | B20: 化学（师范） | C20: 2025 | D20: 化师253 | E20: 2508110402 | F20: 李美琪 | G20: 86.16 | H20: 15.03 | I20: 100 | J20: =VLOOKUP(F20,[1]工作表1!A:W,23,0) -> 86.52 | K20: 3 | L20: =J20+K20 -> 89.52 | M20: 79.35 | N20: 0 | O20: =M20+N20 -> 79.35 | P20: 57.8 | Q20: 0.75 | R20: =SUM(P20:Q20) -> 58.55 | S20: 60 | T20: 13 | U20: =SUM(S20:T20) -> 73 | V20: =I20*0.1+L20*0.75+O20*0.05+R20*0.05+U20*0.05 -> 87.685 | W20: 16 | X20: 30 | Y20: 否 | Z20: 93 | AA20: 三等奖学金
A21: 化学化工学院 | B21: 化学（师范） | C21: 2025 | D21: 化师251 | E21: 2508110344 | F21: 陈芊名 | G21: 92.17 | H21: 2.5 | I21: =G21+H21 -> 94.67 | J21: 86.86 | K21: 3 | L21: =J21+K21 -> 89.86 | M21: 78.9 | N21: 0 | O21: =M21+N21 -> 78.9 | P21: 59.2 | Q21: 0 | R21: =P21+Q21 -> 59.2 | S21: 70 | T21: 0 | U21: =S21+T21 -> 70 | V21: =I21*0.1+L21*0.75+O21*0.05+R21*0.05+U21*0.05 -> 87.267 | W21: 17 | X21: 27 | Y21: 否 | Z21: 93 | AA21: 三等奖学金
A22: 化学化工学院 | B22: 化学（师范） | C22: 2025 | D22: 化师251 | E22: 2508110341 | F22: 黄露露 | G22: 93.49 | H22: 0 | I22: =G22+H22 -> 93.49 | J22: 87.94 | K22: 1.5 | L22: =J22+K22 -> 89.44 | M22: 78.85 | N22: 0 | O22: =M22+N22 -> 78.85 | P22: 58.2 | Q22: 0 | R22: =P22+Q22 -> 58.2 | S22: 70 | T22: 2.5 | U22: =S22+T22 -> 72.5 | V22: =I22*0.1+L22*0.75+O22*0.05+R22*0.05+U22*0.05 -> 86.9065 | W22: 18 | X22: 20 | Y22: 否 | Z22: 93 | AA22: 三等奖学金 | AB22: 学业进步奖
A23: 化学化工学院 | B23: 化学（师范） | C23: 2025 | D23: 化师252 | E23: 2508110389 | F23: 曲祉铭 | G23: 86.5 | H23: 7.75 | I23: =SUM(G23+H23) -> 94.25 | J23: 88.1 | K23: 1.25 | L23: 89.35 | M23: 80.02 | N23: 0 | O23: 76.4 | P23: 60 | Q23: 0 | R23: 60 | S23: 60 | T23: 11 | U23: 71 | V23: =I23*0.1+L23*0.75+O23*0.05+R23*0.05+U23*0.05 -> 86.8075 | W23: 19 | X23: 19 | Y23: 否 | Z23: 93 | AA23: 三等奖学金
A24: 化学化工学院 | B24: 化学（师范） | C24: 2025 | D24: 化师252 | E24: 2508110371 | F24: 刘雨薇 | G24: 85.87 | H24: 2.5 | I24: =SUM(G24+H24) -> 88.37 | J24: 88.33 | K24: 1 | L24: 89.33 | M24: 83.3 | N24: 0 | O24: 83.3 | P24: 58.6 | Q24: 0 | R24: 58.6 | S24: 60 | T24: 10 | U24: 70 | V24: =I24*0.1+L24*0.75+O24*0.05+R24*0.05+U24*0.05 -> 86.4295 | W24: 20 | X24: 16 | Y24: 否 | Z24: 93 | AA24: 三等奖学金
A25: 化学化工学院 | B25: 化学（师范） | C25: 2025 | D25: 化师252 | E25: 2508110379 | F25: 朱佳 | G25: 86.72 | H25: 2.75 | I25: =SUM(G25+H25) -> 89.47 | J25: 88.29 | K25: 1.5 | L25: 89.79 | M25: 79.2 | N25: 0 | O25: 79.2 | P25: 57.6 | Q25: 0 | R25: 57.6 | S25: 60 | T25: 6 | U25: 66 | V25: =I25*0.1+L25*0.75+O25*0.05+R25*0.05+U25*0.05 -> 86.4295 | W25: 21 | X25: 17 | Y25: 否 | Z25: 93 | AA25: 三等奖学金
A26: 化学化工学院 | B26: 化学（师范） | C26: 2025 | D26: 化师253 | E26: 2508110413 | F26: 陈欣怡 | G26: 86.78 | H26: 5.5 | I26: =G26+H26 -> 92.28 | J26: =VLOOKUP(F26,[1]工作表1!A:W,23,0) -> 89.48 | K26: 1.5 | L26: =J26+K26 -> 90.98 | M26: 69.55 | N26: 0 | O26: =M26+N26 -> 69.55 | P26: 58.4 | Q26: 0 | R26: =SUM(P26:Q26) -> 58.4 | S26: 45 | T26: 0 | U26: =SUM(S26:T26) -> 45 | V26: =I26*0.1+L26*0.75+O26*0.05+R26*0.05+U26*0.05 -> 86.1105 | W26: 22 | X26: 13 | Y26: 是 | Z26: 93 | AA26: 体测成绩不合格
A27: 化学化工学院 | B27: 化学（师范） | C27: 2025 | D27: 化师252 | E27: 2508110377 | F27: 谢东廷 | G27: 86.89 | H27: 3.25 | I27: =SUM(G27+H27) -> 90.14 | J27: 88.15 | K27: 1 | L27: 89.15 | M27: 80 | N27: 0 | O27: 80 | P27: 57.6 | Q27: 0 | R27: 57.6 | S27: 60 | T27: 4.5 | U27: 64.5 | V27: =I27*0.1+L27*0.75+O27*0.05+R27*0.05+U27*0.05 -> 85.9815 | W27: 23 | X27: 18 | Y27: 否 | Z27: 93 | AA27: 三等奖学金
A28: 化学化工学院 | B28: 化学（师范） | C28: 2025 | D28: 化师251 | E28: 2508110356 | F28: 陈佳瑶 | G28: 86.88 | H28: 2.75 | I28: 89.63 | J28: 87.44 | K28: 1 | L28: 88.44 | M28: 79.8 | N28: 0 | O28: 79.8 | P28: 57.6 | Q28: 0 | R28: 57.6 | S28: 60 | T28: 8.98 | U28: 68.98 | V28: 85.61 | W28: 24 | X28: 21 | Y28: 否 | Z28: 93 | AA28: 三等奖学金
A29: 化学化工学院 | B29: 化学（师范） | C29: 2025 | D29: 化师253 | E29: 2508110409 | F29: 徐紫程 | G29: 86.83 | H29: 3.85 | I29: =G29+H29 -> 90.68 | J29: =VLOOKUP(F29,[1]工作表1!A:W,23,0) -> 86.77 | K29: 1 | L29: =J29+K29 -> 87.77 | M29: 83.55 | N29: 0.75 | O29: =M29+N29 -> 84.3 | P29: 58.8 | Q29: 0 | R29: =SUM(P29:Q29) -> 58.8 | S29: 60 | T29: 10 | U29: =SUM(S29:T29) -> 70 | V29: =I29*0.1+L29*0.75+O29*0.05+R29*0.05+U29*0.05 -> 85.5505 | W29: 25 | X29: 28 | Y29: 否 | Z29: 93 | AA29: 三等奖学金
A30: 化学化工学院 | B30: 化学（师范） | C30: 2025 | D30: 化师253 | E30: 2508110401 | F30: 冯秋涵 | G30: 86.05 | H30: 4 | I30: =G30+H30 -> 90.05 | J30: =VLOOKUP(F30,[1]工作表1!A:W,23,0) -> 86.95 | K30: 1 | L30: =J30+K30 -> 87.95 | M30: 77.85 | N30: 0 | O30: =M30+N30 -> 77.85 | P30: 57.8 | Q30: 0 | R30: =SUM(P30:Q30) -> 57.8 | S30: 60 | T30: 10 | U30: =SUM(S30:T30) -> 70 | V30: =I30*0.1+L30*0.75+O30*0.05+R30*0.05+U30*0.05 -> 85.25 | W30: 26 | X30: 25 | Y30: 否 | Z30: 93 | AA30: 三等奖学金
A31: 化学化工学院 | B31: 化学（师范） | C31: 2025 | D31: 化师252 | E31: 2508110373 | F31: 徐敬文 | G31: 86.69 | H31: 3.3 | I31: =SUM(G31+H31) -> 89.99 | J31: 86.91 | K31: 1 | L31: 87.91 | M31: 77.15 | N31: 0 | O31: 77.15 | P31: 58.6 | Q31: 0 | R31: 58.6 | S31: 60 | T31: 9.09 | U31: 69.09 | V31: =I31*0.1+L31*0.75+O31*0.05+R31*0.05+U31*0.05 -> 85.1735 | W31: 27 | X31: 26 | Y31: 否 | Z31: 93 | AA31: 三等奖学金
A32: 化学化工学院 | B32: 化学（师范） | C32: 2025 | D32: 化师253 | E32: 2508110407 | F32: 黄诗喻 | G32: 86.31 | H32: 9.5 | I32: =G32+H32 -> 95.81 | J32: =VLOOKUP(F32,[1]工作表1!A:W,23,0) -> 84.36 | K32: 2.17 | L32: =J32+K32 -> 86.53 | M32: 76.5 | N32: 0.75 | O32: =M32+N32 -> 77.25 | P32: 60 | Q32: 0.27 | R32: =SUM(P32:Q32) -> 60.27 | S32: 60 | T32: 10 | U32: =SUM(S32:T32) -> 70 | V32: =I32*0.1+L32*0.75+O32*0.05+R32*0.05+U32*0.05 -> 84.8545 | W32: 28 | X32: 42 | Y32: 否 | Z32: 93 | AA32: 三等奖学金
A33: 化学化工学院 | B33: 化学（师范） | C33: 2025 | D33: 化师252 | E33: 2508110385 | F33: 陈花培钰 | G33: 86.18 | H33: 5.53 | I33: =SUM(G33+H33) -> 91.71 | J33: 85.64 | K33: 1.25 | L33: 86.89 | M33: 78.6 | N33: 0 | O33: 78.6 | P33: 57.8 | Q33: 0.75 | R33: 58.55 | S33: 60 | T33: 11 | U33: 71 | V33: =I33*0.1+L33*0.75+O33*0.05+R33*0.05+U33*0.05 -> 84.746 | W33: 29 | X33: 34 | Y33: 否 | Z33: 93 | AA33: 三等奖学金
A34: 化学化工学院 | B34: 化学（师范） | C34: 2025 | D34: 化师252 | E34: 2508110380 | F34: 王奕轩 | G34: 86.48 | H34: 5.9 | I34: =SUM(G34+H34) -> 92.38 | J34: 84.84 | K34: 1.05 | L34: 85.89 | M34: 87.7 | N34: 0 | O34: 87.7 | P34: 59.6 | Q34: 0 | R34: 59.6 | S34: 60 | T34: 8.5 | U34: 68.5 | V34: =I34*0.1+L34*0.75+O34*0.05+R34*0.05+U34*0.05 -> 84.4455 | W34: 30 | X34: 38 | Y34: 否 | Z34: 93 | AA34: 三等奖学金
A35: 化学化工学院 | B35: 化学（师范） | C35: 2025 | D35: 化师252 | E35: 2508110383 | F35: 车莹 | G35: 85.94 | H35: 4.75 | I35: =SUM(G35+H35) -> 90.69 | J35: 85.39 | K35: 1 | L35: 86.39 | M35: 81.35 | N35: 0 | O35: 81.35 | P35: 57 | Q35: 1 | R35: 58 | S35: 60 | T35: 11 | U35: 71 | V35: =I35*0.1+L35*0.75+O35*0.05+R35*0.05+U35*0.05 -> 84.379 | W35: 31 | X35: 35 | Y35: 否 | Z35: 93 | AA35: 三等奖学金
A36: 化学化工学院 | B36: 化学（师范） | C36: 2025 | D36: 化师251 | E36: 2508110360 | F36: 范佳冰 | G36: 86.71 | H36: 3 | I36: 89.71 | J36: 84.29 | K36: 1.5 | L36: 85.79 | M36: 89 | N36: 0 | O36: 89 | P36: 58 | Q36: 1 | R36: 59 | S36: 60 | T36: 12 | U36: 72 | V36: 84.31 | W36: 32 | X36: 44 | Y36: 否 | Z36: 93 | AA36: 三等奖学金
A37: 化学化工学院 | B37: 化学（师范） | C37: 2025 | D37: 化师252 | E37: 2508110393 | F37: 王子豪 | G37: 85.73 | H37: 3 | I37: =SUM(G37+H37) -> 88.73 | J37: 86.63 | K37: 1 | L37: 87.63 | M37: 75.25 | N37: 0 | O37: 75.25 | P37: 57 | Q37: 0 | R37: 57 | S37: 60 | T37: 1.5 | U37: 61.5 | V37: =I37*0.1+L37*0.75+O37*0.05+R37*0.05+U37*0.05 -> 84.283 | W37: 33 | X37: 29 | Y37: 否 | Z37: 93 | AA37: 三等奖学金
A38: 化学化工学院 | B38: 化学（师范） | C38: 2025 | D38: 化师252 | E38: 2508110392 | F38: 史鸿飞 | G38: 86.07 | H38: 3 | I38: =SUM(G38+H38) -> 89.07 | J38: 87.18 | K38: 1 | L38: 88.18 | M38: 70.65 | N38: 0 | O38: 70.65 | P38: 45.6 | Q38: 0 | R38: 45.6 | S38: 60 | T38: 8.15 | U38: 68.15 | V38: =I38*0.1+L38*0.75+O38*0.05+R38*0.05+U38*0.05 -> 84.262 | W38: 34 | X38: 23 | Y38: 否 | Z38: 93 | AA38: 三等奖学金
A39: 化学化工学院 | B39: 化学（师范） | C39: 2025 | D39: 化师251 | E39: 2508110352 | F39: 朱生枫 | G39: 86.88 | H39: 3 | I39: 89.88 | J39: 85.78 | K39: 1.5 | L39: 87.28 | M39: 74.5 | N39: 0 | O39: 74.5 | P39: 57.2 | Q39: 0.66 | R39: 57.86 | S39: 60 | T39: 2.5 | U39: 62.5 | V39: 84.19 | W39: 35 | X39: 33 | Y39: 否 | Z39: 93 | AA39: 三等奖学金
A40: 化学化工学院 | B40: 化学（师范） | C40: 2025 | D40: 化师252 | E40: 2508110374 | F40: 管营营 | G40: 86.5 | H40: 6 | I40: =SUM(G40+H40) -> 92.5 | J40: 86.33 | K40: 1 | L40: 87.33 | M40: 77.15 | N40: 0 | O40: 77.15 | P40: 34.2 | Q40: 0 | R40: 34.2 | S40: 60 | T40: 10 | U40: 70 | V40: =I40*0.1+L40*0.75+O40*0.05+R40*0.05+U40*0.05 -> 83.815 | W40: 36 | X40: 31 | Y40: 否 | Z40: 93 | AA40: 三等奖学金
...

Sheet 新能源25
A1: 附件5：
A2: 化学化工学院新能源材料与器件专业2025年级综合测评排名表
A3: 学院: | C3: （盖章） | X3: 学院分管学生工作领导签名：
A4: 学院 | B4: 专业 | C4: 年级 | D4: 班级 | E4: 学号 | F4: 姓名 | G4: 德育 考评分 | H4: 德育 加减分 | I4: 德育 成绩 | J4: 智育 考试分 | K4: 智育 加减分 | L4: 智育 成绩 | M4: 体育 测评分 | N4: 体育 加减分 | O4: 体育 成绩 | P4: 美育 基础分 | Q4: 美育 奖惩分 | R4: 美育 成绩 | S4: 劳育 基础分 | T4: 劳育 奖惩分 | U4: 劳育 成绩 | V4: 综合 测评分 | W4: 综合测评排名 | X4: 学习成绩排名 | Y4: 是否有不及格课程 | Z4: 专业年级 总人数 | AA4: 奖学金 等级 | AB4: 单项 奖学金 | AC4: 荣誉称号 | AD4: 学生签名
A5: 化学化工学院 | B5: 新能源材料与器件 | C5: 2025 | D5: 新能源254 | E5: 2508110312 | F5: 程静璋 | G5: 86.616 | H5: 14.55 | I5: 100 | J5: 90.13 | K5: 6 | L5: 96.13 | M5: 86.15 | N5: 0 | O5: 86.15 | P5: 60 | Q5: 20 | R5: 80 | S5: 60 | T5: 18.5 | U5: 78.5 | V5: =I5*0.1+L5*0.75+O5*0.05+R5*0.05+U5*0.05 -> 94.33 | W5: 1 | X5: 7 | Y5: 否 | Z5: 122 | AA5: 一等奖学金 | AB5: 文体活动奖 | AC5: 优秀学生干部
A6: 化学化工学院 | B6: 新能源材料与器件 | C6: 2025 | D6: 新能源253 | E6: 2508110283 | F6: 汪佳怡 | G6: 86.05 | H6: 10.15 | I6: 96.1 | J6: 90.33 | K6: 6 | L6: 96.33 | M6: 90.9 | N6: 0 | O6: 90.9 | P6: 60 | Q6: 0 | R6: 60 | S6: 60 | T6: 11 | U6: 71 | V6: =I6*0.1+L6*0.75+O6*0.05+R6*0.05+U6*0.05 -> 92.9525 | W6: 2 | X6: 6 | Y6: 否 | Z6: 122 | AA6: 一等奖学金 | AC6: 优秀学生干部
A7: 化学化工学院 | B7: 新能源材料与器件 | C7: 2025 | D7: 新能源251 | E7: 2508110228 | F7: 钱叙宇 | G7: 84.35 | H7: 3.75 | I7: 88.1 | J7: 92.53 | K7: 3 | L7: 95.53 | M7: 84.45 | N7: 0 | O7: 84.45 | P7: 58.8 | Q7: 0.3 | R7: 59.1 | S7: 60 | T7: 11 | U7: 71 | V7: =I7*0.1+L7*0.75+O7*0.05+R7*0.05+U7*0.05 -> 91.185 | W7: 3 | X7: 2 | Y7: 否 | Z7: 122 | AA7: 一等奖学金 | AC7: 三好学生标兵
A8: 化学化工学院 | B8: 新能源材料与器件 | C8: 2025 | D8: 新能源251 | E8: 2508110227 | F8: 张瑞 | G8: 84.5 | H8: 5.475 | I8: 89.975 | J8: 90.53 | K8: 4 | L8: 94.53 | M8: 88.15 | N8: 0 | O8: 88.15 | P8: 58.6 | Q8: 1 | R8: 59.6 | S8: 60 | T8: 10.5 | U8: 70.5 | V8: =I8*0.1+L8*0.75+O8*0.05+R8*0.05+U8*0.05 -> 90.8075 | W8: 4 | X8: 5 | Y8: 否 | Z8: 122 | AA8: 一等奖学金 | AC8: 三好学生
A9: 化学化工学院 | B9: 新能源材料与器件 | C9: 2025 | D9: 新能源253 | E9: 2508110281 | F9: 夏春芳 | G9: 86.975 | H9: 7.85 | I9: 94.825 | J9: 87.93 | K9: 5.5 | L9: 93.43 | M9: 86.2 | N9: 0 | O9: 86.2 | P9: 59 | Q9: 0 | R9: 59 | S9: 60 | T9: 10 | U9: 70 | V9: =I9*0.1+L9*0.75+O9*0.05+R9*0.05+U9*0.05 -> 90.315 | W9: 5 | X9: 16 | Y9: 否 | Z9: 122 | AA9: 一等奖学金
A10: 化学化工学院 | B10: 新能源材料与器件 | C10: 2025 | D10: 新能源251 | E10: 2508110230 | F10: 王泽群 | G10: 83.8 | H10: 4.5 | I10: 88.3 | J10: 93.24 | K10: 1 | L10: 94.24 | M10: 79.5 | N10: 0 | O10: 79.5 | P10: 57.6 | Q10: 0 | R10: 57.6 | S10: 60 | T10: 11 | U10: 71 | V10: =I10*0.1+L10*0.75+O10*0.05+R10*0.05+U10*0.05 -> 89.915 | W10: 6 | X10: 1 | Y10: 否 | Z10: 122 | AA10: 一等奖学金 | AC10: 三好学生标兵
A11: 化学化工学院 | B11: 新能源材料与器件 | C11: 2025 | D11: 新能源253 | E11: 2508110285 | F11: 桑一帆 | G11: 86.4 | H11: 10.35 | I11: 96.75 | J11: 88.42 | K11: 3 | L11: 91.42 | M11: 94.5 | N11: 1.75 | O11: 96.25 | P11: 59.2 | Q11: 0 | R11: 59.2 | S11: 60 | T11: 10.5 | U11: 70.5 | V11: =I11*0.1+L11*0.75+O11*0.05+R11*0.05+U11*0.05 -> 89.5375 | W11: 7 | X11: 14 | Y11: 否 | Z11: 122 | AA11: 二等奖学金 | AB11: 文体活动奖
A12: 化学化工学院 | B12: 新能源材料与器件 | C12: 2025 | D12: 新能源254 | E12: 2508110315 | F12: 密丝语 | G12: 86.696 | H12: 9.25 | I12: 95.946 | J12: 90.13 | K12: 1 | L12: 91.13 | M12: 87.9 | N12: 0 | O12: 87.9 | P12: 57.4 | Q12: 2 | R12: 59.4 | S12: 60 | T12: 11 | U12: 71 | V12: =I12*0.1+L12*0.75+O12*0.05+R12*0.05+U12*0.05 -> 88.8571 | W12: 8 | X12: 7 | Y12: 否 | Z12: 122 | AA12: 二等奖学金 | AC12: 三好学生
A13: 化学化工学院 | B13: 新能源材料与器件 | C13: 2025 | D13: 新能源251 | E13: 2508110240 | F13: 蔡兴亮 | G13: 85.45 | H13: 3 | I13: 88.45 | J13: 90.8 | K13: 1 | L13: 91.8 | M13: 74.4 | N13: 0 | O13: 74.4 | P13: 57 | Q13: 1.8 | R13: 58.8 | S13: 60 | T13: 10.5 | U13: 70.5 | V13: =I13*0.1+L13*0.75+O13*0.05+R13*0.05+U13*0.05 -> 87.88 | W13: 9 | X13: 4 | Y13: 否 | Z13: 122 | AA13: 二等奖学金 | AC13: 三好学生
A14: 化学化工学院 | B14: 新能源材料与器件 | C14: 2025 | D14: 新能源253 | E14: 2508110309 | F14: 刘世坤 | G14: 86.28 | H14: 3.5 | I14: 89.78 | J14: 90.91 | K14: 1 | L14: 91.91 | M14: 80.6 | N14: 0 | O14: 80.6 | P14: 57.2 | Q14: 0 | R14: 57.2 | S14: 60 | T14: 0.5 | U14: 60.5 | V14: =I14*0.1+L14*0.75+O14*0.05+R14*0.05+U14*0.05 -> 87.8255 | W14: 10 | X14: 3 | Y14: 否 | Z14: 122 | AA14: 二等奖学金 | AC14: 三好学生
A15: 化学化工学院 | B15: 新能源材料与器件 | C15: 2025 | D15: 新能源252 | E15: 2508110251 | F15: 高雨涵 | G15: 86.55 | H15: 3.5 | I15: 90.05 | J15: 89.29 | K15: 1.5 | L15: 90.79 | M15: 82 | N15: 0 | O15: 82 | P15: 57.2 | Q15: 0 | R15: 57.2 | S15: 60 | T15: 5 | U15: 65 | V15: =I15*0.1+L15*0.75+O15*0.05+R15*0.05+U15*0.05 -> 87.3075 | W15: 11 | X15: 11 | Y15: 否 | Z15: 122 | AA15: 二等奖学金 | AC15: 三好学生
A16: 化学化工学院 | B16: 新能源材料与器件 | C16: 2025 | D16: 新能源252 | E16: 2421110150 | F16: 赵园杰 | G16: 86.88 | H16: 3 | I16: 89.88 | J16: 86 | K16: 4 | L16: 90 | M16: 81.25 | N16: 0 | O16: 81.25 | P16: 58.6 | Q16: 0 | R16: 58.6 | S16: 60 | T16: 11 | U16: 71 | V16: =I16*0.1+L16*0.75+O16*0.05+R16*0.05+U16*0.05 -> 87.0305 | W16: 12 | X16: 28 | Y16: 否 | Z16: 122 | AA16: 二等奖学金
A17: 化学化工学院 | B17: 新能源材料与器件 | C17: 2025 | D17: 新能源251 | E17: 2508110222 | F17: 吕后彤 | G17: 85.98 | H17: 4.07 | I17: 90.05 | J17: 88.51 | K17: 1.5 | L17: 90.01 | M17: 81.45 | N17: 0 | O17: 81.45 | P17: 57.4 | Q17: 0 | R17: 57.4 | S17: 60 | T17: 7.25 | U17: 67.25 | V17: =I17*0.1+L17*0.75+O17*0.05+R17*0.05+U17*0.05 -> 86.8175 | W17: 13 | X17: 12 | Y17: 否 | Z17: 122 | AA17: 二等奖学金 | AC17: 三好学生
A18: 化学化工学院 | B18: 新能源材料与器件 | C18: 2025 | D18: 新能源254 | E18: 2508110313 | F18: 李怡 | G18: 86.8 | H18: 6.45 | I18: 93.25 | J18: 87.51 | K18: 1 | L18: 88.51 | M18: 85.575 | N18: 0 | O18: 85.575 | P18: 60 | Q18: 2 | R18: 62 | S18: 60 | T18: 12.5 | U18: 72.5 | V18: =I18*0.1+L18*0.75+O18*0.05+R18*0.05+U18*0.05 -> 86.71125 | W18: 14 | X18: 17 | Y18: 否 | Z18: 122 | AA18: 二等奖学金
A19: 化学化工学院 | B19: 新能源材料与器件 | C19: 2025 | D19: 新能源252 | E19: 2508110254 | F19: 顾莉莎 | G19: 85.96 | H19: 4.75 | I19: 90.71 | J19: 88.49 | K19: 1 | L19: 89.49 | M19: 74.75 | N19: 0 | O19: 74.75 | P19: 60 | Q19: 0 | R19: 60 | S19: 60 | T19: 11.9 | U19: 71.9 | V19: =I19*0.1+L19*0.75+O19*0.05+R19*0.05+U19*0.05 -> 86.521 | W19: 15 | X19: 13 | Y19: 否 | Z19: 122 | AA19: 二等奖学金
A20: 化学化工学院 | B20: 新能源材料与器件 | C20: 2025 | D20: 新能源252 | E20: 2508110274 | F20: 廖裕彬 | G20: 86.58 | H20: 4.65 | I20: 91.23 | J20: 88.33 | K20: 1 | L20: 89.33 | M20: 75.7 | N20: 0 | O20: 75.7 | P20: 57.2 | Q20: 2 | R20: 59.2 | S20: 60 | T20: 10 | U20: 70 | V20: =I20*0.1+L20*0.75+O20*0.05+R20*0.05+U20*0.05 -> 86.3655 | W20: 16 | X20: 15 | Y20: 否 | Z20: 122 | AA20: 二等奖学金
A21: 化学化工学院 | B21: 新能源材料与器件 | C21: 2025 | D21: 新能源254 | E21: 2508110316 | F21: 张美华 | G21: 86.856 | H21: 6.75 | I21: 93.606 | J21: 86.29 | K21: 1 | L21: 87.29 | M21: 83.3 | N21: 0 | O21: 83.3 | P21: 57.6 | Q21: 3 | R21: 60.6 | S21: 60 | T21: 16 | U21: 76 | V21: =I21*0.1+L21*0.75+O21*0.05+R21*0.05+U21*0.05 -> 85.8231 | W21: 17 | X21: 25 | Y21: 否 | Z21: 122 | AA21: 二等奖学金
A22: 化学化工学院 | B22: 新能源材料与器件 | C22: 2025 | D22: 新能源253 | E22: 2508110306 | F22: 魏小峰 | G22: 84.03 | H22: 9 | I22: 93.03 | J22: 87.36 | K22: 1 | L22: 88.36 | M22: 75.05 | N22: 0 | O22: 75.05 | P22: 59.2 | Q22: 0 | R22: 59.2 | S22: 60 | T22: 10 | U22: 70 | V22: =I22*0.1+L22*0.75+O22*0.05+R22*0.05+U22*0.05 -> 85.7855 | W22: 18 | X22: 18 | Y22: 否 | Z22: 122 | AA22: 二等奖学金
A23: 化学化工学院 | B23: 新能源材料与器件 | C23: 2025 | D23: 新能源251 | E23: 2508110174 | F23: 吴旭旺 | G23: 84.67 | H23: 6.1 | I23: 90.77 | J23: 86.12 | K23: 1 | L23: 87.12 | M23: 97.15 | N23: 1 | O23: 98.15 | P23: 57.6 | Q23: 0.6 | R23: 58.2 | S23: 60 | T23: 7.5 | U23: 67.5 | V23: =I23*0.1+L23*0.75+O23*0.05+R23*0.05+U23*0.05 -> 85.6095 | W23: 19 | X23: 27 | Y23: 否 | Z23: 122 | AA23: 三等奖学金
A24: 化学化工学院 | B24: 新能源材料与器件 | C24: 2025 | D24: 新能源251 | E24: 2508110224 | F24: 秦思怡 | G24: 86.45 | H24: 2 | I24: 88.45 | J24: 85.22 | K24: 3 | L24: 88.22 | M24: 82.25 | N24: 0 | O24: 82.25 | P24: 58.2 | Q24: 0 | R24: 58.2 | S24: 60 | T24: 11 | U24: 71 | V24: =I24*0.1+L24*0.75+O24*0.05+R24*0.05+U24*0.05 -> 85.5825 | W24: 20 | X24: 31 | Y24: 是 | Z24: 122 | AA24: 课程考核不合格
A25: 化学化工学院 | B25: 新能源材料与器件 | C25: 2025 | D25: 新能源251 | E25: 2508110223 | F25: 王舒雅 | G25: 86.05 | H25: 4.03 | I25: 90.08 | J25: 85.11 | K25: 3 | L25: 88.11 | M25: 77.05 | N25: 0 | O25: 77.05 | P25: 57 | Q25: 0 | R25: 57 | S25: 60 | T25: 10 | U25: 70 | V25: =I25*0.1+L25*0.75+O25*0.05+R25*0.05+U25*0.05 -> 85.293 | W25: 21 | X25: 32 | Y25: 是 | Z25: 122 | AA25: 课程考核不合格
A26: 化学化工学院 | B26: 新能源材料与器件 | C26: 2025 | D26: 新能源254 | E26: 2508110314 | F26: 姚相如 | G26: 86.488 | H26: 8.25 | I26: 94.738 | J26: 85.04 | K26: 1 | L26: 86.04 | M26: 84.75 | N26: 0 | O26: 84.75 | P26: 58.4 | Q26: 2 | R26: 60.4 | S26: 60 | T26: 11 | U26: 71 | V26: =I26*0.1+L26*0.75+O26*0.05+R26*0.05+U26*0.05 -> 84.8113 | W26: 22 | X26: 33 | Y26: 是 | Z26: 122 | AA26: 课程考核不合格
A27: 化学化工学院 | B27: 新能源材料与器件 | C27: 2025 | D27: 新能源252 | E27: 2515110302 | F27: 崔裕顺 | G27: 86.96 | H27: 11 | I27: 97.96 | J27: 84.55 | K27: 1 | L27: 85.55 | M27: 84.625 | N27: 0 | O27: 84.625 | P27: 58.6 | Q27: 0 | R27: 58.6 | S27: 60 | T27: 10 | U27: 70 | V27: =I27*0.1+L27*0.75+O27*0.05+R27*0.05+U27*0.05 -> 84.61975 | W27: 23 | X27: 35 | Y27: 否 | Z27: 122 | AA27: 三等奖学金
A28: 化学化工学院 | B28: 新能源材料与器件 | C28: 2025 | D28: 新能源253 | E28: 2508110300 | F28: 曹欣宜 | G28: 85.68 | H28: 3.65 | I28: 89.33 | J28: 85.4 | K28: 1 | L28: 86.4 | M28: 78.9 | N28: 0 | O28: 78.9 | P28: 59.4 | Q28: 0 | R28: 59.4 | S28: 60 | T28: 13 | U28: 73 | V28: =I28*0.1+L28*0.75+O28*0.05+R28*0.05+U28*0.05 -> 84.298 | W28: 24 | X28: 30 | Y28: 否 | Z28: 122 | AA28: 三等奖学金
A29: 化学化工学院 | B29: 新能源材料与器件 | C29: 2025 | D29: 新能源253 | E29: 2508110284 | F29: 项欣缘 | G29: 86.25 | H29: 4 | I29: 90.25 | J29: 86.36 | K29: 0 | L29: 86.36 | M29: 75.8 | N29: 0 | O29: 75.8 | P29: 60 | Q29: 0 | R29: 60 | S29: 60 | T29: 13 | U29: 73 | V29: =I29*0.1+L29*0.75+O29*0.05+R29*0.05+U29*0.05 -> 84.235 | W29: 25 | X29: 24 | Y29: 否 | Z29: 122 | AA29: 三等奖学金
... A59: 化学化工学院 | B59: 新能源材料与器件 | C59: 2025 | D59: 新能源253 | E59: 2421110210 | F59: 赵垣清 | G59: 86.87 | H59: 2 | I59: 88.87 | J59: 80.91 | K59: 0 | L59: 80.91 | M59: 69.35 | N59: 0 | O59: 69.35 | P59: 60 | Q59: 0 | R59: 60 | S59: 60 | T59: 6.5 | U59: 66.5 | V59: =I59*0.1+L59*0.75+O59*0.05+R59*0.05+U59*0.05 -> 79.362 | W59: 55 | X59: 72 | Y59: 是 | Z59: 122 | AA59: 课程考核不合格
A60: 化学化工学院 | B60: 新能源材料与器件 | C60: 2025 | D60: 新能源251 | E60: 2508110236 | F60: 尉曹雨轩 | G60: 85.45 | H60: 3.75 | I60: 89.2 | J60: 79.76 | K60: 1 | L60: 80.76 | M60: 65.45 | N60: 0 | O60: 65.45 | P60: 57 | Q60: 0.6 | R60: 57.6 | S60: 60 | T60: 11 | U60: 71 | V60: =I60*0.1+L60*0.75+O60*0.05+R60*0.05+U60*0.05 -> 79.1925 | W60: 56 | X60: 68 | Y60: 否 | Z60: 122
A61: 化学化工学院 | B61: 新能源材料与器件 | C61: 2025 | D61: 新能源252 | E61: 2508110257 | F61: 梁兴智 | G61: 86.01 | H61: 2 | I61: 88.01 | J61: 82.04 | K61: 0 | L61: 82.04 | M61: 74.65 | N61: 0 | O61: 74.65 | P61: 57.2 | Q61: 0 | R61: 57.2 | S61: 45 | T61: 0 | U61: 45 | V61: =I61*0.1+L61*0.75+O61*0.05+R61*0.05+U61*0.05 -> 79.1735 | W61: 57 | X61: 54 | Y61: 否 | Z61: 122
A62: 化学化工学院 | B62: 新能源材料与器件 | C62: 2025 | D62: 新能源252 | E62: 2508110261 | F62: 徐远航 | G62: 86.25 | H62: 2 | I62: 88.25 | J62: 82.98 | K62: 1 | L62: 83.98 | M62: 74.3 | N62: 0 | O62: 74.3 | P62: 22.8 | Q62: 0 | R62: 22.8 | S62: 45 | T62: 0.5 | U62: 45.5 | V62: =I62*0.1+L62*0.75+O62*0.05+R62*0.05+U62*0.05 -> 78.94 | W62: 58 | X62: 51 | Y62: 否 | Z62: 122
A63: 化学化工学院 | B63: 新能源材料与器件 | C63: 2025 | D63: 新能源251 | E63: 2508110221 | F63: 洪熙顺 | G63: 85.8 | H63: 4.07 | I63: 89.87 | J63: 78.31 | K63: 1 | L63: 79.31 | M63: 74.5 | N63: 0 | O63: 74.5 | P63: 58 | Q63: 0 | R63: 58 | S63: 60 | T63: 10 | U63: 70 | V63: =I63*0.1+L63*0.75+O63*0.05+R63*0.05+U63*0.05 -> 78.5945 | W63: 59 | X63: 79 | Y63: 是 | Z63: 122 | AA63: 课程考核不合格
A64: 化学化工学院 | B64: 新能源材料与器件 | C64: 2025 | D64: 新能源252 | E64: 2508110272 | F64: 王禹凡 | G64: 86.26 | H64: 2 | I64: 88.26 | J64: 80.52 | K64: 1 | L64: 81.52 | M64: 75.05 | N64: 0 | O64: 75.05 | P64: 34.2 | Q64: 0 | R64: 34.2 | S64: 60 | T64: 1.5 | U64: 61.5 | V64: =I64*0.1+L64*0.75+O64*0.05+R64*0.05+U64*0.05 -> 78.5035 | W64: 60 | X64: 67 | Y64: 否 | Z64: 122
A65: 化学化工学院 | B65: 新能源材料与器件 | C65: 2025 | D65: 新能源253 | E65: 2508110295 | F65: 吴一凡 | G65: 84.65 | H65: 2 | I65: 86.65 | J65: 81.29 | K65: 0 | L65: 81.29 | M65: 70.75 | N65: 0 | O65: 70.75 | P65: 57 | Q65: 0 | R65: 57 | S65: 45 | T65: 0 | U65: 45 | V65: =I65*0.1+L65*0.75+O65*0.05+R65*0.05+U65*0.05 -> 78.27 | W65: 61 | X65: 57 | Y65: 否 | Z65: 122
A66: 化学化工学院 | B66: 新能源材料与器件 | C66: 222 | D66: 新能源253 | E66: 2508110286 | F66: 龙金凤 | G66: 86.38 | H66: 2.75 | I66: 89.13 | J66: 78.09 | K66: 1 | L66: 79.09 | M66: 78.05 | N66: 0 | O66: 78.05 | P66: 57.8 | Q66: 0 | R66: 57.8 | S66: 60 | T66: 1.5 | U66: 61.5 | V66: =I66*0.1+L66*0.75+O66*0.05+R66*0.05+U66*0.05 -> 78.098 | W66: 62 | X66: 81 | Y66: 是 | Z66: 122 | AA66: 课程考核不合格
A67: 化学化工学院 | B67: 新能源材料与器件 | C67: 2025 | D67: 新能源252 | E67: 2508110258 | F67: 丁强 | G67: 86.03 | H67: 2 | I67: 88.03 | J67: 78.29 | K67: 1 | L67: 79.29 | M67: 94.5 | N67: 0 | O67: 94.5 | P67: 57 | Q67: 0 | R67: 57 | S67: 45 | T67: 0 | U67: 45 | V67: =I67*0.1+L67*0.75+O67*0.05+R67*0.05+U67*0.05 -> 78.0955 | W67: 63 | X67: 80 | Y67: 是 | Z67: 122 | AA67: 课程考核不合格
A68: 化学化工学院 | B68: 新能源材料与器件 | C68: 2025 | D68: 新能源254 | E68: 2508110331 | F68: 戴璐阳 | G68: 83.07 | H68: 3 | I68: 86.07 | J68: 78.04 | K68: 1 | L68: 79.04 | M68: 69 | N68: 0 | O68: 69 | P68: 57.2 | Q68: 0 | R68: 57.2 | S68: 60 | T68: 11.5 | U68: 71.5 | V68: =I68*0.1+L68*0.75+O68*0.05+R68*0.05+U68*0.05 -> 77.772 | W68: 64 | X68: 83 | Y68: 是 | Z68: 122 | AA68: 课程考核不合格
A69: 化学化工学院 | B69: 新能源材料与器件 | C69: 2025 | D69: 新能源254 | E69: 2521110190 | F69: 郭章彤 | G69: 83.68 | H69: 2.75 | I69: 86.43 | J69: 80.16 | K69: 1 | L69: 81.16 | M69: 65 | N69: 0 | O69: 65 | P69: 34.2 | Q69: 0 | R69: 34.2 | S69: 60 | T69: 0.5 | U69: 60.5 | V69: =I69*0.1+L69*0.75+O69*0.05+R69*0.05+U69*0.05 -> 77.498 | W69: 65 | X69: 70 | Y69: 是 | Z69: 122 | AA69: 课程考核不合格
...

Sheet 应化25
A1: 附件5：
A2: 化学化工学院应用化学专业2025年级综合测评排名表
A3: 学院: | C3: （盖章） | X3: 学院分管学生工作领导签名：
A4: 学院 | B4: 专业 | C4: 年级 | D4: 班级 | E4: 学号 | F4: 姓名 | G4: 德育 考评分 | H4: 德育 加减分 | I4: 德育 成绩 | J4: 智育 考试分 | K4: 智育 加减分 | L4: 智育 成绩 | M4: 体育 测评分 | N4: 体育 加减分 | O4: 体育 成绩 | P4: 美育 基础分 | Q4: 美育 奖惩分 | R4: 美育 成绩 | S4: 劳育 基础分 | T4: 劳育 奖惩分 | U4: 劳育 成绩 | V4: 综合 测评分 | W4: 综合测评排名 | X4: 学习成绩排名 | Y4: 是否有不及格课程 | Z4: 专业年级 总人数 | AA4: 奖学金 等级 | AB4: 单项 奖学金 | AC4: 荣誉称号 | AD4: 学生签名
A5: 化学化工学院 | B5: 应用化学 | C5: 2025 | D5: 应化252 | E5: 2508110184 | F5: 陈姝彤 | G5: 86.94 | H5: 11.25 | I5: =G5+H5 -> 98.19 | J5: 93.68 | K5: 5.25 | L5: =J5+K5 -> 98.93 | M5: 86.1 | N5: 0 | O5: 86.1 | P5: 60 | Q5: 0.6 | R5: 60.6 | S5: 60 | T5: 11 | U5: 71 | V5: =I5*0.1+L5*0.75+O5*0.05+R5*0.05+U5*0.05 -> 94.9015 | W5: 1 | X5: =RANK(J5,$J$5:$J$69) -> 2 | Y5: 否 | Z5: 72 | AA5: 一等奖学金 | AB5: 社会工作奖 | AC5: 优秀学生干部
A6: 化学化工学院 | B6: 应用化学 | C6: 2025 | D6: 应化251 | E6: 2508110143 | F6: 集湉茹 | G6: 86.5 | H6: 14.25 | I6: 100 | J6: 94.12 | K6: 4.25 | L6: 98.37 | M6: 82.5 | N6: 0 | O6: 82.5 | P6: 60 | Q6: 0 | R6: 60 | S6: 60 | T6: 11 | U6: 71 | V6: =I6*0.1+L6*0.75+O6*0.05+R6*0.05+U6*0.05 -> 94.4525 | W6: 2 | X6: =RANK(J6,$J$5:$J$69) -> 1 | Y6: 否 | Z6: 72 | AA6: 一等奖学金 | AB6: 文体活动奖 | AC6: 三好学生标兵
A7: 化学化工学院 | B7: 应用化学 | C7: 2025 | D7: 应化251 | E7: 2508110147 | F7: 胡斯瑜 | G7: 86.87 | H7: 7.85 | I7: 94.72 | J7: 91.7 | K7: 0.5 | L7: 92.2 | M7: 87.7 | N7: 0 | O7: 87.7 | P7: 58.6 | Q7: 0 | R7: 58.6 | S7: 60 | T7: 11 | U7: 71 | V7: =I7*0.1+L7*0.75+O7*0.05+R7*0.05+U7*0.05 -> 89.487 | W7: 3 | X7: =RANK(J7,$J$5:$J$69) -> 3 | Y7: 否 | Z7: 72 | AA7: 一等奖学金 | AC7: 优秀学生干部
A8: 化学化工学院 | B8: 应用化学 | C8: 2025 | D8: 应化251 | E8: 2508110163 | F8: 孙艺豪 | G8: 85.34 | H8: 11.25 | I8: 96.59 | J8: 89.37 | K8: 0 | L8: 89.37 | M8: 90.75 | N8: 0 | O8: 90.75 | P8: 59.6 | Q8: 0 | R8: 59.6 | S8: 60 | T8: 11 | U8: 71 | V8: =I8*0.1+L8*0.75+O8*0.05+R8*0.05+U8*0.05 -> 87.754 | W8: 4 | X8: =RANK(J8,$J$5:$J$69) -> 4 | Y8: 否 | Z8: 72 | AA8: 二等奖学金 | AC8: 优秀学生干部 | CO8: 一等 | CP8: 三标 | CQ8: 研究与创新奖
A9: 化学化工学院 | B9: 应用化学 | C9: 2025 | D9: 应化251 | E9: 2508110142 | F9: 胡心宇 | G9: 86.58 | H9: 3.75 | I9: 90.33 | J9: 89.24 | K9: 1.5 | L9: 90.74 | M9: 78.25 | N9: 0 | O9: 78.25 | P9: 58.4 | Q9: 0 | R9: 58.4 | S9: 60 | T9: 10 | U9: 70 | V9: =I9*0.1+L9*0.75+O9*0.05+R9*0.05+U9*0.05 -> 87.4205 | W9: 5 | X9: =RANK(J9,$J$5:$J$69) -> 5 | Y9: 否 | Z9: 72 | AA9: 二等奖学金 | AC9: 三好学生
A10: 化学化工学院 | B10: 应用化学 | C10: 2025 | D10: 应化252 | E10: 2508110201 | F10: 苏睿晰 | G10: 85.36 | H10: 5.5 | I10: =G10+H10 -> 90.86 | J10: 87.46 | K10: 3 | L10: 90.46 | M10: 72.15 | N10: 0.25 | O10: 72.4 | P10: 57.4 | Q10: 0 | R10: 57.4 | S10: 60 | T10: 11 | U10: 71 | V10: =I10*0.1+L10*0.75+O10*0.05+R10*0.05+U10*0.05 -> 86.971 | W10: 6 | X10: =RANK(J10,$J$5:$J$69) -> 6 | Y10: 否 | Z10: 72 | AA10: 二等奖学金 | AC10: 三好学生 | CO10: 三等 | CP10: 优干 | CQ10: 文体活动奖
A11: 化学化工学院 | B11: 应用化学 | C11: 2025 | D11: 应化252 | E11: 2508110186 | F11: 田晓晴 | G11: 86.68 | H11: 14.25 | I11: 100 | J11: 87.07 | K11: 1 | L11: 88.07 | M11: 80.65 | N11: 0 | O11: 80.65 | P11: 59.4 | Q11: 0 | R11: 59.4 | S11: 60 | T11: 10 | U11: 70 | V11: =I11*0.1+L11*0.75+O11*0.05+R11*0.05+U11*0.05 -> 86.555 | W11: 7 | X11: =RANK(J11,$J$5:$J$69) -> 8 | Y11: 否 | Z11: 72 | AA11: 二等奖学金 | CO11: 课程考核不合格 | CQ11: 社会工作奖
A12: 化学化工学院 | B12: 应用化学 | C12: 2025 | D12: 应化251 | E12: 2508110145 | F12: 周婷 | G12: 86.55 | H12: 5.45 | I12: 92 | J12: 87.1 | K12: 1 | L12: 88.1 | M12: 82.9 | N12: 0 | O12: 82.9 | P12: 58.6 | Q12: 0 | R12: 58.6 | S12: 60 | T12: 10.5 | U12: 70.5 | V12: =I12*0.1+L12*0.75+O12*0.05+R12*0.05+U12*0.05 -> 85.875 | W12: 8 | X12: =RANK(J12,$J$5:$J$69) -> 7 | Y12: 否 | Z12: 72 | AA12: 二等奖学金 | AC12: 优秀学生干部
A13: 化学化工学院 | B13: 应用化学 | C13: 2025 | D13: 应化251 | E13: 2508110159 | F13: 黄翔 | G13: 87.6 | H13: 12.4 | I13: 100 | J13: 85.9 | K13: 1 | L13: 86.9 | M13: 79.4 | N13: 0 | O13: 79.4 | P13: 58 | Q13: 0 | R13: 58 | S13: 60 | T13: 10 | U13: 70 | V13: =I13*0.1+L13*0.75+O13*0.05+R13*0.05+U13*0.05 -> 85.545 | W13: 9 | X13: =RANK(J13,$J$5:$J$69) -> 10 | Y13: 否 | Z13: 72 | AA13: 二等奖学金
A14: 化学化工学院 | B14: 应用化学 | C14: 2025 | D14: 应化252 | E14: 2508110189 | F14: 薛芳芳 | G14: 86.86 | H14: 11.75 | I14: =G14+H14 -> 98.61 | J14: 85.42 | K14: 0 | L14: 85.42 | M14: 81.95 | N14: 0 | O14: 81.95 | P14: 60 | Q14: 0 | R14: 60 | S14: 60 | T14: 11 | U14: 71 | V14: =I14*0.1+L14*0.75+O14*0.05+R14*0.05+U14*0.05 -> 84.5735 | W14: 10 | X14: =RANK(J14,$J$5:$J$69) -> 13 | Y14: 否 | Z14: 72 | AA14: 二等奖学金
A15: 化学化工学院 | B15: 应用化学 | C15: 2025 | D15: 应化252 | E15: 2508110187 | F15: 黄新航 | G15: 86.91 | H15: 10.25 | I15: =G15+H15 -> 97.16 | J15: 84.41 | K15: 1 | L15: 85.41 | M15: 84.6 | N15: 0 | O15: 84.6 | P15: 59.4 | Q15: 0 | R15: 59.4 | S15: 60 | T15: 11 | U15: 71 | V15: =I15*0.1+L15*0.75+O15*0.05+R15*0.05+U15*0.05 -> 84.5235 | W15: 11 | X15: =RANK(J15,$J$5:$J$69) -> 19 | Y15: 否 | Z15: 72 | AA15: 三等奖学金
A16: 化学化工学院 | B16: 应用化学 | C16: 2025 | D16: 应化251 | E16: 2508110156 | F16: 时训涛 | G16: 84.66 | H16: 3 | I16: 87.66 | J16: 85.84 | K16: 1 | L16: 86.84 | M16: 84 | N16: 0 | O16: 84 | P16: 58.8 | Q16: 0 | R16: 58.8 | S16: 60 | T16: 5.41 | U16: 65.41 | V16: =I16*0.1+L16*0.75+O16*0.05+R16*0.05+U16*0.05 -> 84.3065 | W16: 12 | X16: =RANK(J16,$J$5:$J$69) -> 11 | Y16: 否 | Z16: 72 | AA16: 三等奖学金 | CO16: 一等 | CP16: 三标 | CQ16: 研究与创新奖
A17: 化学化工学院 | B17: 应用化学 | C17: 2025 | D17: 应化252 | E17: 2508110185 | F17: 黄晓耘 | G17: 86.47 | H17: 13.45 | I17: =G17+H17 -> 99.92 | J17: 84.87 | K17: 0 | L17: 84.87 | M17: 80.2 | N17: 0 | O17: 80.2 | P17: 60 | Q17: 0.1 | R17: 60.1 | S17: 60 | T17: 10 | U17: 70 | V17: =I17*0.1+L17*0.75+O17*0.05+R17*0.05+U17*0.05 -> 84.1595 | W17: 13 | X17: =RANK(J17,$J$5:$J$69) -> 17 | Y17: 否 | Z17: 72 | AA17: 三等奖学金
A18: 化学化工学院 | B18: 应用化学 | C18: 2025 | D18: 应化252 | E18: 2523110179 | F18: 步吟风 | G18: 86.05 | H18: 4.25 | I18: =G18+H18 -> 90.3 | J18: 84.89 | K18: 1 | L18: 85.89 | M18: 83.65 | N18: 0 | O18: 83.65 | P18: 57 | Q18: 0.01 | R18: 57.01 | S18: 60 | T18: 10 | U18: 70 | V18: =I18*0.1+L18*0.75+O18*0.05+R18*0.05+U18*0.05 -> 83.9805 | W18: 14 | X18: =RANK(J18,$J$5:$J$69) -> 16 | Y18: 否 | Z18: 72 | AA18: 三等奖学金
A19: 化学化工学院 | B19: 应用化学 | C19: 2025 | D19: 应化251 | E19: 2508110168 | F19: 吴旭照 | G19: 85.28 | H19: 4.75 | I19: 90.03 | J19: 85.29 | K19: 1 | L19: 86.29 | M19: 71.65 | N19: 0 | O19: 71.65 | P19: 58.4 | Q19: 0 | R19: 58.4 | S19: 60 | T19: 10 | U19: 70 | V19: =I19*0.1+L19*0.75+O19*0.05+R19*0.05+U19*0.05 -> 83.723 | W19: 15 | X19: =RANK(J19,$J$5:$J$69) -> 14 | Y19: 否 | Z19: 72 | AA19: 三等奖学金
A20: 化学化工学院 | B20: 应用化学 | C20: 2025 | D20: 应化251 | E20: 2508110149 | F20: 陈鑫鑫 | G20: 86.69 | H20: 8.75 | I20: 95.44 | J20: 84.91 | K20: 0 | L20: 84.91 | M20: 77.9 | N20: 0 | O20: 77.9 | P20: 58.6 | Q20: 0 | R20: 58.6 | S20: 60 | T20: 11 | U20: 71 | V20: =I20*0.1+L20*0.75+O20*0.05+R20*0.05+U20*0.05 -> 83.6015 | W20: 16 | X20: =RANK(J20,$J$5:$J$69) -> 15 | Y20: 否 | Z20: 72 | AA20: 三等奖学金
A21: 化学化工学院 | B21: 应用化学 | C21: 2025 | D21: 应化251 | E21: 2508110164 | F21: 刘子博 | G21: 85.04 | H21: 5.75 | I21: 90.79 | J21: 85.46 | K21: 0 | L21: 85.46 | M21: 74.15 | N21: 0 | O21: 74.15 | P21: 57.6 | Q21: 0 | R21: 57.6 | S21: 60 | T21: 10 | U21: 70 | V21: =I21*0.1+L21*0.75+O21*0.05+R21*0.05+U21*0.05 -> 83.2615 | W21: 17 | X21: =RANK(J21,$J$5:$J$69) -> 12 | Y21: 是 | Z21: 72 | AA21: 课程考核不合格
A22: 化学化工学院 | B22: 应用化学 | C22: 2025 | D22: 应化251 | E22: 2508110171 | F22: 任展宏 | G22: 85.29 | H22: 3.5 | I22: 88.79 | J22: 86.58 | K22: 1 | L22: 87.58 | M22: 73.6 | N22: 0 | O22: 73.6 | P22: 34.2 | Q22: 0 | R22: 34.2 | S22: 61 | T22: 0 | U22: 61 | V22: =I22*0.1+L22*0.75+O22*0.05+R22*0.05+U22*0.05 -> 83.004 | W22: 18 | X22: =RANK(J22,$J$5:$J$69) -> 9 | Y22: 否 | Z22: 72 | AA22: 三等奖学金
A23: 化学化工学院 | B23: 应用化学 | C23: 2025 | D23: 应化251 | E23: 2508110148 | F23: 刘芮君 | G23: 86.54 | H23: 6.75 | I23: 93.29 | J23: 83.62 | K23: 0 | L23: 83.62 | M23: 78.8 | N23: 0 | O23: 78.8 | P23: 58.8 | Q23: 0 | R23: 58.8 | S23: 60 | T23: 11 | U23: 71 | V23: =I23*0.1+L23*0.75+O23*0.05+R23*0.05+U23*0.05 -> 82.474 | W23: 19 | X23: =RANK(J23,$J$5:$J$69) -> 22 | Y23: 否 | Z23: 72 | AA23: 三等奖学金
A24: 化学化工学院 | B24: 应用化学 | C24: 2025 | D24: 应化252 | E24: 2508110193 | F24: 丁达文 | G24: 84.66 | H24: 4.45 | I24: =G24+H24 -> 89.11 | J24: 84.71 | K24: 0 | L24: 84.71 | M24: 71.05 | N24: 0 | O24: 71.05 | P24: 57.6 | Q24: 0 | R24: 57.6 | S24: 60 | T24: 5.1 | U24: 65.1 | V24: =I24*0.1+L24*0.75+O24*0.05+R24*0.05+U24*0.05 -> 82.131 | W24: 20 | X24: =RANK(J24,$J$5:$J$69) -> 18 | Y24: 否 | Z24: 72 | AA24: 三等奖学金
A25: 化学化工学院 | B25: 应用化学 | C25: 2025 | D25: 应化252 | E25: 2508110217 | F25: 陈粤豪 | G25: 85.98 | H25: 3.5 | I25: 89.48 | J25: 84.32 | K25: 0 | L25: 84.32 | M25: 72.4 | N25: 0 | O25: 72.4 | P25: 58 | Q25: 0 | R25: 58 | S25: 60 | T25: 5.35 | U25: 65.35 | V25: =I25*0.1+L25*0.75+O25*0.05+R25*0.05+U25*0.05 -> 81.9755 | W25: 21 | X25: =RANK(J25,$J$5:$J$69) -> 20 | Y25: 否 | Z25: 72 | AA25: 三等奖学金
A26: 化学化工学院 | B26: 应用化学 | C26: 2025 | D26: 应化251 | E26: 2508110153 | F26: 戴震鑫 | G26: 85.31 | H26: 9 | I26: 94.31 | J26: 81.48 | K26: 0 | L26: 81.48 | M26: 84.6 | N26: 0 | O26: 84.6 | P26: 59.4 | Q26: 0 | R26: 59.4 | S26: 60 | T26: 10 | U26: 70 | V26: =I26*0.1+L26*0.75+O26*0.05+R26*0.05+U26*0.05 -> 81.241 | W26: 22 | X26: =RANK(J26,$J$5:$J$69) -> 27 | Y26: 否 | Z26: 72 | AA26: 三等奖学金
A27: 化学化工学院 | B27: 应用化学 | C27: 2025 | D27: 应化252 | E27: 2508110206 | F27: 宋金泽 | G27: 85.53 | H27: 4 | I27: 89.53 | J27: 81.86 | K27: 1 | L27: 82.86 | M27: 81.5 | N27: 0 | O27: 81.5 | P27: 58.4 | Q27: 0 | R27: 58.4 | S27: 60 | T27: 1 | U27: 61 | V27: =I27*0.1+L27*0.75+O27*0.05+R27*0.05+U27*0.05 -> 81.143 | W27: 23 | X27: =RANK(J27,$J$5:$J$69) -> 25 | Y27: 否 | Z27: 72 | AA27: 三等奖学金
A28: 化学化工学院 | B28: 应用化学 | C28: 2025 | D28: 应化251 | E28: 2508110178 | F28: 姜俊达 | G28: 84.7 | H28: 6.1 | I28: 90.8 | J28: 82.47 | K28: 0 | L28: 82.47 | M28: 73.75 | N28: 0 | O28: 73.75 | P28: 59 | Q28: 0 | R28: 59 | S28: 60 | T28: 11 | U28: 71 | V28: =I28*0.1+L28*0.75+O28*0.05+R28*0.05+U28*0.05 -> 81.12 | W28: 24 | X28: =RANK(J28,$J$5:$J$69) -> 24 | Y28: 否 | Z28: 72 | AA28: 三等奖学金 | CO28: 一等 | CP28: 三标 | CQ28: 研究与创新奖
A29: 化学化工学院 | B29: 应用化学 | C29: 2025 | D29: 应化252 | E29: 2508110209 | F29: 司嘉文 | G29: 84.06 | H29: 2.5 | I29: 86.56 | J29: 83.66 | K29: 1 | L29: 84.66 | M29: 76.9 | N29: 0 | O29: 76.9 | P29: 57 | Q29: 0 | R29: 57 | S29: 45 | T29: 0 | U29: 45 | V29: =I29*0.1+L29*0.75+O29*0.05+R29*0.05+U29*0.05 -> 81.096 | W29: 25 | X29: =RANK(J29,$J$5:$J$69) -> 21 | Y29: 否 | Z29: 72 | AA29: 三等奖学金
A30: 化学化工学院 | B30: 应用化学 | C30: 2025 | D30: 应化252 | E30: 2508110182 | F30: 张思语 | G30: 86.44 | H30: 4 | I30: 90.44 | J30: 81.66 | K30: 1 | L30: 82.66 | M30: 80.45 | N30: 0 | O30: 80.45 | P30: 57.4 | Q30: 0 | R30: 57.4 | S30: 60 | T30: 2.99 | U30: 62.99 | V30: =I30*0.1+L30*0.75+O30*0.05+R30*0.05+U30*0.05 -> 81.081 | W30: 26 | X30: =RANK(J30,$J$5:$J$69) -> 26 | Y30: 否 | Z30: 72 | AA30: 三等奖学金
A31: 化学化工学院 | B31: 应用化学 | C31: 2025 | D31: 应化251 | E31: 2508110167 | F31: 郭振华 | G31: 84.64 | H31: 4.2 | I31: 88.84 | J31: 80.4 | K31: 1 | L31: 81.4 | M31: 85.45 | N31: 0 | O31: 85.45 | P31: 57.8 | Q31: 0 | R31: 57.8 | S31: 60 | T31: 7.15 | U31: 67.15 | V31: =I31*0.1+L31*0.75+O31*0.05+R31*0.05+U31*0.05 -> 80.454 | W31: 27 | X31: =RANK(J31,$J$5:$J$69) -> 32 | Y31: 否 | Z31: 72 | AA31: 三等奖学金
A32: 化学化工学院 | B32: 应用化学 | C32: 2025 | D32: 应化251 | E32: 2508110144 | F32: 施欣怡 | G32: 86.27 | H32: 3.25 | I32: 89.52 | J32: 80.3 | K32: 1 | L32: 81.3 | M32: 76.85 | N32: 0 | O32: 76.85 | P32: 58 | Q32: 0 | R32: 58 | S32: 60 | T32: 9.25 | U32: 69.25 | V32: =I32*0.1+L32*0.75+O32*0.05+R32*0.05+U32*0.05 -> 80.132 | W32: 28 | X32: =RANK(J32,$J$5:$J$69) -> 33 | Y32: 是 | Z32: 72 | AA32: 课程考核不合格 | CO32: 一等 | CP32: 三标 | CQ32: 研究与创新奖
A33: 化学化工学院 | B33: 应用化学 | C33: 2025 | D33: 应化252 | E33: 2508110198 | F33: 谢付骏 | G33: 84.61 | H33: 4.65 | I33: =G33+H33 -> 89.26 | J33: 79.73 | K33: 1 | L33: 80.73 | M33: 81.4 | N33: 0 | O33: 81.4 | P33: 58.4 | Q33: 0 | R33: 58.4 | S33: 60 | T33: 11 | U33: 71 | V33: =I33*0.1+L33*0.75+O33*0.05+R33*0.05+U33*0.05 -> 80.0135 | W33: 29 | X33: =RANK(J33,$J$5:$J$69) -> 35 | Y33: 否 | Z33: 72 | AA33: 三等奖学金
A34: 化学化工学院 | B34: 应用化学 | C34: 2025 | D34: 应化252 | E34: 2508110195 | F34: 王豫 | G34: 85.63 | H34: 4.25 | I34: =G34+H34 -> 89.88 | J34: 80.98 | K34: 1 | L34: 81.98 | M34: 75.5 | N34: 0 | O34: 75.5 | P34: 57 | Q34: 0 | R34: 57 | S34: 45 | T34: 1.5 | U34: 46.5 | V34: =I34*0.1+L34*0.75+O34*0.05+R34*0.05+U34*0.05 -> 79.423 | W34: 30 | X34: =RANK(J34,$J$5:$J$69) -> 31 | Y34: 否 | Z34: 72 | AA34: 三等奖学金
A35: 化学化工学院 | B35: 应用化学 | C35: 2025 | D35: 应化251 | E35: 2508110170 | F35: 陈叙睿 | G35: 85.25 | H35: 3.75 | I35: 89 | J35: 79.04 | K35: 1 | L35: 80.04 | M35: 76.6 | N35: 0 | O35: 76.6 | P35: 57 | Q35: 0 | R35: 57 | S35: 60 | T35: 5.55 | U35: 65.55 | V35: =I35*0.1+L35*0.75+O35*0.05+R35*0.05+U35*0.05 -> 78.8875 | W35: 31 | X35: =RANK(J35,$J$5:$J$69) -> 37 | Y35: 否 | Z35: 72 | CO35: 一等 | CP35: 三标 | CQ35: 研究与创新奖
A36: 化学化工学院 | B36: 应用化学 | C36: 2025 | D36: 应化251 | E36: 2508110175 | F36: 嵇华军 | G36: 85.31 | H36: 4.5 | I36: 89.81 | J36: 80.16 | K36: 0 | L36: 80.16 | M36: 73.45 | N36: 0 | O36: 73.45 | P36: 57.4 | Q36: 0 | R36: 57.4 | S36: 60 | T36: 3.28 | U36: 63.28 | V36: =I36*0.1+L36*0.75+O36*0.05+R36*0.05+U36*0.05 -> 78.8075 | W36: 32 | X36: =RANK(J36,$J$5:$J$69) -> 34 | Y36: 否 | Z36: 72
A37: 化学化工学院 | B37: 应用化学 | C37: 2025 | D37: 应化252 | E37: 2508110181 | F37: 朱冰 | G37: 86.51 | H37: 4 | I37: 90.51 | J37: 78.74 | K37: 1 | L37: 79.74 | M37: 76.15 | N37: 0 | O37: 76.15 | P37: 57 | Q37: 0 | R37: 57 | S37: 60 | T37: 0.99 | U37: 60.99 | V37: =I37*0.1+L37*0.75+O37*0.05+R37*0.05+U37*0.05 -> 78.563 | W37: 33 | X37: =RANK(J37,$J$5:$J$69) -> 40 | Y37: 否 | Z37: 72
A38: 化学化工学院 | B38: 应用化学 | C38: 2025 | D38: 应化251 | E38: 2508110146 | F38: 王子恩 | G38: 85.75 | H38: 2.75 | I38: 88.5 | J38: 77.9 | K38: 1 | L38: 78.9 | M38: 82.3 | N38: 0 | O38: 82.3 | P38: 57 | Q38: 0 | R38: 57 | S38: 60 | T38: 8.25 | U38: 68.25 | V38: =I38*0.1+L38*0.75+O38*0.05+R38*0.05+U38*0.05 -> 78.4025 | W38: 34 | X38: =RANK(J38,$J$5:$J$69) -> 45 | Y38: 是 | Z38: 72 | AA38: 课程考核不合格
A39: 化学化工学院 | B39: 应用化学 | C39: 2025 | D39: 应化252 | E39: 2508110214 | F39: 李长峻 | G39: 85.21 | H39: 2 | I39: 87.21 | J39: 83.15 | K39: 1 | L39: 84.15 | M39: 70.25 | N39: 0 | O39: 70.25 | P39: 11.4 | Q39: 0 | R39: 11.4 | S39: 45 | T39: 0 | U39: 45 | V39: =I39*0.1+L39*0.75+O39*0.05+R39*0.05+U39*0.05 -> 78.166 | W39: 35 | X39: =RANK(J39,$J$5:$J$69) -> 23 | Y39: 否 | Z39: 72
A40: 化学化工学院 | B40: 应用化学 | C40: 2025 | D40: 应化252 | E40: 2508110210 | F40: 丁浩楠 | G40: 84.77 | H40: 2 | I40: 86.77 | J40: 81.18 | K40: 1 | L40: 82.18 | M40: 80.75 | N40: 0 | O40: 80.75 | P40: 11.4 | Q40: 0 | R40: 11.4 | S40: 60 | T40: 0 | U40: 60 | V40: =I40*0.1+L40*0.75+O40*0.05+R40*0.05+U40*0.05 -> 77.9195 | W40: 36 | X40: =RANK(J40,$J$5:$J$69) -> 29 | Y40: 否 | Z40: 72
...
